BEGIN:VCALENDAR
VERSION:2.0
PRODID:-//Ose le Pays des Bleuets - ECPv6.15.20//NONSGML v1.0//EN
CALSCALE:GREGORIAN
METHOD:PUBLISH
X-WR-CALNAME:Ose le Pays des Bleuets
X-ORIGINAL-URL:https://oselepaysdesbleuets.com
X-WR-CALDESC:Évènements pour Ose le Pays des Bleuets
REFRESH-INTERVAL;VALUE=DURATION:PT1H
X-Robots-Tag:noindex
X-PUBLISHED-TTL:PT1H
BEGIN:VTIMEZONE
TZID:America/Toronto
BEGIN:DAYLIGHT
TZOFFSETFROM:-0500
TZOFFSETTO:-0400
TZNAME:EDT
DTSTART:20250309T070000
END:DAYLIGHT
BEGIN:STANDARD
TZOFFSETFROM:-0400
TZOFFSETTO:-0500
TZNAME:EST
DTSTART:20251102T060000
END:STANDARD
BEGIN:DAYLIGHT
TZOFFSETFROM:-0500
TZOFFSETTO:-0400
TZNAME:EDT
DTSTART:20260308T070000
END:DAYLIGHT
BEGIN:STANDARD
TZOFFSETFROM:-0400
TZOFFSETTO:-0500
TZNAME:EST
DTSTART:20261101T060000
END:STANDARD
BEGIN:DAYLIGHT
TZOFFSETFROM:-0500
TZOFFSETTO:-0400
TZNAME:EDT
DTSTART:20270314T070000
END:DAYLIGHT
BEGIN:STANDARD
TZOFFSETFROM:-0400
TZOFFSETTO:-0500
TZNAME:EST
DTSTART:20271107T060000
END:STANDARD
END:VTIMEZONE
BEGIN:VEVENT
DTSTART;TZID=America/Toronto:20260213T090000
DTEND;TZID=America/Toronto:20260213T100000
DTSTAMP:20260421T073336
CREATED:20251009T155004Z
LAST-MODIFIED:20260312T200034Z
UID:10021266-1770973200-1770976800@oselepaysdesbleuets.com
SUMMARY:Patinage libre - Dolbeau
DESCRIPTION:Au complexe sportif Desjardins\, il est possible de se procurer des billets journaliers grâce à la caisse libre-service. Il est également possible de se procurer un ou plusieurs billets auprès de la réceptionniste. \n\n17 ans et moins : 2\,25 $ | 18 ans et plus : 3\,25 $\nSérie de 15 billets (adulte) : 40 $ | Série de 15 billets (17 ans et moins) : 28 $\nCarte de saison (Valide pour les lundis\, mercredis et jeudis avant-midi seulement) : 87 $\nCarte de demi-saison (Valide pour les lundis\, mercredis et jeudis avant-midi seulement) : 50 $
URL:https://oselepaysdesbleuets.com/evenement/patinage-libre-dolbeau-4/2026-02-13/
LOCATION:Complexe sportif Desjardins de Dolbeau-Mistassini\, 1032 Rue des Érables\, Dolbeau-Mistassini\, Québec\, G8L 1C1\, Canada
CATEGORIES:Activités familiales,Sports et plein air
ATTACH;FMTTYPE=image/png:https://oselepaysdesbleuets.com/wp-content/uploads/2024/12/Patinage-libre.png
END:VEVENT
BEGIN:VEVENT
DTSTART;TZID=America/Toronto:20260213T190000
DTEND;TZID=America/Toronto:20260213T220000
DTSTAMP:20260421T073336
CREATED:20260203T191743Z
LAST-MODIFIED:20260203T191743Z
UID:10030110-1771009200-1771020000@oselepaysdesbleuets.com
SUMMARY:Fêtes d'hiver de Sainte-Jeanne-d'Arc
DESCRIPTION:Les FÊTES D’HIVER du Comité des Loisirs sont de retour pour une 2e édition.\n\nGrand rassemblement intergénérationnel autour d’activités hivernales intérieures et extérieures sous le thème de l’amour\, l’amitié et la famille.\nVendredi 13 et samedi 14 février\, retrouvez-nous au Centre municipal\, 378 rue François-Bilodeau.\nLe dimanche 15 février\, nous déménageons au Centre sportif Gaston-Morin\, 445 rue de l’Église.\n\nAU MENU :– glissade\, fat bike\, feux\, ambiance– randonnées de ski de fond– danse en ligne en plein air avec Nathalie Paquet– bingo– Ô p’tit café– parc des bambins– flash tatouage avec Color J & Die Ink Tattoo– concours « Coups d’amour »– karaoké « Coeur givré » avec Véronique Boivin– rallye de motoneiges– souper « Coeur fondus »– diners food truck– soirée « Danse Cupidon » avec Cédric et Karina– tournoi « Classique hivernale 3 contre 3 »– tire sur neige– plein de prix de participation et du plaisir\nProgrammation complète en visuel.\nPour plus d’informations\, pour réservations et/ou inscriptions\, contactez-nous à : loisirs.sjd@outlook.com.
URL:https://oselepaysdesbleuets.com/evenement/fetes-dhiver-de-sainte-jeanne-darc/2026-02-13/
LOCATION:Salle communautaire de Sainte-Jeanne-d’Arc\, 385 rue François-Bilodeau\, Sainte-Jeanne-d'Arc\, Québec\, CA G0W 1E0\, Canada
CATEGORIES:Activités familiales,Loisirs et culture
ATTACH;FMTTYPE=image/jpeg:https://oselepaysdesbleuets.com/wp-content/uploads/2026/02/Fete-dhiver.jpg
END:VEVENT
END:VCALENDAR