BEGIN:VCALENDAR
VERSION:2.0
PRODID:-//Ose le Pays des Bleuets - ECPv6.15.20//NONSGML v1.0//EN
CALSCALE:GREGORIAN
METHOD:PUBLISH
X-WR-CALNAME:Ose le Pays des Bleuets
X-ORIGINAL-URL:https://oselepaysdesbleuets.com
X-WR-CALDESC:Évènements pour Ose le Pays des Bleuets
REFRESH-INTERVAL;VALUE=DURATION:PT1H
X-Robots-Tag:noindex
X-PUBLISHED-TTL:PT1H
BEGIN:VTIMEZONE
TZID:America/Toronto
BEGIN:DAYLIGHT
TZOFFSETFROM:-0500
TZOFFSETTO:-0400
TZNAME:EDT
DTSTART:20250309T070000
END:DAYLIGHT
BEGIN:STANDARD
TZOFFSETFROM:-0400
TZOFFSETTO:-0500
TZNAME:EST
DTSTART:20251102T060000
END:STANDARD
BEGIN:DAYLIGHT
TZOFFSETFROM:-0500
TZOFFSETTO:-0400
TZNAME:EDT
DTSTART:20260308T070000
END:DAYLIGHT
BEGIN:STANDARD
TZOFFSETFROM:-0400
TZOFFSETTO:-0500
TZNAME:EST
DTSTART:20261101T060000
END:STANDARD
BEGIN:DAYLIGHT
TZOFFSETFROM:-0500
TZOFFSETTO:-0400
TZNAME:EDT
DTSTART:20270314T070000
END:DAYLIGHT
BEGIN:STANDARD
TZOFFSETFROM:-0400
TZOFFSETTO:-0500
TZNAME:EST
DTSTART:20271107T060000
END:STANDARD
END:VTIMEZONE
BEGIN:VEVENT
DTSTART;TZID=America/Toronto:20260214T070000
DTEND;TZID=America/Toronto:20260214T080000
DTSTAMP:20260421T073211
CREATED:20251009T175033Z
LAST-MODIFIED:20251009T175033Z
UID:10026516-1771052400-1771056000@oselepaysdesbleuets.com
SUMMARY:Bain libre - Dolbeau
DESCRIPTION:Principal seulement  : Nage en corridor: réservé aux nageurs capables de nager 25 mètres sans arrêt. Tous les corridors sont utilisés pour la nage seulement. Pas de jeux ou de baignade libre. 14 ans et plus. \nTarif des bains libres | Piscine Rémabec \n\n0 à 2 ans : gratuit\n3 à 17 ans : 3 $ par billet ou 15 billets pour 38 $\n18 ans et plus : 5 $ par billet ou 15 billets pour 64 $\n\nIl est aussi possible de se procurer des séries de 15 billets de bain libre au coût de 64 $ (18 ans et plus) ou 38 $ (3 à 17 ans).
URL:https://oselepaysdesbleuets.com/evenement/bain-libre-dolbeau-7/2026-02-14/
LOCATION:Complexe sportif Desjardins de Dolbeau-Mistassini\, 1032 Rue des Érables\, Dolbeau-Mistassini\, Québec\, G8L 1C1\, Canada
CATEGORIES:Activités familiales,Sports et plein air
ATTACH;FMTTYPE=image/png:https://oselepaysdesbleuets.com/wp-content/uploads/2024/11/bain-libre.png
END:VEVENT
BEGIN:VEVENT
DTSTART;TZID=America/Toronto:20260214T083000
DTEND;TZID=America/Toronto:20260214T220000
DTSTAMP:20260421T073211
CREATED:20260203T191743Z
LAST-MODIFIED:20260203T191743Z
UID:10030111-1771057800-1771106400@oselepaysdesbleuets.com
SUMMARY:Fêtes d'hiver de Sainte-Jeanne-d'Arc
DESCRIPTION:Les FÊTES D’HIVER du Comité des Loisirs sont de retour pour une 2e édition.\n\nGrand rassemblement intergénérationnel autour d’activités hivernales intérieures et extérieures sous le thème de l’amour\, l’amitié et la famille.\nVendredi 13 et samedi 14 février\, retrouvez-nous au Centre municipal\, 378 rue François-Bilodeau.\nLe dimanche 15 février\, nous déménageons au Centre sportif Gaston-Morin\, 445 rue de l’Église.\n\nAU MENU :– glissade\, fat bike\, feux\, ambiance– randonnées de ski de fond– danse en ligne en plein air avec Nathalie Paquet– bingo– Ô p’tit café– parc des bambins– flash tatouage avec Color J & Die Ink Tattoo– concours « Coups d’amour »– karaoké « Coeur givré » avec Véronique Boivin– rallye de motoneiges– souper « Coeur fondus »– diners food truck– soirée « Danse Cupidon » avec Cédric et Karina– tournoi « Classique hivernale 3 contre 3 »– tire sur neige– plein de prix de participation et du plaisir\nProgrammation complète en visuel.\nPour plus d’informations\, pour réservations et/ou inscriptions\, contactez-nous à : loisirs.sjd@outlook.com.
URL:https://oselepaysdesbleuets.com/evenement/fetes-dhiver-de-sainte-jeanne-darc/2026-02-14/
LOCATION:Salle communautaire de Sainte-Jeanne-d’Arc\, 385 rue François-Bilodeau\, Sainte-Jeanne-d'Arc\, Québec\, CA G0W 1E0\, Canada
CATEGORIES:Activités familiales,Loisirs et culture
ATTACH;FMTTYPE=image/jpeg:https://oselepaysdesbleuets.com/wp-content/uploads/2026/02/Fete-dhiver.jpg
END:VEVENT
BEGIN:VEVENT
DTSTART;TZID=America/Toronto:20260214T130000
DTEND;TZID=America/Toronto:20260214T160000
DTSTAMP:20260421T073211
CREATED:20260209T131244Z
LAST-MODIFIED:20260209T131244Z
UID:10030155-1771074000-1771084800@oselepaysdesbleuets.com
SUMMARY:Bingo - Festival du Faisan
DESCRIPTION:🎱 BINGO DU RALLYE – Festival du Faisan 🎱 \n📅 14 février 2026\n🕐 Début : 13 h\n📍 Dans la grange du Festival du Faisan \nPendant le rallye de motoneige\, joignez-vous à nous pour un bingo festif et convivial ouvert à tous! 🎉 \n💵 Coût des cartes\n• 10 $ pour 1 carte\n• 25 $ pour 3 cartes \n🏆 À gagner\n• 3 bourses en argent \n🍹Service de bar sur place pour profiter pleinement de l’ambiance pendant les parties! \nIl n’est pas nécessaire que vous participiez au rallye pour jouer au bingo. Vous pouvez simplement venir pour profiter de l’ambiance et jouer avec nous! Le bingo est une activité parfaite pour ajouter du plaisir à votre journée d’hiver au Festival du Faisan! ❄️
URL:https://oselepaysdesbleuets.com/evenement/bingo-festival-du-faisan/
LOCATION:Festival du Faisan\, 1031 rue principale\, St-Stanislas\, Québec\, G8L 7B9\, Canada
CATEGORIES:Activité permanente,Activités familiales
ATTACH;FMTTYPE=image/png:https://oselepaysdesbleuets.com/wp-content/uploads/2026/02/14-fevrier.png
END:VEVENT
BEGIN:VEVENT
DTSTART;TZID=America/Toronto:20260214T133000
DTEND;TZID=America/Toronto:20260214T143000
DTSTAMP:20260421T073211
CREATED:20251009T175309Z
LAST-MODIFIED:20251009T175309Z
UID:10027038-1771075800-1771079400@oselepaysdesbleuets.com
SUMMARY:Bain libre - Dolbeau
DESCRIPTION:Deux bassins  : Bain libre : ouvert à tous. La piscine est divisée en zones : au moins un corridor pour la nage et des sections pour le jeu ou la détente. \nTarif des bains libres | Piscine Rémabec \n\n0 à 2 ans : gratuit\n3 à 17 ans : 3 $ par billet ou 15 billets pour 38 $\n18 ans et plus : 5 $ par billet ou 15 billets pour 64 $\n\nIl est aussi possible de se procurer des séries de 15 billets de bain libre au coût de 64 $ (18 ans et plus) ou 38 $ (3 à 17 ans).
URL:https://oselepaysdesbleuets.com/evenement/bain-libre-dolbeau-8/2026-02-14/
LOCATION:Complexe sportif Desjardins de Dolbeau-Mistassini\, 1032 Rue des Érables\, Dolbeau-Mistassini\, Québec\, G8L 1C1\, Canada
CATEGORIES:Activités familiales,Sports et plein air
ATTACH;FMTTYPE=image/png:https://oselepaysdesbleuets.com/wp-content/uploads/2024/11/bain-libre.png
END:VEVENT
END:VCALENDAR