BEGIN:VCALENDAR
VERSION:2.0
PRODID:-//Ose le Pays des Bleuets - ECPv6.15.20//NONSGML v1.0//EN
CALSCALE:GREGORIAN
METHOD:PUBLISH
X-ORIGINAL-URL:https://oselepaysdesbleuets.com
X-WR-CALDESC:Évènements pour Ose le Pays des Bleuets
REFRESH-INTERVAL;VALUE=DURATION:PT1H
X-Robots-Tag:noindex
X-PUBLISHED-TTL:PT1H
BEGIN:VTIMEZONE
TZID:America/Toronto
BEGIN:DAYLIGHT
TZOFFSETFROM:-0500
TZOFFSETTO:-0400
TZNAME:EDT
DTSTART:20250309T070000
END:DAYLIGHT
BEGIN:STANDARD
TZOFFSETFROM:-0400
TZOFFSETTO:-0500
TZNAME:EST
DTSTART:20251102T060000
END:STANDARD
BEGIN:DAYLIGHT
TZOFFSETFROM:-0500
TZOFFSETTO:-0400
TZNAME:EDT
DTSTART:20260308T070000
END:DAYLIGHT
BEGIN:STANDARD
TZOFFSETFROM:-0400
TZOFFSETTO:-0500
TZNAME:EST
DTSTART:20261101T060000
END:STANDARD
BEGIN:DAYLIGHT
TZOFFSETFROM:-0500
TZOFFSETTO:-0400
TZNAME:EDT
DTSTART:20270314T070000
END:DAYLIGHT
BEGIN:STANDARD
TZOFFSETFROM:-0400
TZOFFSETTO:-0500
TZNAME:EST
DTSTART:20271107T060000
END:STANDARD
END:VTIMEZONE
BEGIN:VEVENT
DTSTART;TZID=America/Toronto:20260221T070000
DTEND;TZID=America/Toronto:20260221T080000
DTSTAMP:20260421T073517
CREATED:20251009T175033Z
LAST-MODIFIED:20251009T175033Z
UID:10026517-1771657200-1771660800@oselepaysdesbleuets.com
SUMMARY:Bain libre - Dolbeau
DESCRIPTION:Principal seulement  : Nage en corridor: réservé aux nageurs capables de nager 25 mètres sans arrêt. Tous les corridors sont utilisés pour la nage seulement. Pas de jeux ou de baignade libre. 14 ans et plus. \nTarif des bains libres | Piscine Rémabec \n\n0 à 2 ans : gratuit\n3 à 17 ans : 3 $ par billet ou 15 billets pour 38 $\n18 ans et plus : 5 $ par billet ou 15 billets pour 64 $\n\nIl est aussi possible de se procurer des séries de 15 billets de bain libre au coût de 64 $ (18 ans et plus) ou 38 $ (3 à 17 ans).
URL:https://oselepaysdesbleuets.com/evenement/bain-libre-dolbeau-7/2026-02-21/
LOCATION:Complexe sportif Desjardins de Dolbeau-Mistassini\, 1032 Rue des Érables\, Dolbeau-Mistassini\, Québec\, G8L 1C1\, Canada
CATEGORIES:Activités familiales,Sports et plein air
ATTACH;FMTTYPE=image/png:https://oselepaysdesbleuets.com/wp-content/uploads/2024/11/bain-libre.png
END:VEVENT
BEGIN:VEVENT
DTSTART;TZID=America/Toronto:20260221T100000
DTEND;TZID=America/Toronto:20260221T100000
DTSTAMP:20260421T073517
CREATED:20260218T155653Z
LAST-MODIFIED:20260218T155653Z
UID:10031418-1771668000-1771668000@oselepaysdesbleuets.com
SUMMARY:Activité formule N - LEGO
DESCRIPTION:Formule N : Une activité dynamique !\nUne activité qui s’adresse aux jeunes de 6 à 12 ans (les parents sont les bienvenues!)
URL:https://oselepaysdesbleuets.com/evenement/activite-formule-n-lego/
LOCATION:Bibliothèque Denis-Lebrun\, 153 A\, rue Principale\, Albanel\, Québec\, G8M 3J3\, Canada
CATEGORIES:Activités familiales,Loisirs et culture
ATTACH;FMTTYPE=image/jpeg:https://oselepaysdesbleuets.com/wp-content/uploads/2026/02/Formule-N.jpg
END:VEVENT
BEGIN:VEVENT
DTSTART;TZID=America/Toronto:20260221T100000
DTEND;TZID=America/Toronto:20260221T170000
DTSTAMP:20260421T073517
CREATED:20260203T192028Z
LAST-MODIFIED:20260203T192028Z
UID:10030113-1771668000-1771693200@oselepaysdesbleuets.com
SUMMARY:Festineige - Édition 2026
DESCRIPTION:Journée d’activités gratuites au centre plein air. Animations\, dîner hot-dog\, sculpture sur neige en libre service. De quoi prendre une bonne bouffée d’air en famille!
URL:https://oselepaysdesbleuets.com/evenement/festineige-edition-2026/
LOCATION:Centre plein air Do-Mi-Ski\, 180\, Rang Saint-Luc\, Dolbeau-Mistassini\, QC\, G8L3H6\, Canada
CATEGORIES:Activités familiales,Activités gratuites,Loisirs et culture,Sports et plein air
ATTACH;FMTTYPE=image/jpeg:https://oselepaysdesbleuets.com/wp-content/uploads/2026/02/Festineige-2026.jpg
END:VEVENT
BEGIN:VEVENT
DTSTART;TZID=America/Toronto:20260221T153000
DTEND;TZID=America/Toronto:20260221T163000
DTSTAMP:20260421T073517
CREATED:20251009T155432Z
LAST-MODIFIED:20260312T195526Z
UID:10023373-1771687800-1771691400@oselepaysdesbleuets.com
SUMMARY:Patinage libre - Mistassini
DESCRIPTION:À l’aréna du secteur Mistassini\, l’achat de billets se fait auprès du restaurant. \n\n17 ans et moins : 2\,25 $ | 18 ans et plus : 3\,25 $\nSérie de 15 billets (adulte) : 40 $ | Série de 15 billets (17 ans et moins) : 28 $\nCarte de saison (Valide pour les lundis\, mercredis et jeudis avant-midi seulement) : 87 $\nCarte de demi-saison (Valide pour les lundis\, mercredis et jeudis avant-midi seulement) : 50 $
URL:https://oselepaysdesbleuets.com/evenement/patinage-libre-mistassini-3/2026-02-21/
LOCATION:Aréna secteur Mistassini\, 60 rue Savard\, Dolbeau-Mistassini\, Québec\, G8L 4W3\, Canada
CATEGORIES:Activités familiales,Sports et plein air
ATTACH;FMTTYPE=image/png:https://oselepaysdesbleuets.com/wp-content/uploads/2024/12/Patinage-libre.png
END:VEVENT
END:VCALENDAR