BEGIN:VCALENDAR
VERSION:2.0
PRODID:-//Ose le Pays des Bleuets - ECPv6.15.20//NONSGML v1.0//EN
CALSCALE:GREGORIAN
METHOD:PUBLISH
X-WR-CALNAME:Ose le Pays des Bleuets
X-ORIGINAL-URL:https://oselepaysdesbleuets.com
X-WR-CALDESC:Évènements pour Ose le Pays des Bleuets
REFRESH-INTERVAL;VALUE=DURATION:PT1H
X-Robots-Tag:noindex
X-PUBLISHED-TTL:PT1H
BEGIN:VTIMEZONE
TZID:America/Toronto
BEGIN:DAYLIGHT
TZOFFSETFROM:-0500
TZOFFSETTO:-0400
TZNAME:EDT
DTSTART:20250309T070000
END:DAYLIGHT
BEGIN:STANDARD
TZOFFSETFROM:-0400
TZOFFSETTO:-0500
TZNAME:EST
DTSTART:20251102T060000
END:STANDARD
BEGIN:DAYLIGHT
TZOFFSETFROM:-0500
TZOFFSETTO:-0400
TZNAME:EDT
DTSTART:20260308T070000
END:DAYLIGHT
BEGIN:STANDARD
TZOFFSETFROM:-0400
TZOFFSETTO:-0500
TZNAME:EST
DTSTART:20261101T060000
END:STANDARD
BEGIN:DAYLIGHT
TZOFFSETFROM:-0500
TZOFFSETTO:-0400
TZNAME:EDT
DTSTART:20270314T070000
END:DAYLIGHT
BEGIN:STANDARD
TZOFFSETFROM:-0400
TZOFFSETTO:-0500
TZNAME:EST
DTSTART:20271107T060000
END:STANDARD
END:VTIMEZONE
BEGIN:VEVENT
DTSTART;TZID=America/Toronto:20260430T183000
DTEND;TZID=America/Toronto:20260430T193000
DTSTAMP:20260420T064137
CREATED:20260416T130320Z
LAST-MODIFIED:20260416T130610Z
UID:10031530-1777573800-1777577400@oselepaysdesbleuets.com
SUMMARY:Conférence - Alimentation adaptée aux sportifs
DESCRIPTION:Conférence sur l’alimentation sportive. \nMembre de l’Ordre professionnel des Diététistes du Québec depuis 2018 et maintenant diplômée du programme international olympique en nutrition sportive\, Catherine Gauthier\, nutritionniste\, saura aborder les points essentiels à l’équilibre nutritionnelle de la préparation de vos activités sportives\, soit :\n*Distinguer les groupes alimentaires selon leurs rôles et importances;\n*Identifier les aliments à consommer au bon moment pour recevoir l’énergie nécessaire;\n*Démystifier quelques mythes et réalités tendances.
URL:https://oselepaysdesbleuets.com/evenement/conference-alimentation-adaptee-aux-sportifs-2/
LOCATION:Complexe sportif Desjardins de Dolbeau-Mistassini\, 1032 Rue des Érables\, Dolbeau-Mistassini\, Québec\, G8L 1C1\, Canada
CATEGORIES:Conférences et formations
ATTACH;FMTTYPE=image/jpeg:https://oselepaysdesbleuets.com/wp-content/uploads/2026/04/confe.jpg
END:VEVENT
END:VCALENDAR