BEGIN:VCALENDAR
VERSION:2.0
PRODID:-//Ose le Pays des Bleuets - ECPv6.15.20//NONSGML v1.0//EN
CALSCALE:GREGORIAN
METHOD:PUBLISH
X-WR-CALNAME:Ose le Pays des Bleuets
X-ORIGINAL-URL:https://oselepaysdesbleuets.com
X-WR-CALDESC:Évènements pour Ose le Pays des Bleuets
REFRESH-INTERVAL;VALUE=DURATION:PT1H
X-Robots-Tag:noindex
X-PUBLISHED-TTL:PT1H
BEGIN:VTIMEZONE
TZID:America/Toronto
BEGIN:DAYLIGHT
TZOFFSETFROM:-0500
TZOFFSETTO:-0400
TZNAME:EDT
DTSTART:20250309T070000
END:DAYLIGHT
BEGIN:STANDARD
TZOFFSETFROM:-0400
TZOFFSETTO:-0500
TZNAME:EST
DTSTART:20251102T060000
END:STANDARD
BEGIN:DAYLIGHT
TZOFFSETFROM:-0500
TZOFFSETTO:-0400
TZNAME:EDT
DTSTART:20260308T070000
END:DAYLIGHT
BEGIN:STANDARD
TZOFFSETFROM:-0400
TZOFFSETTO:-0500
TZNAME:EST
DTSTART:20261101T060000
END:STANDARD
BEGIN:DAYLIGHT
TZOFFSETFROM:-0500
TZOFFSETTO:-0400
TZNAME:EDT
DTSTART:20270314T070000
END:DAYLIGHT
BEGIN:STANDARD
TZOFFSETFROM:-0400
TZOFFSETTO:-0500
TZNAME:EST
DTSTART:20271107T060000
END:STANDARD
END:VTIMEZONE
BEGIN:VEVENT
DTSTART;TZID=America/Toronto:20260313T190000
DTEND;TZID=America/Toronto:20260313T220000
DTSTAMP:20260419T132636
CREATED:20260313T151544Z
LAST-MODIFIED:20260313T151544Z
UID:10031459-1773428400-1773439200@oselepaysdesbleuets.com
SUMMARY:Danse - Soirée pratique pour tous
DESCRIPTION:Soirée pratique pour tous !\n\nCe vendredi 13 mars\, venez pratiquer vos danses dans une ambiance conviviale et amusante !\n\nCentre Civique de DolbeauÀ compter de 19h\nCoût: 10$\n\nQue vous soyez débutant ou habitué de la piste\, cette soirée est l’occasion parfaite de venir danser\, pratiquer et s’amuser ensemble.
URL:https://oselepaysdesbleuets.com/evenement/danse-soiree-pratique-pour-tous/
LOCATION:Centre civique Desjardins\, 1330 rue des Cyprès\, Dolbeau-Mistassini\, QC\, G8L 1A4\, Canada
CATEGORIES:Loisirs et culture,Sports et plein air
ATTACH;FMTTYPE=image/jpeg:https://oselepaysdesbleuets.com/wp-content/uploads/2026/03/danse-en-lgne.jpg
END:VEVENT
BEGIN:VEVENT
DTSTART;TZID=America/Toronto:20260313T210000
DTEND;TZID=America/Toronto:20260313T233000
DTSTAMP:20260419T132636
CREATED:20260312T170459Z
LAST-MODIFIED:20260312T170459Z
UID:10031453-1773435600-1773444600@oselepaysdesbleuets.com
SUMMARY:Concert - Crash ton rock
DESCRIPTION:Vendredi 13 mars 2026 le groupe punk-rock saguenéen Crash ton rock qui fête ses vingt ans cette année.C’est ici a la Taverne L’abat qui vienne présenter son dernier album “Le feu sacré” dans le cadre de sa tournée d’adieu! 10$ seulement !!
URL:https://oselepaysdesbleuets.com/evenement/concert-crash-ton-rock/
LOCATION:Taverne L’Abat\, 1470 boul. Wallberg\, Dolbeau-Mistassini\, Québec\, G8L 1H4\, Canada
CATEGORIES:Concerts,Loisirs et culture
ATTACH;FMTTYPE=image/jpeg:https://oselepaysdesbleuets.com/wp-content/uploads/2026/03/Crash-ton-rock.jpg
END:VEVENT
END:VCALENDAR