BEGIN:VCALENDAR
VERSION:2.0
PRODID:-//Ose le Pays des Bleuets - ECPv6.15.20//NONSGML v1.0//EN
CALSCALE:GREGORIAN
METHOD:PUBLISH
X-WR-CALNAME:Ose le Pays des Bleuets
X-ORIGINAL-URL:https://oselepaysdesbleuets.com
X-WR-CALDESC:Évènements pour Ose le Pays des Bleuets
REFRESH-INTERVAL;VALUE=DURATION:PT1H
X-Robots-Tag:noindex
X-PUBLISHED-TTL:PT1H
BEGIN:VTIMEZONE
TZID:America/Toronto
BEGIN:DAYLIGHT
TZOFFSETFROM:-0500
TZOFFSETTO:-0400
TZNAME:EDT
DTSTART:20250309T070000
END:DAYLIGHT
BEGIN:STANDARD
TZOFFSETFROM:-0400
TZOFFSETTO:-0500
TZNAME:EST
DTSTART:20251102T060000
END:STANDARD
BEGIN:DAYLIGHT
TZOFFSETFROM:-0500
TZOFFSETTO:-0400
TZNAME:EDT
DTSTART:20260308T070000
END:DAYLIGHT
BEGIN:STANDARD
TZOFFSETFROM:-0400
TZOFFSETTO:-0500
TZNAME:EST
DTSTART:20261101T060000
END:STANDARD
BEGIN:DAYLIGHT
TZOFFSETFROM:-0500
TZOFFSETTO:-0400
TZNAME:EDT
DTSTART:20270314T070000
END:DAYLIGHT
BEGIN:STANDARD
TZOFFSETFROM:-0400
TZOFFSETTO:-0500
TZNAME:EST
DTSTART:20271107T060000
END:STANDARD
END:VTIMEZONE
BEGIN:VEVENT
DTSTART;TZID=America/Toronto:20260315T130000
DTEND;TZID=America/Toronto:20260315T160000
DTSTAMP:20260419T101652
CREATED:20260313T151802Z
LAST-MODIFIED:20260313T151802Z
UID:10031460-1773579600-1773590400@oselepaysdesbleuets.com
SUMMARY:Danse - Dimanche country/pop
DESCRIPTION:Dimanche Country à Normandin !\nVenez passer un bel après-midi de danse country dans une ambiance conviviale!\n 15 mars 2026 13 h à 16 h Centre communautaire de Normandin\nÀ l’animation : KessyEn collaboration avec le club des retraités.\n Plaisir garanti pour tous! Apportez vos consommations.
URL:https://oselepaysdesbleuets.com/evenement/danse-dimanche-country-pop/
LOCATION:Centre communautaire Normandin\, 1070 Av. des Écoles\, Normandin\, Québec\, G8M 3Z2\, Canada
CATEGORIES:Loisirs et culture,Sports et plein air
ATTACH;FMTTYPE=image/jpeg:https://oselepaysdesbleuets.com/wp-content/uploads/2026/03/Dimanche-country.jpg
END:VEVENT
END:VCALENDAR