BEGIN:VCALENDAR
VERSION:2.0
PRODID:-//Ose le Pays des Bleuets - ECPv6.15.20//NONSGML v1.0//EN
CALSCALE:GREGORIAN
METHOD:PUBLISH
X-WR-CALNAME:Ose le Pays des Bleuets
X-ORIGINAL-URL:https://oselepaysdesbleuets.com
X-WR-CALDESC:Évènements pour Ose le Pays des Bleuets
REFRESH-INTERVAL;VALUE=DURATION:PT1H
X-Robots-Tag:noindex
X-PUBLISHED-TTL:PT1H
BEGIN:VTIMEZONE
TZID:America/Toronto
BEGIN:DAYLIGHT
TZOFFSETFROM:-0500
TZOFFSETTO:-0400
TZNAME:EDT
DTSTART:20240310T070000
END:DAYLIGHT
BEGIN:STANDARD
TZOFFSETFROM:-0400
TZOFFSETTO:-0500
TZNAME:EST
DTSTART:20241103T060000
END:STANDARD
BEGIN:DAYLIGHT
TZOFFSETFROM:-0500
TZOFFSETTO:-0400
TZNAME:EDT
DTSTART:20250309T070000
END:DAYLIGHT
BEGIN:STANDARD
TZOFFSETFROM:-0400
TZOFFSETTO:-0500
TZNAME:EST
DTSTART:20251102T060000
END:STANDARD
BEGIN:DAYLIGHT
TZOFFSETFROM:-0500
TZOFFSETTO:-0400
TZNAME:EDT
DTSTART:20260308T070000
END:DAYLIGHT
BEGIN:STANDARD
TZOFFSETFROM:-0400
TZOFFSETTO:-0500
TZNAME:EST
DTSTART:20261101T060000
END:STANDARD
END:VTIMEZONE
BEGIN:VEVENT
DTSTART;TZID=America/Toronto:20251206T140000
DTEND;TZID=America/Toronto:20251206T160000
DTSTAMP:20260419T182056
CREATED:20251203T155723Z
LAST-MODIFIED:20251203T155723Z
UID:10029074-1765029600-1765036800@oselepaysdesbleuets.com
SUMMARY:Concert de Noël - Mistassini
DESCRIPTION:Cette année\, l’OVN vous propose un voyage musical à travers des classiques et des œuvres inspirées de l’univers cinématographique et traditionnel :– Noël à Poudlard – une immersion féerique dans l’univers de Harry Potter– L’Étrange Noël de Monsieur Jack – l’ambiance unique de Tim Burton revisitée en musique– Il est né le divin enfant – un incontournable du répertoire de Noël– La Marche des jouets – une pièce ludique et colorée– My Grown-Up Christmas List – une mélodie empreinte de nostalgie et d’espoir– Polish Christmas Music – des sonorités venues d’Europe de l’Est– La nuit avant Noël – un conte musical captivant– Cantique de Noël – un grand classique– Et d’autres pièces… \nTarifs :  \n\n18 ans et + 20$\n6 à 17 ans 10$\n5 ans et moins gratuit\n\nBillets : https://lepointdevente.com/billets/8t4251206001?lang=fr
URL:https://oselepaysdesbleuets.com/evenement/concert-de-noel-mistassini/
LOCATION:église St-Michel de Mistassini\, 137 avenue de l'Église\, Dolbeau-Mistassini\, Québec\, G8L 4W3\, Canada
CATEGORIES:Activités familiales,Concerts,Loisirs et culture
ATTACH;FMTTYPE=image/jpeg:https://oselepaysdesbleuets.com/wp-content/uploads/2025/12/Concert-de-noel-ovn.jpg
END:VEVENT
END:VCALENDAR