BEGIN:VCALENDAR
VERSION:2.0
PRODID:-//Ose le Pays des Bleuets - ECPv6.15.20//NONSGML v1.0//EN
CALSCALE:GREGORIAN
METHOD:PUBLISH
X-WR-CALNAME:Ose le Pays des Bleuets
X-ORIGINAL-URL:https://oselepaysdesbleuets.com
X-WR-CALDESC:Évènements pour Ose le Pays des Bleuets
REFRESH-INTERVAL;VALUE=DURATION:PT1H
X-Robots-Tag:noindex
X-PUBLISHED-TTL:PT1H
BEGIN:VTIMEZONE
TZID:America/Toronto
BEGIN:DAYLIGHT
TZOFFSETFROM:-0500
TZOFFSETTO:-0400
TZNAME:EDT
DTSTART:20250309T070000
END:DAYLIGHT
BEGIN:STANDARD
TZOFFSETFROM:-0400
TZOFFSETTO:-0500
TZNAME:EST
DTSTART:20251102T060000
END:STANDARD
BEGIN:DAYLIGHT
TZOFFSETFROM:-0500
TZOFFSETTO:-0400
TZNAME:EDT
DTSTART:20260308T070000
END:DAYLIGHT
BEGIN:STANDARD
TZOFFSETFROM:-0400
TZOFFSETTO:-0500
TZNAME:EST
DTSTART:20261101T060000
END:STANDARD
BEGIN:DAYLIGHT
TZOFFSETFROM:-0500
TZOFFSETTO:-0400
TZNAME:EDT
DTSTART:20270314T070000
END:DAYLIGHT
BEGIN:STANDARD
TZOFFSETFROM:-0400
TZOFFSETTO:-0500
TZNAME:EST
DTSTART:20271107T060000
END:STANDARD
END:VTIMEZONE
BEGIN:VEVENT
DTSTART;TZID=America/Toronto:20260213T200000
DTEND;TZID=America/Toronto:20260213T220000
DTSTAMP:20260419T144406
CREATED:20260209T183337Z
LAST-MODIFIED:20260209T183337Z
UID:10030188-1771012800-1771020000@oselepaysdesbleuets.com
SUMMARY:Chanson - Alexe
DESCRIPTION:Native du Saguenay–Lac-Saint-Jean\, Alexe est découverte lors de l’émission La Voix. Elle se fait connaître auprès du public grâce à sa chanson Placebo\, qui marque le début de sa carrière d’artiste indépendante. Depuis\, elle évolue sur la scène musicale francophone en tant qu’autrice-compositrice-interprète. \nEn mai dernier\, elle revient avec son EP Copier Coller\, dévoilant six titres qui témoignent de la maturité artistique acquise au fil des années. Elle y propose une pop francophone raffinée\, portée par des mélodies accrocheuses et une interprétation habitée.\nAlexe prépare actuellement son prochain album\, attendu en février 2026. Elle y explore avec justesse et bienveillance des thèmes forts tels que le deuil\, la dépendance et le féminisme. Voyagez au son sans pareil de la voix d’Alexe\, à travers ses doutes et ses découvertes\, dans des chansons qui tracent le chemin de la croissance personnelle\, entre résilience et puissance d’être femme.
URL:https://oselepaysdesbleuets.com/evenement/chanson-alexe/
LOCATION:Comité des Spectacles Dolbeau-Mistassini\, 105 Avenue de l'Église\, Dolbeau-Mistassini\, Québec\, G8L 4Z7\, Canada
CATEGORIES:Concerts,Loisirs et culture,Spectacles et festivals
ATTACH;FMTTYPE=image/jpeg:https://oselepaysdesbleuets.com/wp-content/uploads/2026/02/Alexe.jpg
END:VEVENT
END:VCALENDAR