BEGIN:VCALENDAR
VERSION:2.0
PRODID:-//Ose le Pays des Bleuets - ECPv6.15.20//NONSGML v1.0//EN
CALSCALE:GREGORIAN
METHOD:PUBLISH
X-WR-CALNAME:Ose le Pays des Bleuets
X-ORIGINAL-URL:https://oselepaysdesbleuets.com
X-WR-CALDESC:Évènements pour Ose le Pays des Bleuets
REFRESH-INTERVAL;VALUE=DURATION:PT1H
X-Robots-Tag:noindex
X-PUBLISHED-TTL:PT1H
BEGIN:VTIMEZONE
TZID:America/Toronto
BEGIN:DAYLIGHT
TZOFFSETFROM:-0500
TZOFFSETTO:-0400
TZNAME:EDT
DTSTART:20250309T070000
END:DAYLIGHT
BEGIN:STANDARD
TZOFFSETFROM:-0400
TZOFFSETTO:-0500
TZNAME:EST
DTSTART:20251102T060000
END:STANDARD
BEGIN:DAYLIGHT
TZOFFSETFROM:-0500
TZOFFSETTO:-0400
TZNAME:EDT
DTSTART:20260308T070000
END:DAYLIGHT
BEGIN:STANDARD
TZOFFSETFROM:-0400
TZOFFSETTO:-0500
TZNAME:EST
DTSTART:20261101T060000
END:STANDARD
BEGIN:DAYLIGHT
TZOFFSETFROM:-0500
TZOFFSETTO:-0400
TZNAME:EDT
DTSTART:20270314T070000
END:DAYLIGHT
BEGIN:STANDARD
TZOFFSETFROM:-0400
TZOFFSETTO:-0500
TZNAME:EST
DTSTART:20271107T060000
END:STANDARD
END:VTIMEZONE
BEGIN:VEVENT
DTSTART;TZID=America/Toronto:20260321T200000
DTEND;TZID=America/Toronto:20260321T223000
DTSTAMP:20260419T131313
CREATED:20260320T154400Z
LAST-MODIFIED:20260320T154400Z
UID:10031470-1774123200-1774132200@oselepaysdesbleuets.com
SUMMARY:Musique - Les Trois Accords
DESCRIPTION:Follement aimé du public\, le groupe qui a célébré ses 20 ans de carrière se distingue avec son audace à créer des univers colorés et éclatés\, aussi originaux qu’uniques. Les Trois Accords ont fait leur marque dans le paysage de la musique francophone avec des textes finement absurdes et des mélodies accrocheuses qu’on adore chanter à tue-tête. On attend leur nouveau spectacle avec impatience! \nTarif : \n\nRégulier 47\,25$\nAîné et étudiant 44\,25$
URL:https://oselepaysdesbleuets.com/evenement/musique-les-trois-accords/
LOCATION:Salle de spectacle Desjardins/Maria-Chapdelaine\, 105 Avenue de l'Église\, Dolbeau-Mistassini\, G8L 4Z7\, Canada
CATEGORIES:Concerts,Loisirs et culture
ATTACH;FMTTYPE=image/jpeg:https://oselepaysdesbleuets.com/wp-content/uploads/2026/03/Trois-accords.jpg
END:VEVENT
END:VCALENDAR