BEGIN:VCALENDAR
VERSION:2.0
PRODID:-//Ose le Pays des Bleuets - ECPv6.15.20//NONSGML v1.0//EN
CALSCALE:GREGORIAN
METHOD:PUBLISH
X-WR-CALNAME:Ose le Pays des Bleuets
X-ORIGINAL-URL:https://oselepaysdesbleuets.com
X-WR-CALDESC:Évènements pour Ose le Pays des Bleuets
REFRESH-INTERVAL;VALUE=DURATION:PT1H
X-Robots-Tag:noindex
X-PUBLISHED-TTL:PT1H
BEGIN:VTIMEZONE
TZID:America/Toronto
BEGIN:DAYLIGHT
TZOFFSETFROM:-0500
TZOFFSETTO:-0400
TZNAME:EDT
DTSTART:20250309T070000
END:DAYLIGHT
BEGIN:STANDARD
TZOFFSETFROM:-0400
TZOFFSETTO:-0500
TZNAME:EST
DTSTART:20251102T060000
END:STANDARD
BEGIN:DAYLIGHT
TZOFFSETFROM:-0500
TZOFFSETTO:-0400
TZNAME:EDT
DTSTART:20260308T070000
END:DAYLIGHT
BEGIN:STANDARD
TZOFFSETFROM:-0400
TZOFFSETTO:-0500
TZNAME:EST
DTSTART:20261101T060000
END:STANDARD
BEGIN:DAYLIGHT
TZOFFSETFROM:-0500
TZOFFSETTO:-0400
TZNAME:EDT
DTSTART:20270314T070000
END:DAYLIGHT
BEGIN:STANDARD
TZOFFSETFROM:-0400
TZOFFSETTO:-0500
TZNAME:EST
DTSTART:20271107T060000
END:STANDARD
END:VTIMEZONE
BEGIN:VEVENT
DTSTART;TZID=America/Toronto:20260404T200000
DTEND;TZID=America/Toronto:20260404T220000
DTSTAMP:20260419T112331
CREATED:20260402T122922Z
LAST-MODIFIED:20260402T122922Z
UID:10031518-1775332800-1775340000@oselepaysdesbleuets.com
SUMMARY:Concert - Pierre Lapointe
DESCRIPTION:Déjà par son titre\, le nouveau spectacle de Pierre Lapointe promet. C’est pour accompagner son nouvel album\, 10 chansons démodées pour ceux qui ont le coeur abimé qu’il a créé cet écrin magnifique. Des arrangements soignés\, un décor déroutant et toujours cette façon singulière qu’il a d’occuper la scène\, oscillant sans cesse entre un sens de l’humour corrosif et une puissante charge mélancolique.\nDurant l’écriture de son nouvel opus\, Pierre Lapointe n’avait qu’une obsession en tête; écrire des chansons contemporaines qui semblent exister depuis toujours.\n\nEn allant puiser son inspiration dans le travail des grands noms de la chanson francophone qui l’ont précédé\, il confirme plus que jamais son appartenance à une famille\, à une tradition.\nComme en guise d’hommage à Léveillée\, Barbara\, Sylvestre\, Brel ou encore Aznavour\, il a su imposer par ses dernières chansons\, une rigueur et une virtuosité propre aux artistes ayant atteint une certaine maîtrise de leur art.\n\nTarifs : \n\nRégulier 50\,25$\nAîné et étudiant 47\,25$
URL:https://oselepaysdesbleuets.com/evenement/concert-pierre-lapointe/
LOCATION:Comité des Spectacles Dolbeau-Mistassini\, 105 Avenue de l'Église\, Dolbeau-Mistassini\, Québec\, G8L 4Z7\, Canada
CATEGORIES:Concerts,Loisirs et culture
ATTACH;FMTTYPE=image/jpeg:https://oselepaysdesbleuets.com/wp-content/uploads/2026/04/Pierre-Lapointe.jpg
END:VEVENT
END:VCALENDAR