BEGIN:VCALENDAR
VERSION:2.0
PRODID:-//Ose le Pays des Bleuets - ECPv6.15.20//NONSGML v1.0//EN
CALSCALE:GREGORIAN
METHOD:PUBLISH
X-WR-CALNAME:Ose le Pays des Bleuets
X-ORIGINAL-URL:https://oselepaysdesbleuets.com
X-WR-CALDESC:Évènements pour Ose le Pays des Bleuets
REFRESH-INTERVAL;VALUE=DURATION:PT1H
X-Robots-Tag:noindex
X-PUBLISHED-TTL:PT1H
BEGIN:VTIMEZONE
TZID:America/Toronto
BEGIN:DAYLIGHT
TZOFFSETFROM:-0500
TZOFFSETTO:-0400
TZNAME:EDT
DTSTART:20250309T070000
END:DAYLIGHT
BEGIN:STANDARD
TZOFFSETFROM:-0400
TZOFFSETTO:-0500
TZNAME:EST
DTSTART:20251102T060000
END:STANDARD
BEGIN:DAYLIGHT
TZOFFSETFROM:-0500
TZOFFSETTO:-0400
TZNAME:EDT
DTSTART:20260308T070000
END:DAYLIGHT
BEGIN:STANDARD
TZOFFSETFROM:-0400
TZOFFSETTO:-0500
TZNAME:EST
DTSTART:20261101T060000
END:STANDARD
BEGIN:DAYLIGHT
TZOFFSETFROM:-0500
TZOFFSETTO:-0400
TZNAME:EDT
DTSTART:20270314T070000
END:DAYLIGHT
BEGIN:STANDARD
TZOFFSETFROM:-0400
TZOFFSETTO:-0500
TZNAME:EST
DTSTART:20271107T060000
END:STANDARD
END:VTIMEZONE
BEGIN:VEVENT
DTSTART;TZID=America/Toronto:20260425T090000
DTEND;TZID=America/Toronto:20260425T160000
DTSTAMP:20260424T144639
CREATED:20260423T151738Z
LAST-MODIFIED:20260423T151738Z
UID:10031563-1777107600-1777132800@oselepaysdesbleuets.com
SUMMARY:La classique Shayne Gauthier
DESCRIPTION:Que ce soit entre amis\, en famille ou pour compétitionner\, il y a une place pour toi :\n• Catégories compétitives (A-B-C)• Catégorie participative / jeunesse\n60 $ par équipe de 2• Dîner St-Hubert inclus• 6 parties garanties• 1000 $ en bourse pour les gagnants(A-B-C)• 1500$ et + en Prix de présence\n\nChaque inscription soutient le Fond Shayne Gauthier et contribue au développement du milieu sportif de notre secteur\, en aidant les jeunes sportif.ve.s à assumer certains frais\, tels que leurs inscriptions\, leurs équipements et plus encore..\n\nMaximum de 75 équipes\, bar sur place \, pensez à apporter de l’argent comptant pour les services offerts sur place et le moitié moitié.\n\nInscription en ligne avec le code QR sur la page Facebook La classique Shayne Gauthier et Rotary Dolbeau-Mistassini
URL:https://oselepaysdesbleuets.com/evenement/la-classique-shayne-gauthier/
LOCATION:Complexe sportif Desjardins de Dolbeau-Mistassini\, 1032 Rue des Érables\, Dolbeau-Mistassini\, Québec\, G8L 1C1\, Canada
CATEGORIES:Loisirs et culture,Sports et plein air
ATTACH;FMTTYPE=image/jpeg:https://oselepaysdesbleuets.com/wp-content/uploads/2026/04/shayne.jpg
END:VEVENT
BEGIN:VEVENT
DTSTART;TZID=America/Toronto:20260427T143000
DTEND;TZID=America/Toronto:20260427T153000
DTSTAMP:20260424T144639
CREATED:20251203T135221Z
LAST-MODIFIED:20251203T135221Z
UID:10028831-1777300200-1777303800@oselepaysdesbleuets.com
SUMMARY:Bain libre - Dolbeau
DESCRIPTION:Bassin principal seulement : 25 mètres avec six corridors pour nager à votre rythme. \nTarif des bains libres | Piscine Rémabec \n\n0 à 2 ans : gratuit\n3 à 17 ans : 3 $ par billet ou 15 billets pour 38 $\n18 ans et plus : 5 $ par billet ou 15 billets pour 64 $\n\nIl est aussi possible de se procurer des séries de 15 billets de bain libre au coût de 64 $ (18 ans et plus) ou 38 $ (3 à 17 ans).
URL:https://oselepaysdesbleuets.com/evenement/bain-libre-dolbeau-13/2026-04-27/
LOCATION:Complexe sportif Desjardins de Dolbeau-Mistassini\, 1032 Rue des Érables\, Dolbeau-Mistassini\, Québec\, G8L 1C1\, Canada
CATEGORIES:Activités familiales,Sports et plein air
ATTACH;FMTTYPE=image/png:https://oselepaysdesbleuets.com/wp-content/uploads/2024/11/bain-libre-1.png
END:VEVENT
BEGIN:VEVENT
DTSTART;TZID=America/Toronto:20260427T180000
DTEND;TZID=America/Toronto:20260427T190000
DTSTAMP:20260424T144639
CREATED:20251106T150348Z
LAST-MODIFIED:20251106T150348Z
UID:10028701-1777312800-1777316400@oselepaysdesbleuets.com
SUMMARY:Sport - Pickleball libre
DESCRIPTION:
URL:https://oselepaysdesbleuets.com/evenement/sport-pickleball-libre/2026-04-27/
LOCATION:Gymnase de l’école Notre Dame de Lourdes Girardville\, 604 Av. de la Fabrique\, Girardville\, Québec\, G0W 1R0\, Canada
CATEGORIES:Activités gratuites,Sports et plein air
ATTACH;FMTTYPE=image/jpeg:https://oselepaysdesbleuets.com/wp-content/uploads/2025/11/Pickleball-st-thomas.jpg
END:VEVENT
BEGIN:VEVENT
DTSTART;TZID=America/Toronto:20260428T153000
DTEND;TZID=America/Toronto:20260428T163000
DTSTAMP:20260424T144639
CREATED:20260106T171741Z
LAST-MODIFIED:20260106T171742Z
UID:10029279-1777390200-1777393800@oselepaysdesbleuets.com
SUMMARY:Bain libre - Dolbeau
DESCRIPTION:Récréatif seulement  \nBain libre pataugeoire : activité libre dans le bassin récréatif. Idéal pour les enfants et les familles. Jeux d’eau accessibles\, profondeur faible\, aucune nage en corridor. \nTarif des bains libres | Piscine Rémabec \n\n0 à 2 ans : gratuit\n3 à 17 ans : 3 $ par billet ou 15 billets pour 38 $\n18 ans et plus : 5 $ par billet ou 15 billets pour 64 $\n\nIl est aussi possible de se procurer des séries de 15 billets de bain libre au coût de 64 $ (18 ans et plus) ou 38 $ (3 à 17 ans).
URL:https://oselepaysdesbleuets.com/evenement/bain-libre-dolbeau-2-5/2026-04-28/
LOCATION:Complexe sportif Desjardins de Dolbeau-Mistassini\, 1032 Rue des Érables\, Dolbeau-Mistassini\, Québec\, G8L 1C1\, Canada
CATEGORIES:Activités familiales,Sports et plein air
ATTACH;FMTTYPE=image/png:https://oselepaysdesbleuets.com/wp-content/uploads/2024/11/bain-libre.png
END:VEVENT
BEGIN:VEVENT
DTSTART;TZID=America/Toronto:20260428T203000
DTEND;TZID=America/Toronto:20260428T213000
DTSTAMP:20260424T144639
CREATED:20260106T171921Z
LAST-MODIFIED:20260106T171922Z
UID:10029539-1777408200-1777411800@oselepaysdesbleuets.com
SUMMARY:Bain libre - Dolbeau
DESCRIPTION:Principal seulement  \nNage en corridor : réservé aux nageurs capables de nager 25 mètres sans arrêt. Tous les corridors sont utilisés pour la nage seulement. Pas de jeux ou de baignade libre. 14 ans et plus. \nTarif des bains libres | Piscine Rémabec \n\n0 à 2 ans : gratuit\n3 à 17 ans : 3 $ par billet ou 15 billets pour 38 $\n18 ans et plus : 5 $ par billet ou 15 billets pour 64 $\n\nIl est aussi possible de se procurer des séries de 15 billets de bain libre au coût de 64 $ (18 ans et plus) ou 38 $ (3 à 17 ans).
URL:https://oselepaysdesbleuets.com/evenement/bain-libre-dolbeau-3-3/2026-04-28/
LOCATION:Complexe sportif Desjardins de Dolbeau-Mistassini\, 1032 Rue des Érables\, Dolbeau-Mistassini\, Québec\, G8L 1C1\, Canada
CATEGORIES:Activités familiales,Sports et plein air
ATTACH;FMTTYPE=image/png:https://oselepaysdesbleuets.com/wp-content/uploads/2024/11/bain-libre.png
END:VEVENT
BEGIN:VEVENT
DTSTART;TZID=America/Toronto:20260429T143000
DTEND;TZID=America/Toronto:20260429T153000
DTSTAMP:20260424T144639
CREATED:20251009T161042Z
LAST-MODIFIED:20251009T161042Z
UID:10024957-1777473000-1777476600@oselepaysdesbleuets.com
SUMMARY:Bain libre - Dolbeau
DESCRIPTION:Principal seulement  : Bain libre : ouvert à tous. La piscine est divisée en zones : au moins un corridor pour la nage et des sections pour le jeu ou la détente. \nTarif des bains libres | Piscine Rémabec \n\n0 à 2 ans : gratuit\n3 à 17 ans : 3 $ par billet ou 15 billets pour 38 $\n18 ans et plus : 5 $ par billet ou 15 billets pour 64 $\n\nIl est aussi possible de se procurer des séries de 15 billets de bain libre au coût de 64 $ (18 ans et plus) ou 38 $ (3 à 17 ans).
URL:https://oselepaysdesbleuets.com/evenement/bain-libre-dolbeau-4/2026-04-29/
LOCATION:Complexe sportif Desjardins de Dolbeau-Mistassini\, 1032 Rue des Érables\, Dolbeau-Mistassini\, Québec\, G8L 1C1\, Canada
CATEGORIES:Activités familiales,Sports et plein air
ATTACH;FMTTYPE=image/png:https://oselepaysdesbleuets.com/wp-content/uploads/2024/11/bain-libre.png
END:VEVENT
BEGIN:VEVENT
DTSTART;TZID=America/Toronto:20260429T180000
DTEND;TZID=America/Toronto:20260429T190000
DTSTAMP:20260424T144639
CREATED:20251106T150348Z
LAST-MODIFIED:20251106T150348Z
UID:10028702-1777485600-1777489200@oselepaysdesbleuets.com
SUMMARY:Sport - Pickleball libre
DESCRIPTION:
URL:https://oselepaysdesbleuets.com/evenement/sport-pickleball-libre/2026-04-29/
LOCATION:Gymnase de l’école Notre Dame de Lourdes Girardville\, 604 Av. de la Fabrique\, Girardville\, Québec\, G0W 1R0\, Canada
CATEGORIES:Activités gratuites,Sports et plein air
ATTACH;FMTTYPE=image/jpeg:https://oselepaysdesbleuets.com/wp-content/uploads/2025/11/Pickleball-st-thomas.jpg
END:VEVENT
BEGIN:VEVENT
DTSTART;TZID=America/Toronto:20260430T143000
DTEND;TZID=America/Toronto:20260430T153000
DTSTAMP:20260424T144639
CREATED:20251009T174848Z
LAST-MODIFIED:20251009T174848Z
UID:10025483-1777559400-1777563000@oselepaysdesbleuets.com
SUMMARY:Bain libre - Dolbeau
DESCRIPTION:Principal seulement  : Nage en corridor: réservé aux nageurs capables de nager 25 mètres sans arrêt. Tous les corridors sont utilisés pour la nage seulement. Pas de jeux ou de baignade libre. 14 ans et plus. \nTarif des bains libres | Piscine Rémabec \n\n0 à 2 ans : gratuit\n3 à 17 ans : 3 $ par billet ou 15 billets pour 38 $\n18 ans et plus : 5 $ par billet ou 15 billets pour 64 $\n\nIl est aussi possible de se procurer des séries de 15 billets de bain libre au coût de 64 $ (18 ans et plus) ou 38 $ (3 à 17 ans).
URL:https://oselepaysdesbleuets.com/evenement/bain-libre-dolbeau-5/2026-04-30/
LOCATION:Complexe sportif Desjardins de Dolbeau-Mistassini\, 1032 Rue des Érables\, Dolbeau-Mistassini\, Québec\, G8L 1C1\, Canada
CATEGORIES:Activités familiales,Sports et plein air
ATTACH;FMTTYPE=image/png:https://oselepaysdesbleuets.com/wp-content/uploads/2024/11/bain-libre.png
END:VEVENT
BEGIN:VEVENT
DTSTART;TZID=America/Toronto:20260430T203000
DTEND;TZID=America/Toronto:20260430T213000
DTSTAMP:20260424T144639
CREATED:20260106T172118Z
LAST-MODIFIED:20260106T172119Z
UID:10029800-1777581000-1777584600@oselepaysdesbleuets.com
SUMMARY:Bain libre - Dolbeau
DESCRIPTION:Principal seulement  : Bain libre : ouvert à tous. La piscine est divisée en zones : au moins un corridor pour la nage et des sections pour le jeu ou la détente. \nTarif des bains libres | Piscine Rémabec \n\n0 à 2 ans : gratuit\n3 à 17 ans : 3 $ par billet ou 15 billets pour 38 $\n18 ans et plus : 5 $ par billet ou 15 billets pour 64 $\n\nIl est aussi possible de se procurer des séries de 15 billets de bain libre au coût de 64 $ (18 ans et plus) ou 38 $ (3 à 17 ans).
URL:https://oselepaysdesbleuets.com/evenement/bain-libre-dolbeau-6-2/2026-04-30/
LOCATION:Complexe sportif Desjardins de Dolbeau-Mistassini\, 1032 Rue des Érables\, Dolbeau-Mistassini\, Québec\, G8L 1C1\, Canada
CATEGORIES:Activités familiales,Sports et plein air
ATTACH;FMTTYPE=image/png:https://oselepaysdesbleuets.com/wp-content/uploads/2024/11/bain-libre.png
END:VEVENT
END:VCALENDAR