BEGIN:VCALENDAR
VERSION:2.0
PRODID:-//Ose le Pays des Bleuets - ECPv6.15.20//NONSGML v1.0//EN
CALSCALE:GREGORIAN
METHOD:PUBLISH
X-WR-CALNAME:Ose le Pays des Bleuets
X-ORIGINAL-URL:https://oselepaysdesbleuets.com
X-WR-CALDESC:Évènements pour Ose le Pays des Bleuets
REFRESH-INTERVAL;VALUE=DURATION:PT1H
X-Robots-Tag:noindex
X-PUBLISHED-TTL:PT1H
BEGIN:VTIMEZONE
TZID:America/Toronto
BEGIN:DAYLIGHT
TZOFFSETFROM:-0500
TZOFFSETTO:-0400
TZNAME:EDT
DTSTART:20230312T070000
END:DAYLIGHT
BEGIN:STANDARD
TZOFFSETFROM:-0400
TZOFFSETTO:-0500
TZNAME:EST
DTSTART:20231105T060000
END:STANDARD
BEGIN:DAYLIGHT
TZOFFSETFROM:-0500
TZOFFSETTO:-0400
TZNAME:EDT
DTSTART:20240310T070000
END:DAYLIGHT
BEGIN:STANDARD
TZOFFSETFROM:-0400
TZOFFSETTO:-0500
TZNAME:EST
DTSTART:20241103T060000
END:STANDARD
BEGIN:DAYLIGHT
TZOFFSETFROM:-0500
TZOFFSETTO:-0400
TZNAME:EDT
DTSTART:20250309T070000
END:DAYLIGHT
BEGIN:STANDARD
TZOFFSETFROM:-0400
TZOFFSETTO:-0500
TZNAME:EST
DTSTART:20251102T060000
END:STANDARD
BEGIN:DAYLIGHT
TZOFFSETFROM:-0500
TZOFFSETTO:-0400
TZNAME:EDT
DTSTART:20260308T070000
END:DAYLIGHT
BEGIN:STANDARD
TZOFFSETFROM:-0400
TZOFFSETTO:-0500
TZNAME:EST
DTSTART:20261101T060000
END:STANDARD
END:VTIMEZONE
BEGIN:VEVENT
DTSTART;TZID=America/Toronto:20250227T090000
DTEND;TZID=America/Toronto:20250227T200000
DTSTAMP:20260419T125647
CREATED:20250224T163912Z
LAST-MODIFIED:20250310T185840Z
UID:10015350-1740646800-1740686400@oselepaysdesbleuets.com
SUMMARY:Relâche 2025 - Zone relâche dans les bibliothèques
DESCRIPTION:Retrouvez dans les bibliothèques du secteur Dolbeau et Mistassini une zone relâche. Au menu: Lego\, casse-têtes\, pâte à modeler\, coloriage et Sudoku! \nBibliothèque secteur Dolbeau \n\nLundi 13 h 00 – 16 h 30\nMardi 13 h 00 – 16 h 30 / 18 h 00 – 19 h 30\nMercredi  9 h 00 – 12 h 00 / 13 h 00 – 16 h 30 / 18 h 00 – 20 h 00\nJeudi 9 h 00 – 12 h 00 / 13 h 00 – 16 h 30 / 18 h 00 – 20 h 00\nVendredi 10 h 00 – 16 h 30\n\nBibliothèque secteur Mistassini \n\nLundi 9 h 00 – 12 h 00\nMardi 9 h 00 – 12 h 00\nMercredi 9 h 00 – 12 h 00 / 13 h 00 – 16 h 00 / 18 h 00 – 20 h 00\nJeudi 9 h 00 – 12 h 00 / 13 h 00 – 16 h 00\nSamedi 9 h 00 – 12 h 00
URL:https://oselepaysdesbleuets.com/evenement/relache-2025-zone-relache-dans-les-bibliotheques/2025-02-27/
LOCATION:Bibliothèque secteur Dolbeau\, 175 4e Avenue\, Dolbeau-Mistassini\, Québec\, QC G8L 1W6\, Canada
CATEGORIES:Loisirs et culture
ATTACH;FMTTYPE=image/png:https://oselepaysdesbleuets.com/wp-content/uploads/2025/02/Relache-2025.png
END:VEVENT
BEGIN:VEVENT
DTSTART;TZID=America/Toronto:20241223T090000
DTEND;TZID=America/Toronto:20241223T160000
DTSTAMP:20260419T125647
CREATED:20241127T194550Z
LAST-MODIFIED:20241203T154218Z
UID:10011751-1734944400-1734969600@oselepaysdesbleuets.com
SUMMARY:Échange de casse-têtes
DESCRIPTION:Apporte un ou plusieurs casse-têtes\nÉchange avec ceux qui sont sur la table\n\nrègle : 1 pour 1! \n\nTu peux également en apporter sans échange\, simplement les laisser sur la table.\n\nMerci de votre participation! \nSelon les heures d’ouvertures des bibliothèques.
URL:https://oselepaysdesbleuets.com/evenement/echange-de-casse-tetes/2024-12-23/
LOCATION:Bibliothèque secteur Dolbeau\, 175 4e Avenue\, Dolbeau-Mistassini\, Québec\, QC G8L 1W6\, Canada
CATEGORIES:Activités familiales,Loisirs et culture
ATTACH;FMTTYPE=image/jpeg:https://oselepaysdesbleuets.com/wp-content/uploads/2024/11/Casse-tete.jpg
END:VEVENT
BEGIN:VEVENT
DTSTART;TZID=America/Toronto:20241222T090000
DTEND;TZID=America/Toronto:20241222T160000
DTSTAMP:20260419T125647
CREATED:20241127T194550Z
LAST-MODIFIED:20241203T154218Z
UID:10011750-1734858000-1734883200@oselepaysdesbleuets.com
SUMMARY:Échange de casse-têtes
DESCRIPTION:Apporte un ou plusieurs casse-têtes\nÉchange avec ceux qui sont sur la table\n\nrègle : 1 pour 1! \n\nTu peux également en apporter sans échange\, simplement les laisser sur la table.\n\nMerci de votre participation! \nSelon les heures d’ouvertures des bibliothèques.
URL:https://oselepaysdesbleuets.com/evenement/echange-de-casse-tetes/2024-12-22/
LOCATION:Bibliothèque secteur Dolbeau\, 175 4e Avenue\, Dolbeau-Mistassini\, Québec\, QC G8L 1W6\, Canada
CATEGORIES:Activités familiales,Loisirs et culture
ATTACH;FMTTYPE=image/jpeg:https://oselepaysdesbleuets.com/wp-content/uploads/2024/11/Casse-tete.jpg
END:VEVENT
BEGIN:VEVENT
DTSTART;TZID=America/Toronto:20241221T090000
DTEND;TZID=America/Toronto:20241221T160000
DTSTAMP:20260419T125647
CREATED:20241127T194550Z
LAST-MODIFIED:20241203T154218Z
UID:10011749-1734771600-1734796800@oselepaysdesbleuets.com
SUMMARY:Échange de casse-têtes
DESCRIPTION:Apporte un ou plusieurs casse-têtes\nÉchange avec ceux qui sont sur la table\n\nrègle : 1 pour 1! \n\nTu peux également en apporter sans échange\, simplement les laisser sur la table.\n\nMerci de votre participation! \nSelon les heures d’ouvertures des bibliothèques.
URL:https://oselepaysdesbleuets.com/evenement/echange-de-casse-tetes/2024-12-21/
LOCATION:Bibliothèque secteur Dolbeau\, 175 4e Avenue\, Dolbeau-Mistassini\, Québec\, QC G8L 1W6\, Canada
CATEGORIES:Activités familiales,Loisirs et culture
ATTACH;FMTTYPE=image/jpeg:https://oselepaysdesbleuets.com/wp-content/uploads/2024/11/Casse-tete.jpg
END:VEVENT
BEGIN:VEVENT
DTSTART;TZID=America/Toronto:20241220T090000
DTEND;TZID=America/Toronto:20241220T160000
DTSTAMP:20260419T125647
CREATED:20241127T194550Z
LAST-MODIFIED:20241203T154218Z
UID:10011748-1734685200-1734710400@oselepaysdesbleuets.com
SUMMARY:Échange de casse-têtes
DESCRIPTION:Apporte un ou plusieurs casse-têtes\nÉchange avec ceux qui sont sur la table\n\nrègle : 1 pour 1! \n\nTu peux également en apporter sans échange\, simplement les laisser sur la table.\n\nMerci de votre participation! \nSelon les heures d’ouvertures des bibliothèques.
URL:https://oselepaysdesbleuets.com/evenement/echange-de-casse-tetes/2024-12-20/
LOCATION:Bibliothèque secteur Dolbeau\, 175 4e Avenue\, Dolbeau-Mistassini\, Québec\, QC G8L 1W6\, Canada
CATEGORIES:Activités familiales,Loisirs et culture
ATTACH;FMTTYPE=image/jpeg:https://oselepaysdesbleuets.com/wp-content/uploads/2024/11/Casse-tete.jpg
END:VEVENT
BEGIN:VEVENT
DTSTART;TZID=America/Toronto:20241219T090000
DTEND;TZID=America/Toronto:20241219T160000
DTSTAMP:20260419T125647
CREATED:20241127T194550Z
LAST-MODIFIED:20241203T154218Z
UID:10011747-1734598800-1734624000@oselepaysdesbleuets.com
SUMMARY:Échange de casse-têtes
DESCRIPTION:Apporte un ou plusieurs casse-têtes\nÉchange avec ceux qui sont sur la table\n\nrègle : 1 pour 1! \n\nTu peux également en apporter sans échange\, simplement les laisser sur la table.\n\nMerci de votre participation! \nSelon les heures d’ouvertures des bibliothèques.
URL:https://oselepaysdesbleuets.com/evenement/echange-de-casse-tetes/2024-12-19/
LOCATION:Bibliothèque secteur Dolbeau\, 175 4e Avenue\, Dolbeau-Mistassini\, Québec\, QC G8L 1W6\, Canada
CATEGORIES:Activités familiales,Loisirs et culture
ATTACH;FMTTYPE=image/jpeg:https://oselepaysdesbleuets.com/wp-content/uploads/2024/11/Casse-tete.jpg
END:VEVENT
BEGIN:VEVENT
DTSTART;TZID=America/Toronto:20241218T090000
DTEND;TZID=America/Toronto:20241218T160000
DTSTAMP:20260419T125647
CREATED:20241127T194550Z
LAST-MODIFIED:20241203T154218Z
UID:10011746-1734512400-1734537600@oselepaysdesbleuets.com
SUMMARY:Échange de casse-têtes
DESCRIPTION:Apporte un ou plusieurs casse-têtes\nÉchange avec ceux qui sont sur la table\n\nrègle : 1 pour 1! \n\nTu peux également en apporter sans échange\, simplement les laisser sur la table.\n\nMerci de votre participation! \nSelon les heures d’ouvertures des bibliothèques.
URL:https://oselepaysdesbleuets.com/evenement/echange-de-casse-tetes/2024-12-18/
LOCATION:Bibliothèque secteur Dolbeau\, 175 4e Avenue\, Dolbeau-Mistassini\, Québec\, QC G8L 1W6\, Canada
CATEGORIES:Activités familiales,Loisirs et culture
ATTACH;FMTTYPE=image/jpeg:https://oselepaysdesbleuets.com/wp-content/uploads/2024/11/Casse-tete.jpg
END:VEVENT
BEGIN:VEVENT
DTSTART;TZID=America/Toronto:20241217T090000
DTEND;TZID=America/Toronto:20241217T160000
DTSTAMP:20260419T125647
CREATED:20241127T194550Z
LAST-MODIFIED:20241203T154218Z
UID:10011745-1734426000-1734451200@oselepaysdesbleuets.com
SUMMARY:Échange de casse-têtes
DESCRIPTION:Apporte un ou plusieurs casse-têtes\nÉchange avec ceux qui sont sur la table\n\nrègle : 1 pour 1! \n\nTu peux également en apporter sans échange\, simplement les laisser sur la table.\n\nMerci de votre participation! \nSelon les heures d’ouvertures des bibliothèques.
URL:https://oselepaysdesbleuets.com/evenement/echange-de-casse-tetes/2024-12-17/
LOCATION:Bibliothèque secteur Dolbeau\, 175 4e Avenue\, Dolbeau-Mistassini\, Québec\, QC G8L 1W6\, Canada
CATEGORIES:Activités familiales,Loisirs et culture
ATTACH;FMTTYPE=image/jpeg:https://oselepaysdesbleuets.com/wp-content/uploads/2024/11/Casse-tete.jpg
END:VEVENT
BEGIN:VEVENT
DTSTART;TZID=America/Toronto:20241216T090000
DTEND;TZID=America/Toronto:20241216T160000
DTSTAMP:20260419T125647
CREATED:20241127T194550Z
LAST-MODIFIED:20241203T154218Z
UID:10011744-1734339600-1734364800@oselepaysdesbleuets.com
SUMMARY:Échange de casse-têtes
DESCRIPTION:Apporte un ou plusieurs casse-têtes\nÉchange avec ceux qui sont sur la table\n\nrègle : 1 pour 1! \n\nTu peux également en apporter sans échange\, simplement les laisser sur la table.\n\nMerci de votre participation! \nSelon les heures d’ouvertures des bibliothèques.
URL:https://oselepaysdesbleuets.com/evenement/echange-de-casse-tetes/2024-12-16/
LOCATION:Bibliothèque secteur Dolbeau\, 175 4e Avenue\, Dolbeau-Mistassini\, Québec\, QC G8L 1W6\, Canada
CATEGORIES:Activités familiales,Loisirs et culture
ATTACH;FMTTYPE=image/jpeg:https://oselepaysdesbleuets.com/wp-content/uploads/2024/11/Casse-tete.jpg
END:VEVENT
BEGIN:VEVENT
DTSTART;TZID=America/Toronto:20241215T090000
DTEND;TZID=America/Toronto:20241215T160000
DTSTAMP:20260419T125647
CREATED:20241127T194550Z
LAST-MODIFIED:20241203T154218Z
UID:10011743-1734253200-1734278400@oselepaysdesbleuets.com
SUMMARY:Échange de casse-têtes
DESCRIPTION:Apporte un ou plusieurs casse-têtes\nÉchange avec ceux qui sont sur la table\n\nrègle : 1 pour 1! \n\nTu peux également en apporter sans échange\, simplement les laisser sur la table.\n\nMerci de votre participation! \nSelon les heures d’ouvertures des bibliothèques.
URL:https://oselepaysdesbleuets.com/evenement/echange-de-casse-tetes/2024-12-15/
LOCATION:Bibliothèque secteur Dolbeau\, 175 4e Avenue\, Dolbeau-Mistassini\, Québec\, QC G8L 1W6\, Canada
CATEGORIES:Activités familiales,Loisirs et culture
ATTACH;FMTTYPE=image/jpeg:https://oselepaysdesbleuets.com/wp-content/uploads/2024/11/Casse-tete.jpg
END:VEVENT
BEGIN:VEVENT
DTSTART;TZID=America/Toronto:20241214T090000
DTEND;TZID=America/Toronto:20241214T160000
DTSTAMP:20260419T125647
CREATED:20241127T194550Z
LAST-MODIFIED:20241203T154218Z
UID:10011742-1734166800-1734192000@oselepaysdesbleuets.com
SUMMARY:Échange de casse-têtes
DESCRIPTION:Apporte un ou plusieurs casse-têtes\nÉchange avec ceux qui sont sur la table\n\nrègle : 1 pour 1! \n\nTu peux également en apporter sans échange\, simplement les laisser sur la table.\n\nMerci de votre participation! \nSelon les heures d’ouvertures des bibliothèques.
URL:https://oselepaysdesbleuets.com/evenement/echange-de-casse-tetes/2024-12-14/
LOCATION:Bibliothèque secteur Dolbeau\, 175 4e Avenue\, Dolbeau-Mistassini\, Québec\, QC G8L 1W6\, Canada
CATEGORIES:Activités familiales,Loisirs et culture
ATTACH;FMTTYPE=image/jpeg:https://oselepaysdesbleuets.com/wp-content/uploads/2024/11/Casse-tete.jpg
END:VEVENT
BEGIN:VEVENT
DTSTART;TZID=America/Toronto:20241213T090000
DTEND;TZID=America/Toronto:20241213T160000
DTSTAMP:20260419T125647
CREATED:20241127T194550Z
LAST-MODIFIED:20241203T154218Z
UID:10011741-1734080400-1734105600@oselepaysdesbleuets.com
SUMMARY:Échange de casse-têtes
DESCRIPTION:Apporte un ou plusieurs casse-têtes\nÉchange avec ceux qui sont sur la table\n\nrègle : 1 pour 1! \n\nTu peux également en apporter sans échange\, simplement les laisser sur la table.\n\nMerci de votre participation! \nSelon les heures d’ouvertures des bibliothèques.
URL:https://oselepaysdesbleuets.com/evenement/echange-de-casse-tetes/2024-12-13/
LOCATION:Bibliothèque secteur Dolbeau\, 175 4e Avenue\, Dolbeau-Mistassini\, Québec\, QC G8L 1W6\, Canada
CATEGORIES:Activités familiales,Loisirs et culture
ATTACH;FMTTYPE=image/jpeg:https://oselepaysdesbleuets.com/wp-content/uploads/2024/11/Casse-tete.jpg
END:VEVENT
BEGIN:VEVENT
DTSTART;TZID=America/Toronto:20241212T090000
DTEND;TZID=America/Toronto:20241212T160000
DTSTAMP:20260419T125647
CREATED:20241127T194550Z
LAST-MODIFIED:20241203T154218Z
UID:10011740-1733994000-1734019200@oselepaysdesbleuets.com
SUMMARY:Échange de casse-têtes
DESCRIPTION:Apporte un ou plusieurs casse-têtes\nÉchange avec ceux qui sont sur la table\n\nrègle : 1 pour 1! \n\nTu peux également en apporter sans échange\, simplement les laisser sur la table.\n\nMerci de votre participation! \nSelon les heures d’ouvertures des bibliothèques.
URL:https://oselepaysdesbleuets.com/evenement/echange-de-casse-tetes/2024-12-12/
LOCATION:Bibliothèque secteur Dolbeau\, 175 4e Avenue\, Dolbeau-Mistassini\, Québec\, QC G8L 1W6\, Canada
CATEGORIES:Activités familiales,Loisirs et culture
ATTACH;FMTTYPE=image/jpeg:https://oselepaysdesbleuets.com/wp-content/uploads/2024/11/Casse-tete.jpg
END:VEVENT
BEGIN:VEVENT
DTSTART;TZID=America/Toronto:20241211T090000
DTEND;TZID=America/Toronto:20241211T160000
DTSTAMP:20260419T125647
CREATED:20241127T194550Z
LAST-MODIFIED:20241203T154218Z
UID:10011739-1733907600-1733932800@oselepaysdesbleuets.com
SUMMARY:Échange de casse-têtes
DESCRIPTION:Apporte un ou plusieurs casse-têtes\nÉchange avec ceux qui sont sur la table\n\nrègle : 1 pour 1! \n\nTu peux également en apporter sans échange\, simplement les laisser sur la table.\n\nMerci de votre participation! \nSelon les heures d’ouvertures des bibliothèques.
URL:https://oselepaysdesbleuets.com/evenement/echange-de-casse-tetes/2024-12-11/
LOCATION:Bibliothèque secteur Dolbeau\, 175 4e Avenue\, Dolbeau-Mistassini\, Québec\, QC G8L 1W6\, Canada
CATEGORIES:Activités familiales,Loisirs et culture
ATTACH;FMTTYPE=image/jpeg:https://oselepaysdesbleuets.com/wp-content/uploads/2024/11/Casse-tete.jpg
END:VEVENT
BEGIN:VEVENT
DTSTART;TZID=America/Toronto:20241210T090000
DTEND;TZID=America/Toronto:20241210T160000
DTSTAMP:20260419T125647
CREATED:20241127T194550Z
LAST-MODIFIED:20241203T154218Z
UID:10011738-1733821200-1733846400@oselepaysdesbleuets.com
SUMMARY:Échange de casse-têtes
DESCRIPTION:Apporte un ou plusieurs casse-têtes\nÉchange avec ceux qui sont sur la table\n\nrègle : 1 pour 1! \n\nTu peux également en apporter sans échange\, simplement les laisser sur la table.\n\nMerci de votre participation! \nSelon les heures d’ouvertures des bibliothèques.
URL:https://oselepaysdesbleuets.com/evenement/echange-de-casse-tetes/2024-12-10/
LOCATION:Bibliothèque secteur Dolbeau\, 175 4e Avenue\, Dolbeau-Mistassini\, Québec\, QC G8L 1W6\, Canada
CATEGORIES:Activités familiales,Loisirs et culture
ATTACH;FMTTYPE=image/jpeg:https://oselepaysdesbleuets.com/wp-content/uploads/2024/11/Casse-tete.jpg
END:VEVENT
BEGIN:VEVENT
DTSTART;TZID=America/Toronto:20241209T090000
DTEND;TZID=America/Toronto:20241209T160000
DTSTAMP:20260419T125647
CREATED:20241127T194550Z
LAST-MODIFIED:20241203T154218Z
UID:10011737-1733734800-1733760000@oselepaysdesbleuets.com
SUMMARY:Échange de casse-têtes
DESCRIPTION:Apporte un ou plusieurs casse-têtes\nÉchange avec ceux qui sont sur la table\n\nrègle : 1 pour 1! \n\nTu peux également en apporter sans échange\, simplement les laisser sur la table.\n\nMerci de votre participation! \nSelon les heures d’ouvertures des bibliothèques.
URL:https://oselepaysdesbleuets.com/evenement/echange-de-casse-tetes/2024-12-09/
LOCATION:Bibliothèque secteur Dolbeau\, 175 4e Avenue\, Dolbeau-Mistassini\, Québec\, QC G8L 1W6\, Canada
CATEGORIES:Activités familiales,Loisirs et culture
ATTACH;FMTTYPE=image/jpeg:https://oselepaysdesbleuets.com/wp-content/uploads/2024/11/Casse-tete.jpg
END:VEVENT
BEGIN:VEVENT
DTSTART;TZID=America/Toronto:20241208T090000
DTEND;TZID=America/Toronto:20241208T160000
DTSTAMP:20260419T125647
CREATED:20241127T194550Z
LAST-MODIFIED:20241203T154218Z
UID:10011736-1733648400-1733673600@oselepaysdesbleuets.com
SUMMARY:Échange de casse-têtes
DESCRIPTION:Apporte un ou plusieurs casse-têtes\nÉchange avec ceux qui sont sur la table\n\nrègle : 1 pour 1! \n\nTu peux également en apporter sans échange\, simplement les laisser sur la table.\n\nMerci de votre participation! \nSelon les heures d’ouvertures des bibliothèques.
URL:https://oselepaysdesbleuets.com/evenement/echange-de-casse-tetes/2024-12-08/
LOCATION:Bibliothèque secteur Dolbeau\, 175 4e Avenue\, Dolbeau-Mistassini\, Québec\, QC G8L 1W6\, Canada
CATEGORIES:Activités familiales,Loisirs et culture
ATTACH;FMTTYPE=image/jpeg:https://oselepaysdesbleuets.com/wp-content/uploads/2024/11/Casse-tete.jpg
END:VEVENT
BEGIN:VEVENT
DTSTART;TZID=America/Toronto:20241207T090000
DTEND;TZID=America/Toronto:20241207T160000
DTSTAMP:20260419T125647
CREATED:20241127T194550Z
LAST-MODIFIED:20241203T154218Z
UID:10011735-1733562000-1733587200@oselepaysdesbleuets.com
SUMMARY:Échange de casse-têtes
DESCRIPTION:Apporte un ou plusieurs casse-têtes\nÉchange avec ceux qui sont sur la table\n\nrègle : 1 pour 1! \n\nTu peux également en apporter sans échange\, simplement les laisser sur la table.\n\nMerci de votre participation! \nSelon les heures d’ouvertures des bibliothèques.
URL:https://oselepaysdesbleuets.com/evenement/echange-de-casse-tetes/2024-12-07/
LOCATION:Bibliothèque secteur Dolbeau\, 175 4e Avenue\, Dolbeau-Mistassini\, Québec\, QC G8L 1W6\, Canada
CATEGORIES:Activités familiales,Loisirs et culture
ATTACH;FMTTYPE=image/jpeg:https://oselepaysdesbleuets.com/wp-content/uploads/2024/11/Casse-tete.jpg
END:VEVENT
BEGIN:VEVENT
DTSTART;TZID=America/Toronto:20241206T090000
DTEND;TZID=America/Toronto:20241206T160000
DTSTAMP:20260419T125647
CREATED:20241127T194550Z
LAST-MODIFIED:20241203T154218Z
UID:10011734-1733475600-1733500800@oselepaysdesbleuets.com
SUMMARY:Échange de casse-têtes
DESCRIPTION:Apporte un ou plusieurs casse-têtes\nÉchange avec ceux qui sont sur la table\n\nrègle : 1 pour 1! \n\nTu peux également en apporter sans échange\, simplement les laisser sur la table.\n\nMerci de votre participation! \nSelon les heures d’ouvertures des bibliothèques.
URL:https://oselepaysdesbleuets.com/evenement/echange-de-casse-tetes/2024-12-06/
LOCATION:Bibliothèque secteur Dolbeau\, 175 4e Avenue\, Dolbeau-Mistassini\, Québec\, QC G8L 1W6\, Canada
CATEGORIES:Activités familiales,Loisirs et culture
ATTACH;FMTTYPE=image/jpeg:https://oselepaysdesbleuets.com/wp-content/uploads/2024/11/Casse-tete.jpg
END:VEVENT
BEGIN:VEVENT
DTSTART;TZID=America/Toronto:20241205T090000
DTEND;TZID=America/Toronto:20241205T160000
DTSTAMP:20260419T125647
CREATED:20241127T194550Z
LAST-MODIFIED:20241203T154218Z
UID:10011733-1733389200-1733414400@oselepaysdesbleuets.com
SUMMARY:Échange de casse-têtes
DESCRIPTION:Apporte un ou plusieurs casse-têtes\nÉchange avec ceux qui sont sur la table\n\nrègle : 1 pour 1! \n\nTu peux également en apporter sans échange\, simplement les laisser sur la table.\n\nMerci de votre participation! \nSelon les heures d’ouvertures des bibliothèques.
URL:https://oselepaysdesbleuets.com/evenement/echange-de-casse-tetes/2024-12-05/
LOCATION:Bibliothèque secteur Dolbeau\, 175 4e Avenue\, Dolbeau-Mistassini\, Québec\, QC G8L 1W6\, Canada
CATEGORIES:Activités familiales,Loisirs et culture
ATTACH;FMTTYPE=image/jpeg:https://oselepaysdesbleuets.com/wp-content/uploads/2024/11/Casse-tete.jpg
END:VEVENT
BEGIN:VEVENT
DTSTART;TZID=America/Toronto:20241204T090000
DTEND;TZID=America/Toronto:20241204T160000
DTSTAMP:20260419T125647
CREATED:20241127T194550Z
LAST-MODIFIED:20241203T154218Z
UID:10011732-1733302800-1733328000@oselepaysdesbleuets.com
SUMMARY:Échange de casse-têtes
DESCRIPTION:Apporte un ou plusieurs casse-têtes\nÉchange avec ceux qui sont sur la table\n\nrègle : 1 pour 1! \n\nTu peux également en apporter sans échange\, simplement les laisser sur la table.\n\nMerci de votre participation! \nSelon les heures d’ouvertures des bibliothèques.
URL:https://oselepaysdesbleuets.com/evenement/echange-de-casse-tetes/2024-12-04/
LOCATION:Bibliothèque secteur Dolbeau\, 175 4e Avenue\, Dolbeau-Mistassini\, Québec\, QC G8L 1W6\, Canada
CATEGORIES:Activités familiales,Loisirs et culture
ATTACH;FMTTYPE=image/jpeg:https://oselepaysdesbleuets.com/wp-content/uploads/2024/11/Casse-tete.jpg
END:VEVENT
BEGIN:VEVENT
DTSTART;TZID=America/Toronto:20241203T090000
DTEND;TZID=America/Toronto:20241203T160000
DTSTAMP:20260419T125647
CREATED:20241127T194550Z
LAST-MODIFIED:20241203T154218Z
UID:10011731-1733216400-1733241600@oselepaysdesbleuets.com
SUMMARY:Échange de casse-têtes
DESCRIPTION:Apporte un ou plusieurs casse-têtes\nÉchange avec ceux qui sont sur la table\n\nrègle : 1 pour 1! \n\nTu peux également en apporter sans échange\, simplement les laisser sur la table.\n\nMerci de votre participation! \nSelon les heures d’ouvertures des bibliothèques.
URL:https://oselepaysdesbleuets.com/evenement/echange-de-casse-tetes/2024-12-03/
LOCATION:Bibliothèque secteur Dolbeau\, 175 4e Avenue\, Dolbeau-Mistassini\, Québec\, QC G8L 1W6\, Canada
CATEGORIES:Activités familiales,Loisirs et culture
ATTACH;FMTTYPE=image/jpeg:https://oselepaysdesbleuets.com/wp-content/uploads/2024/11/Casse-tete.jpg
END:VEVENT
BEGIN:VEVENT
DTSTART;TZID=America/Toronto:20241202T090000
DTEND;TZID=America/Toronto:20241202T160000
DTSTAMP:20260419T125647
CREATED:20241127T194550Z
LAST-MODIFIED:20241203T154218Z
UID:10011730-1733130000-1733155200@oselepaysdesbleuets.com
SUMMARY:Échange de casse-têtes
DESCRIPTION:Apporte un ou plusieurs casse-têtes\nÉchange avec ceux qui sont sur la table\n\nrègle : 1 pour 1! \n\nTu peux également en apporter sans échange\, simplement les laisser sur la table.\n\nMerci de votre participation! \nSelon les heures d’ouvertures des bibliothèques.
URL:https://oselepaysdesbleuets.com/evenement/echange-de-casse-tetes/2024-12-02/
LOCATION:Bibliothèque secteur Dolbeau\, 175 4e Avenue\, Dolbeau-Mistassini\, Québec\, QC G8L 1W6\, Canada
CATEGORIES:Activités familiales,Loisirs et culture
ATTACH;FMTTYPE=image/jpeg:https://oselepaysdesbleuets.com/wp-content/uploads/2024/11/Casse-tete.jpg
END:VEVENT
BEGIN:VEVENT
DTSTART;TZID=America/Toronto:20241201T090000
DTEND;TZID=America/Toronto:20241201T160000
DTSTAMP:20260419T125647
CREATED:20241127T194550Z
LAST-MODIFIED:20241203T154218Z
UID:10011729-1733043600-1733068800@oselepaysdesbleuets.com
SUMMARY:Échange de casse-têtes
DESCRIPTION:Apporte un ou plusieurs casse-têtes\nÉchange avec ceux qui sont sur la table\n\nrègle : 1 pour 1! \n\nTu peux également en apporter sans échange\, simplement les laisser sur la table.\n\nMerci de votre participation! \nSelon les heures d’ouvertures des bibliothèques.
URL:https://oselepaysdesbleuets.com/evenement/echange-de-casse-tetes/2024-12-01/
LOCATION:Bibliothèque secteur Dolbeau\, 175 4e Avenue\, Dolbeau-Mistassini\, Québec\, QC G8L 1W6\, Canada
CATEGORIES:Activités familiales,Loisirs et culture
ATTACH;FMTTYPE=image/jpeg:https://oselepaysdesbleuets.com/wp-content/uploads/2024/11/Casse-tete.jpg
END:VEVENT
BEGIN:VEVENT
DTSTART;TZID=America/Toronto:20241130T090000
DTEND;TZID=America/Toronto:20241130T160000
DTSTAMP:20260419T125647
CREATED:20241127T194550Z
LAST-MODIFIED:20241203T154218Z
UID:10004137-1732957200-1732982400@oselepaysdesbleuets.com
SUMMARY:Échange de casse-têtes
DESCRIPTION:Apporte un ou plusieurs casse-têtes\nÉchange avec ceux qui sont sur la table\n\nrègle : 1 pour 1! \n\nTu peux également en apporter sans échange\, simplement les laisser sur la table.\n\nMerci de votre participation! \nSelon les heures d’ouvertures des bibliothèques.
URL:https://oselepaysdesbleuets.com/evenement/echange-de-casse-tetes/2024-11-30/
LOCATION:Bibliothèque secteur Dolbeau\, 175 4e Avenue\, Dolbeau-Mistassini\, Québec\, QC G8L 1W6\, Canada
CATEGORIES:Activités familiales,Loisirs et culture
ATTACH;FMTTYPE=image/jpeg:https://oselepaysdesbleuets.com/wp-content/uploads/2024/11/Casse-tete.jpg
END:VEVENT
BEGIN:VEVENT
DTSTART;TZID=America/Toronto:20241129T090000
DTEND;TZID=America/Toronto:20241129T160000
DTSTAMP:20260419T125647
CREATED:20241127T194550Z
LAST-MODIFIED:20241203T154218Z
UID:10004136-1732870800-1732896000@oselepaysdesbleuets.com
SUMMARY:Échange de casse-têtes
DESCRIPTION:Apporte un ou plusieurs casse-têtes\nÉchange avec ceux qui sont sur la table\n\nrègle : 1 pour 1! \n\nTu peux également en apporter sans échange\, simplement les laisser sur la table.\n\nMerci de votre participation! \nSelon les heures d’ouvertures des bibliothèques.
URL:https://oselepaysdesbleuets.com/evenement/echange-de-casse-tetes/2024-11-29/
LOCATION:Bibliothèque secteur Dolbeau\, 175 4e Avenue\, Dolbeau-Mistassini\, Québec\, QC G8L 1W6\, Canada
CATEGORIES:Activités familiales,Loisirs et culture
ATTACH;FMTTYPE=image/jpeg:https://oselepaysdesbleuets.com/wp-content/uploads/2024/11/Casse-tete.jpg
END:VEVENT
BEGIN:VEVENT
DTSTART;TZID=America/Toronto:20241128T090000
DTEND;TZID=America/Toronto:20241128T160000
DTSTAMP:20260419T125647
CREATED:20241127T194550Z
LAST-MODIFIED:20241203T154218Z
UID:10004135-1732784400-1732809600@oselepaysdesbleuets.com
SUMMARY:Échange de casse-têtes
DESCRIPTION:Apporte un ou plusieurs casse-têtes\nÉchange avec ceux qui sont sur la table\n\nrègle : 1 pour 1! \n\nTu peux également en apporter sans échange\, simplement les laisser sur la table.\n\nMerci de votre participation! \nSelon les heures d’ouvertures des bibliothèques.
URL:https://oselepaysdesbleuets.com/evenement/echange-de-casse-tetes/2024-11-28/
LOCATION:Bibliothèque secteur Dolbeau\, 175 4e Avenue\, Dolbeau-Mistassini\, Québec\, QC G8L 1W6\, Canada
CATEGORIES:Activités familiales,Loisirs et culture
ATTACH;FMTTYPE=image/jpeg:https://oselepaysdesbleuets.com/wp-content/uploads/2024/11/Casse-tete.jpg
END:VEVENT
BEGIN:VEVENT
DTSTART;TZID=America/Toronto:20241127T090000
DTEND;TZID=America/Toronto:20241127T160000
DTSTAMP:20260419T125647
CREATED:20241127T194550Z
LAST-MODIFIED:20241203T154218Z
UID:10004134-1732698000-1732723200@oselepaysdesbleuets.com
SUMMARY:Échange de casse-têtes
DESCRIPTION:Apporte un ou plusieurs casse-têtes\nÉchange avec ceux qui sont sur la table\n\nrègle : 1 pour 1! \n\nTu peux également en apporter sans échange\, simplement les laisser sur la table.\n\nMerci de votre participation! \nSelon les heures d’ouvertures des bibliothèques.
URL:https://oselepaysdesbleuets.com/evenement/echange-de-casse-tetes/2024-11-27/
LOCATION:Bibliothèque secteur Dolbeau\, 175 4e Avenue\, Dolbeau-Mistassini\, Québec\, QC G8L 1W6\, Canada
CATEGORIES:Activités familiales,Loisirs et culture
ATTACH;FMTTYPE=image/jpeg:https://oselepaysdesbleuets.com/wp-content/uploads/2024/11/Casse-tete.jpg
END:VEVENT
BEGIN:VEVENT
DTSTART;TZID=America/Toronto:20241126T090000
DTEND;TZID=America/Toronto:20241126T160000
DTSTAMP:20260419T125647
CREATED:20241127T194550Z
LAST-MODIFIED:20241203T154218Z
UID:10004133-1732611600-1732636800@oselepaysdesbleuets.com
SUMMARY:Échange de casse-têtes
DESCRIPTION:Apporte un ou plusieurs casse-têtes\nÉchange avec ceux qui sont sur la table\n\nrègle : 1 pour 1! \n\nTu peux également en apporter sans échange\, simplement les laisser sur la table.\n\nMerci de votre participation! \nSelon les heures d’ouvertures des bibliothèques.
URL:https://oselepaysdesbleuets.com/evenement/echange-de-casse-tetes/2024-11-26/
LOCATION:Bibliothèque secteur Dolbeau\, 175 4e Avenue\, Dolbeau-Mistassini\, Québec\, QC G8L 1W6\, Canada
CATEGORIES:Activités familiales,Loisirs et culture
ATTACH;FMTTYPE=image/jpeg:https://oselepaysdesbleuets.com/wp-content/uploads/2024/11/Casse-tete.jpg
END:VEVENT
BEGIN:VEVENT
DTSTART;TZID=America/Toronto:20241125T090000
DTEND;TZID=America/Toronto:20241125T160000
DTSTAMP:20260419T125647
CREATED:20241127T194550Z
LAST-MODIFIED:20241203T154218Z
UID:10004132-1732525200-1732550400@oselepaysdesbleuets.com
SUMMARY:Échange de casse-têtes
DESCRIPTION:Apporte un ou plusieurs casse-têtes\nÉchange avec ceux qui sont sur la table\n\nrègle : 1 pour 1! \n\nTu peux également en apporter sans échange\, simplement les laisser sur la table.\n\nMerci de votre participation! \nSelon les heures d’ouvertures des bibliothèques.
URL:https://oselepaysdesbleuets.com/evenement/echange-de-casse-tetes/2024-11-25/
LOCATION:Bibliothèque secteur Dolbeau\, 175 4e Avenue\, Dolbeau-Mistassini\, Québec\, QC G8L 1W6\, Canada
CATEGORIES:Activités familiales,Loisirs et culture
ATTACH;FMTTYPE=image/jpeg:https://oselepaysdesbleuets.com/wp-content/uploads/2024/11/Casse-tete.jpg
END:VEVENT
END:VCALENDAR