BEGIN:VCALENDAR
VERSION:2.0
PRODID:-//Ose le Pays des Bleuets - ECPv6.15.20//NONSGML v1.0//EN
CALSCALE:GREGORIAN
METHOD:PUBLISH
X-WR-CALNAME:Ose le Pays des Bleuets
X-ORIGINAL-URL:https://oselepaysdesbleuets.com
X-WR-CALDESC:Évènements pour Ose le Pays des Bleuets
REFRESH-INTERVAL;VALUE=DURATION:PT1H
X-Robots-Tag:noindex
X-PUBLISHED-TTL:PT1H
BEGIN:VTIMEZONE
TZID:America/Toronto
BEGIN:DAYLIGHT
TZOFFSETFROM:-0500
TZOFFSETTO:-0400
TZNAME:EDT
DTSTART:20240310T070000
END:DAYLIGHT
BEGIN:STANDARD
TZOFFSETFROM:-0400
TZOFFSETTO:-0500
TZNAME:EST
DTSTART:20241103T060000
END:STANDARD
BEGIN:DAYLIGHT
TZOFFSETFROM:-0500
TZOFFSETTO:-0400
TZNAME:EDT
DTSTART:20250309T070000
END:DAYLIGHT
BEGIN:STANDARD
TZOFFSETFROM:-0400
TZOFFSETTO:-0500
TZNAME:EST
DTSTART:20251102T060000
END:STANDARD
BEGIN:DAYLIGHT
TZOFFSETFROM:-0500
TZOFFSETTO:-0400
TZNAME:EDT
DTSTART:20260308T070000
END:DAYLIGHT
BEGIN:STANDARD
TZOFFSETFROM:-0400
TZOFFSETTO:-0500
TZNAME:EST
DTSTART:20261101T060000
END:STANDARD
BEGIN:DAYLIGHT
TZOFFSETFROM:-0500
TZOFFSETTO:-0400
TZNAME:EDT
DTSTART:20270314T070000
END:DAYLIGHT
BEGIN:STANDARD
TZOFFSETFROM:-0400
TZOFFSETTO:-0500
TZNAME:EST
DTSTART:20271107T060000
END:STANDARD
END:VTIMEZONE
BEGIN:VEVENT
DTSTART;TZID=America/Toronto:20260205T153000
DTEND;TZID=America/Toronto:20260205T200000
DTSTAMP:20260417T201037
CREATED:20260203T202352Z
LAST-MODIFIED:20260203T202352Z
UID:10030120-1770305400-1770321600@oselepaysdesbleuets.com
SUMMARY:Bingo Normandin
DESCRIPTION:
URL:https://oselepaysdesbleuets.com/evenement/bingo-normandin/
LOCATION:Centre communautaire Normandin\, 1070 Av. des Écoles\, Normandin\, Québec\, G8M 3Z2\, Canada
ATTACH;FMTTYPE=image/jpeg:https://oselepaysdesbleuets.com/wp-content/uploads/2026/02/Bingo-normandin.jpg
END:VEVENT
BEGIN:VEVENT
DTSTART;TZID=America/Toronto:20260204T130000
DTEND;TZID=America/Toronto:20260204T150000
DTSTAMP:20260417T201037
CREATED:20260203T203155Z
LAST-MODIFIED:20260203T203155Z
UID:10030121-1770210000-1770217200@oselepaysdesbleuets.com
SUMMARY:Café rencontre
DESCRIPTION:
URL:https://oselepaysdesbleuets.com/evenement/cafe-rencontre-2/2026-02-04/
LOCATION:Centre communautaire Normandin\, 1070 Av. des Écoles\, Normandin\, Québec\, G8M 3Z2\, Canada
CATEGORIES:Activités gratuites,Loisirs et culture
ATTACH;FMTTYPE=image/jpeg:https://oselepaysdesbleuets.com/wp-content/uploads/2026/02/Cafe-rencontre.jpg
END:VEVENT
BEGIN:VEVENT
DTSTART;TZID=America/Toronto:20260118T130000
DTEND;TZID=America/Toronto:20260118T160000
DTSTAMP:20260417T201037
CREATED:20260115T182046Z
LAST-MODIFIED:20260115T182046Z
UID:10030090-1768741200-1768752000@oselepaysdesbleuets.com
SUMMARY:Danse country
DESCRIPTION:Amateurs de Danse Country Pop vous êtes invités en grand nombre
URL:https://oselepaysdesbleuets.com/evenement/danse-country/
LOCATION:Centre communautaire Normandin\, 1070 Av. des Écoles\, Normandin\, Québec\, G8M 3Z2\, Canada
CATEGORIES:Activités familiales,Sports et plein air
ATTACH;FMTTYPE=image/jpeg:https://oselepaysdesbleuets.com/wp-content/uploads/2026/01/Danse-country-normandin.jpg
END:VEVENT
BEGIN:VEVENT
DTSTART;TZID=America/Toronto:20260114T130000
DTEND;TZID=America/Toronto:20260114T150000
DTSTAMP:20260417T201037
CREATED:20260105T192316Z
LAST-MODIFIED:20260105T192316Z
UID:10029257-1768395600-1768402800@oselepaysdesbleuets.com
SUMMARY:Café rencontre
DESCRIPTION:Discussion\, jeu\, etc. \nIl y a une erreur sur l’image\, la date est bien pour le mercredi 14 janvier.
URL:https://oselepaysdesbleuets.com/evenement/cafe-rencontre/
LOCATION:Centre communautaire Normandin\, 1070 Av. des Écoles\, Normandin\, Québec\, G8M 3Z2\, Canada
CATEGORIES:Loisirs et culture
ATTACH;FMTTYPE=image/jpeg:https://oselepaysdesbleuets.com/wp-content/uploads/2026/01/Cafe-rencontre.jpg
END:VEVENT
BEGIN:VEVENT
DTSTART;TZID=America/Toronto:20260108T153000
DTEND;TZID=America/Toronto:20260108T203000
DTSTAMP:20260417T201037
CREATED:20260105T192529Z
LAST-MODIFIED:20260105T192549Z
UID:10029258-1767886200-1767904200@oselepaysdesbleuets.com
SUMMARY:Grand bingo
DESCRIPTION:
URL:https://oselepaysdesbleuets.com/evenement/grand-bingo/
LOCATION:Centre communautaire Normandin\, 1070 Av. des Écoles\, Normandin\, Québec\, G8M 3Z2\, Canada
CATEGORIES:Loisirs et culture
ATTACH;FMTTYPE=image/jpeg:https://oselepaysdesbleuets.com/wp-content/uploads/2026/01/Grand-bingo.jpg
END:VEVENT
BEGIN:VEVENT
DTSTART;TZID=America/Toronto:20251214T130000
DTEND;TZID=America/Toronto:20251214T160000
DTSTAMP:20260417T201037
CREATED:20251208T183757Z
LAST-MODIFIED:20251208T183757Z
UID:10029198-1765717200-1765728000@oselepaysdesbleuets.com
SUMMARY:Dimanche Country
DESCRIPTION:
URL:https://oselepaysdesbleuets.com/evenement/dimanche-country/
LOCATION:Centre communautaire Normandin\, 1070 Av. des Écoles\, Normandin\, Québec\, G8M 3Z2\, Canada
ATTACH;FMTTYPE=image/jpeg:https://oselepaysdesbleuets.com/wp-content/uploads/2025/12/Dimanche-country-2025.jpg
END:VEVENT
BEGIN:VEVENT
DTSTART;TZID=America/Toronto:20251116T130000
DTEND;TZID=America/Toronto:20251116T160000
DTSTAMP:20260417T201037
CREATED:20251114T140039Z
LAST-MODIFIED:20251114T140039Z
UID:10028778-1763298000-1763308800@oselepaysdesbleuets.com
SUMMARY:Après-midi de danse country
DESCRIPTION:Une belle après-midi de danse pour tous!!!\n1070 Av. des Écoles Normandin\n\nCoût: 10\,00$\nEnfants: Gratuit\n\nBienvenue à tous!!!
URL:https://oselepaysdesbleuets.com/evenement/apres-midi-de-danse-country/
LOCATION:Centre communautaire Normandin\, 1070 Av. des Écoles\, Normandin\, Québec\, G8M 3Z2\, Canada
CATEGORIES:Activités familiales,Loisirs et culture,Sports et plein air
ATTACH;FMTTYPE=image/jpeg:https://oselepaysdesbleuets.com/wp-content/uploads/2025/11/Dimanche-country.jpg
END:VEVENT
BEGIN:VEVENT
DTSTART;TZID=America/Toronto:20251004T193000
DTEND;TZID=America/Toronto:20251004T233000
DTSTAMP:20260417T201037
CREATED:20251002T140119Z
LAST-MODIFIED:20251002T140119Z
UID:10020127-1759606200-1759620600@oselepaysdesbleuets.com
SUMMARY:Soirée de danse country/pop
DESCRIPTION:Soirée de danse County/Pop\n\n19h30 à 20h00 Danse de partenaire\n20h00 Danse pour tous!!\n\n100% Demande spéciale\n\nVous pouvez apporter vos consommations\n\nCoût: 15\,00$\nBienvenue à Tous!!!
URL:https://oselepaysdesbleuets.com/evenement/soiree-de-danse-country-pop/
LOCATION:Centre communautaire Normandin\, 1070 Av. des Écoles\, Normandin\, Québec\, G8M 3Z2\, Canada
CATEGORIES:Loisirs et culture,Sports et plein air
ATTACH;FMTTYPE=image/jpeg:https://oselepaysdesbleuets.com/wp-content/uploads/2025/10/Soiree-de-danse-country-pop.jpg
END:VEVENT
BEGIN:VEVENT
DTSTART;TZID=America/Toronto:20250307T100000
DTEND;TZID=America/Toronto:20250307T110000
DTSTAMP:20260417T201037
CREATED:20250225T200908Z
LAST-MODIFIED:20250225T200908Z
UID:10016119-1741341600-1741345200@oselepaysdesbleuets.com
SUMMARY:Relâche 2025 - Bingo en famille
DESCRIPTION:Viens t’amuser en participant à un bingo spécial de la relâche! \nInscris-toi au 418 274-2004 p3255. \n 
URL:https://oselepaysdesbleuets.com/evenement/relache-2025-bingo-en-famille/
LOCATION:Centre communautaire Normandin\, 1070 Av. des Écoles\, Normandin\, Québec\, G8M 3Z2\, Canada
CATEGORIES:Loisirs et culture
ATTACH;FMTTYPE=image/jpeg:https://oselepaysdesbleuets.com/wp-content/uploads/2025/02/Relache-2025-Normandin.jpg
END:VEVENT
END:VCALENDAR