BEGIN:VCALENDAR
VERSION:2.0
PRODID:-//Ose le Pays des Bleuets - ECPv6.15.20//NONSGML v1.0//EN
CALSCALE:GREGORIAN
METHOD:PUBLISH
X-WR-CALNAME:Ose le Pays des Bleuets
X-ORIGINAL-URL:https://oselepaysdesbleuets.com
X-WR-CALDESC:Évènements pour Ose le Pays des Bleuets
REFRESH-INTERVAL;VALUE=DURATION:PT1H
X-Robots-Tag:noindex
X-PUBLISHED-TTL:PT1H
BEGIN:VTIMEZONE
TZID:America/Toronto
BEGIN:DAYLIGHT
TZOFFSETFROM:-0500
TZOFFSETTO:-0400
TZNAME:EDT
DTSTART:20230312T070000
END:DAYLIGHT
BEGIN:STANDARD
TZOFFSETFROM:-0400
TZOFFSETTO:-0500
TZNAME:EST
DTSTART:20231105T060000
END:STANDARD
BEGIN:DAYLIGHT
TZOFFSETFROM:-0500
TZOFFSETTO:-0400
TZNAME:EDT
DTSTART:20240310T070000
END:DAYLIGHT
BEGIN:STANDARD
TZOFFSETFROM:-0400
TZOFFSETTO:-0500
TZNAME:EST
DTSTART:20241103T060000
END:STANDARD
BEGIN:DAYLIGHT
TZOFFSETFROM:-0500
TZOFFSETTO:-0400
TZNAME:EDT
DTSTART:20250309T070000
END:DAYLIGHT
BEGIN:STANDARD
TZOFFSETFROM:-0400
TZOFFSETTO:-0500
TZNAME:EST
DTSTART:20251102T060000
END:STANDARD
BEGIN:DAYLIGHT
TZOFFSETFROM:-0500
TZOFFSETTO:-0400
TZNAME:EDT
DTSTART:20260308T070000
END:DAYLIGHT
BEGIN:STANDARD
TZOFFSETFROM:-0400
TZOFFSETTO:-0500
TZNAME:EST
DTSTART:20261101T060000
END:STANDARD
END:VTIMEZONE
BEGIN:VEVENT
DTSTART;TZID=America/Toronto:20250413T080000
DTEND;TZID=America/Toronto:20250413T170000
DTSTAMP:20260419T105154
CREATED:20250331T140023Z
LAST-MODIFIED:20250403T180334Z
UID:10018828-1744531200-1744563600@oselepaysdesbleuets.com
SUMMARY:Sport - Tournoi familial de Hockey Normandin
DESCRIPTION:Le traditionnel Tournoi familial de Normandin aura lieu du 11 au 13 avril au Centre sportif de Normandin. Venez encourager les différentes équipes inscrites au tournoi durant ces 3 jours. Plaisir garanti ! \n 
URL:https://oselepaysdesbleuets.com/evenement/sport-tournoi-familial-de-hockey-normandin/2025-04-13/
LOCATION:Centre sportif Normandin\, 975 rue du centre sportif\, Normandin\, Québec\, G8M 4L7\, Canada
CATEGORIES:Sports et plein air
ATTACH;FMTTYPE=image/jpeg:https://oselepaysdesbleuets.com/wp-content/uploads/2025/03/Tournoi-hockey.jpg
END:VEVENT
BEGIN:VEVENT
DTSTART;TZID=America/Toronto:20250412T080000
DTEND;TZID=America/Toronto:20250412T220000
DTSTAMP:20260419T105154
CREATED:20250331T140023Z
LAST-MODIFIED:20250403T180334Z
UID:10018827-1744444800-1744495200@oselepaysdesbleuets.com
SUMMARY:Sport - Tournoi familial de Hockey Normandin
DESCRIPTION:Le traditionnel Tournoi familial de Normandin aura lieu du 11 au 13 avril au Centre sportif de Normandin. Venez encourager les différentes équipes inscrites au tournoi durant ces 3 jours. Plaisir garanti ! \n 
URL:https://oselepaysdesbleuets.com/evenement/sport-tournoi-familial-de-hockey-normandin/2025-04-12/
LOCATION:Centre sportif Normandin\, 975 rue du centre sportif\, Normandin\, Québec\, G8M 4L7\, Canada
CATEGORIES:Sports et plein air
ATTACH;FMTTYPE=image/jpeg:https://oselepaysdesbleuets.com/wp-content/uploads/2025/03/Tournoi-hockey.jpg
END:VEVENT
BEGIN:VEVENT
DTSTART;TZID=America/Toronto:20250411T180000
DTEND;TZID=America/Toronto:20250411T230000
DTSTAMP:20260419T105154
CREATED:20250331T140023Z
LAST-MODIFIED:20250403T180334Z
UID:10018826-1744394400-1744412400@oselepaysdesbleuets.com
SUMMARY:Sport - Tournoi familial de Hockey Normandin
DESCRIPTION:Le traditionnel Tournoi familial de Normandin aura lieu du 11 au 13 avril au Centre sportif de Normandin. Venez encourager les différentes équipes inscrites au tournoi durant ces 3 jours. Plaisir garanti ! \n 
URL:https://oselepaysdesbleuets.com/evenement/sport-tournoi-familial-de-hockey-normandin/2025-04-11/
LOCATION:Centre sportif Normandin\, 975 rue du centre sportif\, Normandin\, Québec\, G8M 4L7\, Canada
CATEGORIES:Sports et plein air
ATTACH;FMTTYPE=image/jpeg:https://oselepaysdesbleuets.com/wp-content/uploads/2025/03/Tournoi-hockey.jpg
END:VEVENT
BEGIN:VEVENT
DTSTART;TZID=America/Toronto:20250306T130000
DTEND;TZID=America/Toronto:20250306T143000
DTSTAMP:20260419T105154
CREATED:20250225T200618Z
LAST-MODIFIED:20250225T200618Z
UID:10016118-1741266000-1741271400@oselepaysdesbleuets.com
SUMMARY:Relâche 2025 - Disco patin
DESCRIPTION:Musique et lumière seront au rendez-vous pour cette disco patin ouverte à tous!
URL:https://oselepaysdesbleuets.com/evenement/relache-2025-disco-patin/
LOCATION:Centre sportif Normandin\, 975 rue du centre sportif\, Normandin\, Québec\, G8M 4L7\, Canada
CATEGORIES:Activités familiales,Sports et plein air
ATTACH;FMTTYPE=image/jpeg:https://oselepaysdesbleuets.com/wp-content/uploads/2025/02/Relache-2025-Normandin.jpg
END:VEVENT
BEGIN:VEVENT
DTSTART;TZID=America/Toronto:20250303T130000
DTEND;TZID=America/Toronto:20250303T150000
DTSTAMP:20260419T105154
CREATED:20250225T195656Z
LAST-MODIFIED:20250225T195656Z
UID:10016115-1741006800-1741014000@oselepaysdesbleuets.com
SUMMARY:Relâche 2025 - Atelier de Gumboots
DESCRIPTION:Viens découvrir le Gumboots\, une danse traditionnelle sur-africaine. \nInscris-toi au 418 274-2004 p3255.
URL:https://oselepaysdesbleuets.com/evenement/relache-2025-atelier-de-gumboots/
LOCATION:Centre sportif Normandin\, 975 rue du centre sportif\, Normandin\, Québec\, G8M 4L7\, Canada
CATEGORIES:Sports et plein air
ATTACH;FMTTYPE=image/jpeg:https://oselepaysdesbleuets.com/wp-content/uploads/2025/02/Relache-2025-Normandin.jpg
END:VEVENT
BEGIN:VEVENT
DTSTART;TZID=America/Toronto:20250119T140000
DTEND;TZID=America/Toronto:20250119T150000
DTSTAMP:20260419T105154
CREATED:20250116T144038Z
LAST-MODIFIED:20250116T144038Z
UID:10012684-1737295200-1737298800@oselepaysdesbleuets.com
SUMMARY:Sport - Patinage libre
DESCRIPTION:
URL:https://oselepaysdesbleuets.com/evenement/sport-patinage-libre-11/
LOCATION:Centre sportif Normandin\, 975 rue du centre sportif\, Normandin\, Québec\, G8M 4L7\, Canada
CATEGORIES:Activités familiales,Sports et plein air
ATTACH;FMTTYPE=image/jpeg:https://oselepaysdesbleuets.com/wp-content/uploads/2024/10/Patinage-libre-Normandin.jpg
END:VEVENT
BEGIN:VEVENT
DTSTART;TZID=America/Toronto:20241201T123000
DTEND;TZID=America/Toronto:20241201T140000
DTSTAMP:20260419T105154
CREATED:20241125T181508Z
LAST-MODIFIED:20241125T181508Z
UID:10004121-1733056200-1733061600@oselepaysdesbleuets.com
SUMMARY:Sport - Patinage libre
DESCRIPTION:
URL:https://oselepaysdesbleuets.com/evenement/sport-patinage-libre/2024-12-01/
LOCATION:Centre sportif Normandin\, 975 rue du centre sportif\, Normandin\, Québec\, G8M 4L7\, Canada
CATEGORIES:Activités familiales,Loisirs et culture,Sports et plein air
ATTACH;FMTTYPE=image/jpeg:https://oselepaysdesbleuets.com/wp-content/uploads/2024/10/Patinage-libre-Normandin.jpg
END:VEVENT
BEGIN:VEVENT
DTSTART;TZID=America/Toronto:20241128T093000
DTEND;TZID=America/Toronto:20241128T103000
DTSTAMP:20260419T105154
CREATED:20241125T181508Z
LAST-MODIFIED:20241125T181508Z
UID:10004120-1732786200-1732789800@oselepaysdesbleuets.com
SUMMARY:Sport - Patinage libre
DESCRIPTION:
URL:https://oselepaysdesbleuets.com/evenement/sport-patinage-libre/2024-11-28/
LOCATION:Centre sportif Normandin\, 975 rue du centre sportif\, Normandin\, Québec\, G8M 4L7\, Canada
CATEGORIES:Activités familiales,Loisirs et culture,Sports et plein air
ATTACH;FMTTYPE=image/jpeg:https://oselepaysdesbleuets.com/wp-content/uploads/2024/10/Patinage-libre-Normandin.jpg
END:VEVENT
BEGIN:VEVENT
DTSTART;TZID=America/Toronto:20241127T093000
DTEND;TZID=America/Toronto:20241127T103000
DTSTAMP:20260419T105154
CREATED:20241125T181815Z
LAST-MODIFIED:20241125T181815Z
UID:10004122-1732699800-1732703400@oselepaysdesbleuets.com
SUMMARY:Sport - Patinage libre aînés et adultes
DESCRIPTION:
URL:https://oselepaysdesbleuets.com/evenement/sport-patinage-libre-aines-et-adultes/
LOCATION:Centre sportif Normandin\, 975 rue du centre sportif\, Normandin\, Québec\, G8M 4L7\, Canada
CATEGORIES:Loisirs et culture,Sports et plein air
ATTACH;FMTTYPE=image/jpeg:https://oselepaysdesbleuets.com/wp-content/uploads/2024/10/Patinage-libre-Normandin.jpg
END:VEVENT
BEGIN:VEVENT
DTSTART;TZID=America/Toronto:20241125T183000
DTEND;TZID=America/Toronto:20241125T193000
DTSTAMP:20260419T105154
CREATED:20241125T181508Z
LAST-MODIFIED:20241125T181508Z
UID:10004119-1732559400-1732563000@oselepaysdesbleuets.com
SUMMARY:Sport - Patinage libre
DESCRIPTION:
URL:https://oselepaysdesbleuets.com/evenement/sport-patinage-libre/2024-11-25/
LOCATION:Centre sportif Normandin\, 975 rue du centre sportif\, Normandin\, Québec\, G8M 4L7\, Canada
CATEGORIES:Activités familiales,Loisirs et culture,Sports et plein air
ATTACH;FMTTYPE=image/jpeg:https://oselepaysdesbleuets.com/wp-content/uploads/2024/10/Patinage-libre-Normandin.jpg
END:VEVENT
BEGIN:VEVENT
DTSTART;TZID=America/Toronto:20241124T130000
DTEND;TZID=America/Toronto:20241124T140000
DTSTAMP:20260419T105154
CREATED:20241119T190055Z
LAST-MODIFIED:20241119T190055Z
UID:10004102-1732453200-1732456800@oselepaysdesbleuets.com
SUMMARY:Patinage libre - Normandin
DESCRIPTION:
URL:https://oselepaysdesbleuets.com/evenement/patinage-libre-normandin/
LOCATION:Centre sportif Normandin\, 975 rue du centre sportif\, Normandin\, Québec\, G8M 4L7\, Canada
CATEGORIES:Sports et plein air
ATTACH;FMTTYPE=image/jpeg:https://oselepaysdesbleuets.com/wp-content/uploads/2024/10/Patinage-libre-Normandin.jpg
END:VEVENT
BEGIN:VEVENT
DTSTART;TZID=America/Toronto:20241109T083000
DTEND;TZID=America/Toronto:20241109T163000
DTSTAMP:20260419T105154
CREATED:20241022T133152Z
LAST-MODIFIED:20241022T133233Z
UID:10003963-1731141000-1731169800@oselepaysdesbleuets.com
SUMMARY:Cours - Gardiens\, gardiennes averties
DESCRIPTION:Inscription pour les 11 ans et plus : www.formaction.ca/formation-gardiens-avertis \nParticularité : L’enfant doit apporter: lunch froid\, papier\, crayon et un toutou ou une poupée. \nInfo : Service des loisirs de Normandin
URL:https://oselepaysdesbleuets.com/evenement/cours-gardiens-gardiennes-averties/
LOCATION:Centre sportif Normandin\, 975 rue du centre sportif\, Normandin\, Québec\, G8M 4L7\, Canada
CATEGORIES:Conférences et formations
ATTACH;FMTTYPE=image/jpeg:https://oselepaysdesbleuets.com/wp-content/uploads/2024/10/Cours-gardien-avertis.jpg
END:VEVENT
BEGIN:VEVENT
DTSTART;TZID=America/Toronto:20241026T203000
DTEND;TZID=America/Toronto:20241026T223000
DTSTAMP:20260419T105154
CREATED:20240924T142546Z
LAST-MODIFIED:20240924T142746Z
UID:10003425-1729974600-1729981800@oselepaysdesbleuets.com
SUMMARY:L'après Halloween sur St-Cyrille
DESCRIPTION:Invitation au Party d’Halloween de l’Année \n\nLes ténèbres tombent\, les créatures se réveillent\, et il est temps de se rassembler pour la nuit la plus terrifiante de l’année ! \n\nVous êtes officiellement invités à notre soirée post Halloween sur St-Cyrille ! Préparez-vous à une soirée remplie de frissons\, de costumes effrayants et d’aventures mystérieuses !\n\n Au programme:\n– Concours du meilleur costume\n– Musique endiablée et danses macabres\n– Cocktails monstrueux\n\nDéguisement non obligatoire\, mais pourquoi pas  Le plus effrayant\, le plus fun ou le plus original – à vous de choisir !\n\nBillets en vente au Dépanneur Futur Concept et au Familiprix extra Janie Larouche \n\nNous avons hâte de vous voir… si vous survivez à la nuit !
URL:https://oselepaysdesbleuets.com/evenement/lapres-halloween-sur-st-cyrille/
LOCATION:Centre sportif Normandin\, 975 rue du centre sportif\, Normandin\, Québec\, G8M 4L7\, Canada
CATEGORIES:Activités familiales
ATTACH;FMTTYPE=image/jpeg:https://oselepaysdesbleuets.com/wp-content/uploads/2024/09/lapres-halloween-sur-st-cyrille.jpg
END:VEVENT
BEGIN:VEVENT
DTSTART;TZID=America/Toronto:20241026T090000
DTEND;TZID=America/Toronto:20241026T140000
DTSTAMP:20260419T105154
CREATED:20241022T132045Z
LAST-MODIFIED:20241022T132139Z
UID:10003961-1729933200-1729951200@oselepaysdesbleuets.com
SUMMARY:Cours - Prêt à rester seul
DESCRIPTION:Salle en haut du Centre sportif \nInscription pour les 9 ans et plus\, sur le site de Formaction* : https://www.formaction.ca/formation-gardiens-avertis \nParticularité : L’enfant doit apporter un lunch froid\, papier et crayon.\nInfo : Service des loisirs de Normandin
URL:https://oselepaysdesbleuets.com/evenement/cours-pret-a-rester-seul/
LOCATION:Centre sportif Normandin\, 975 rue du centre sportif\, Normandin\, Québec\, G8M 4L7\, Canada
CATEGORIES:Conférences et formations
ATTACH;FMTTYPE=image/jpeg:https://oselepaysdesbleuets.com/wp-content/uploads/2024/10/cours-pret-a-rester-seul.jpg
END:VEVENT
BEGIN:VEVENT
DTSTART;TZID=America/Toronto:20241006T130000
DTEND;TZID=America/Toronto:20241006T140000
DTSTAMP:20260419T105154
CREATED:20241003T171440Z
LAST-MODIFIED:20241003T171440Z
UID:10003458-1728219600-1728223200@oselepaysdesbleuets.com
SUMMARY:Patinage libre
DESCRIPTION:
URL:https://oselepaysdesbleuets.com/evenement/patinage-libre/
LOCATION:Centre sportif Normandin\, 975 rue du centre sportif\, Normandin\, Québec\, G8M 4L7\, Canada
CATEGORIES:Activités familiales,Sports et plein air
ATTACH;FMTTYPE=image/jpeg:https://oselepaysdesbleuets.com/wp-content/uploads/2024/10/Patinage-libre-Normandin.jpg
END:VEVENT
END:VCALENDAR