BEGIN:VCALENDAR
VERSION:2.0
PRODID:-//Ose le Pays des Bleuets - ECPv6.15.20//NONSGML v1.0//EN
CALSCALE:GREGORIAN
METHOD:PUBLISH
X-ORIGINAL-URL:https://oselepaysdesbleuets.com
X-WR-CALDESC:Évènements pour Ose le Pays des Bleuets
REFRESH-INTERVAL;VALUE=DURATION:PT1H
X-Robots-Tag:noindex
X-PUBLISHED-TTL:PT1H
BEGIN:VTIMEZONE
TZID:America/Toronto
BEGIN:DAYLIGHT
TZOFFSETFROM:-0500
TZOFFSETTO:-0400
TZNAME:EDT
DTSTART:20230312T070000
END:DAYLIGHT
BEGIN:STANDARD
TZOFFSETFROM:-0400
TZOFFSETTO:-0500
TZNAME:EST
DTSTART:20231105T060000
END:STANDARD
BEGIN:DAYLIGHT
TZOFFSETFROM:-0500
TZOFFSETTO:-0400
TZNAME:EDT
DTSTART:20240310T070000
END:DAYLIGHT
BEGIN:STANDARD
TZOFFSETFROM:-0400
TZOFFSETTO:-0500
TZNAME:EST
DTSTART:20241103T060000
END:STANDARD
BEGIN:DAYLIGHT
TZOFFSETFROM:-0500
TZOFFSETTO:-0400
TZNAME:EDT
DTSTART:20250309T070000
END:DAYLIGHT
BEGIN:STANDARD
TZOFFSETFROM:-0400
TZOFFSETTO:-0500
TZNAME:EST
DTSTART:20251102T060000
END:STANDARD
BEGIN:DAYLIGHT
TZOFFSETFROM:-0500
TZOFFSETTO:-0400
TZNAME:EDT
DTSTART:20260308T070000
END:DAYLIGHT
BEGIN:STANDARD
TZOFFSETFROM:-0400
TZOFFSETTO:-0500
TZNAME:EST
DTSTART:20261101T060000
END:STANDARD
BEGIN:DAYLIGHT
TZOFFSETFROM:-0500
TZOFFSETTO:-0400
TZNAME:EDT
DTSTART:20270314T070000
END:DAYLIGHT
BEGIN:STANDARD
TZOFFSETFROM:-0400
TZOFFSETTO:-0500
TZNAME:EST
DTSTART:20271107T060000
END:STANDARD
END:VTIMEZONE
BEGIN:VEVENT
DTSTART;TZID=America/Toronto:20260214T180000
DTEND;TZID=America/Toronto:20260214T200000
DTSTAMP:20260419T224232
CREATED:20260205T203103Z
LAST-MODIFIED:20260205T203103Z
UID:10030149-1771092000-1771099200@oselepaysdesbleuets.com
SUMMARY:Expérience sensorielle - Souper dans le noir
DESCRIPTION:Vendredi 13 et samedi 14 février 2026\n\nDéroulement lors de ces deux soirées:\nLors de votre arrivée\, vous serez accueillie par un membre de l’équipe qui se chargera de faire de cette expérience\, une soirée durant laquelle où tous vos sens seront en éveil.\n\nDes informations concernant le déroulement de la soirée seront transmises lorsque tous les participants seront bien installé à leur table. Nous fermerons ensuite toutes les lumières.\nToutes vos commandes de boissons seront prises avant de rentrer dans le noir total.\n\nAviser s’il y a des allergies ou des limitations alimentaires.\n\nTous les appareils qui produisent de la luminosité sont interdits pour le respect des autres participants.
URL:https://oselepaysdesbleuets.com/evenement/experience-sensorielle-souper-dans-le-noir/2026-02-14/
LOCATION:Cuisine Fusion Météore\, 1504 boulevard Wallberg\, Dolbeau-Mistassini\, Québec\, G8L 1H4\, Canada
CATEGORIES:Loisirs et culture
ATTACH;FMTTYPE=image/jpeg:https://oselepaysdesbleuets.com/wp-content/uploads/2026/02/Souper-dans-le-noir.jpg
END:VEVENT
BEGIN:VEVENT
DTSTART;TZID=America/Toronto:20260213T180000
DTEND;TZID=America/Toronto:20260213T200000
DTSTAMP:20260419T224232
CREATED:20260205T203103Z
LAST-MODIFIED:20260205T203103Z
UID:10030148-1771005600-1771012800@oselepaysdesbleuets.com
SUMMARY:Expérience sensorielle - Souper dans le noir
DESCRIPTION:Vendredi 13 et samedi 14 février 2026\n\nDéroulement lors de ces deux soirées:\nLors de votre arrivée\, vous serez accueillie par un membre de l’équipe qui se chargera de faire de cette expérience\, une soirée durant laquelle où tous vos sens seront en éveil.\n\nDes informations concernant le déroulement de la soirée seront transmises lorsque tous les participants seront bien installé à leur table. Nous fermerons ensuite toutes les lumières.\nToutes vos commandes de boissons seront prises avant de rentrer dans le noir total.\n\nAviser s’il y a des allergies ou des limitations alimentaires.\n\nTous les appareils qui produisent de la luminosité sont interdits pour le respect des autres participants.
URL:https://oselepaysdesbleuets.com/evenement/experience-sensorielle-souper-dans-le-noir/2026-02-13/
LOCATION:Cuisine Fusion Météore\, 1504 boulevard Wallberg\, Dolbeau-Mistassini\, Québec\, G8L 1H4\, Canada
CATEGORIES:Loisirs et culture
ATTACH;FMTTYPE=image/jpeg:https://oselepaysdesbleuets.com/wp-content/uploads/2026/02/Souper-dans-le-noir.jpg
END:VEVENT
BEGIN:VEVENT
DTSTART;VALUE=DATE:20260128
DTEND;VALUE=DATE:20260201
DTSTAMP:20260419T224232
CREATED:20260115T182649Z
LAST-MODIFIED:20260115T182707Z
UID:10030091-1769558400-1769903999@oselepaysdesbleuets.com
SUMMARY:Plein la vue\, plein les papilles
DESCRIPTION:𝐷𝑢 28 𝑎𝑢 31 𝑗𝑎𝑛𝑣𝑖𝑒𝑟 2026\, 𝑙’𝑎𝑟𝑡 𝑒𝑡 𝑙𝑎 𝑔𝑎𝑠𝑡𝑟𝑜𝑛𝑜𝑚𝑖𝑒 𝑠𝑒 𝑟𝑒𝑛𝑐𝑜𝑛𝑡𝑟𝑒𝑛𝑡 𝑎𝑢 𝑅𝑒𝑠𝑡𝑎𝑢𝑟𝑎𝑛𝑡 𝐶𝑢𝑖𝑠𝑖𝑛𝑒 𝐹𝑢𝑠𝑖𝑜𝑛 𝑀𝑒́𝑡𝑒́𝑜𝑟𝑒 𝑝𝑜𝑢𝑟 𝑢𝑛𝑒 𝑒𝑥𝑝𝑒́𝑟𝑖𝑒𝑛𝑐𝑒 𝑠𝑒𝑛𝑠𝑜𝑟𝑖𝑒𝑙𝑙𝑒 𝑢𝑛𝑖𝑞𝑢𝑒. \n𝑃𝑒𝑖𝑛𝑡𝑢𝑟𝑒𝑠\, 𝑒́𝑚𝑜𝑡𝑖𝑜𝑛𝑠\, 𝑒́𝑐ℎ𝑎𝑛𝑔𝑒𝑠\, 𝑠𝑎𝑣𝑒𝑢𝑟𝑠…\n𝑡𝑜𝑢𝑡 𝑦 𝑠𝑒𝑟𝑎 𝑝𝑜𝑢𝑟 𝑛𝑜𝑢𝑟𝑟𝑖𝑟 𝑙’𝑎̂𝑚𝑒 𝑒𝑡 𝑙𝑒𝑠 𝑠𝑒𝑛𝑠. \n𝑀𝑒𝑟𝑐𝑟𝑒𝑑𝑖 28 𝑗𝑎𝑛𝑣𝑖𝑒𝑟 — 𝑠𝑜𝑖𝑟𝑒́𝑒 𝑎𝑣𝑒𝑐 𝑙𝑒𝑠 𝑎𝑟𝑡𝑖𝑠𝑡𝑒𝑠\n17 ℎ : 𝑐𝑜𝑐𝑘𝑡𝑎𝑖𝑙 𝑑𝑒 𝑏𝑖𝑒𝑛𝑣𝑒𝑛𝑢𝑒 (non inclus)\n18 ℎ : 𝑠𝑜𝑢𝑝𝑒𝑟-𝑣𝑒𝑟𝑛𝑖𝑠𝑎𝑔𝑒 \n𝑉𝑒𝑛𝑒𝑧 𝑣𝑜𝑖𝑟.\n𝑉𝑒𝑛𝑒𝑧 𝑚𝑎𝑛𝑔𝑒𝑟.\n𝑉𝑖𝑣𝑒𝑧 𝑙’𝑒𝑥𝑝𝑒́𝑟𝑖𝑒𝑛𝑐𝑒. \n𝐸𝑡 𝑠𝑖 𝑣𝑜𝑢𝑠 𝑚𝑎𝑛𝑞𝑢𝑒𝑧 𝑙𝑒 𝑠𝑜𝑢𝑝𝑒𝑟-𝑣𝑒𝑟𝑛𝑖𝑠𝑎𝑔𝑒\, 𝑖𝑙 𝑠𝑒𝑟𝑎 𝑡𝑜𝑢𝑗𝑜𝑢𝑟𝑠 𝑝𝑜𝑠𝑠𝑖𝑏𝑙𝑒 𝑑𝑒 𝑣𝑒𝑛𝑖𝑟 𝑎𝑑𝑚𝑖𝑟𝑒𝑟 𝑛𝑜𝑠 œ𝑢𝑣𝑟𝑒𝑠 𝑎𝑢 𝑑𝑒́𝑗𝑒𝑢𝑛𝑒𝑟\, 𝑎𝑢 𝑑𝑖̂𝑛𝑒𝑟 𝑜𝑢 𝑎𝑢 𝑠𝑜𝑢𝑝𝑒𝑟 𝑑𝑢𝑟𝑎𝑛𝑡 𝑡𝑜𝑢𝑡𝑒 𝑙𝑎 𝑑𝑢𝑟𝑒́𝑒 𝑑𝑒 𝑙’𝑒́𝑣𝑒́𝑛𝑒𝑚𝑒𝑛𝑡. \n𝐴𝑢 𝑝𝑙𝑎𝑖𝑠𝑖𝑟 𝑑𝑒 𝑣𝑜𝑢𝑠 𝑦 𝑟𝑒𝑛𝑐𝑜𝑛𝑡𝑟𝑒r!
URL:https://oselepaysdesbleuets.com/evenement/plein-la-vue-plein-les-papilles/
LOCATION:Cuisine Fusion Météore\, 1504 boulevard Wallberg\, Dolbeau-Mistassini\, Québec\, G8L 1H4\, Canada
CATEGORIES:Agrotourisme,Arts et culture
ATTACH;FMTTYPE=image/jpeg:https://oselepaysdesbleuets.com/wp-content/uploads/2026/01/Plein-la-vue-plein-les-papilles.jpg
END:VEVENT
BEGIN:VEVENT
DTSTART;TZID=America/Toronto:20251025T180000
DTEND;TZID=America/Toronto:20251025T210000
DTSTAMP:20260419T224232
CREATED:20251002T133157Z
LAST-MODIFIED:20251002T133157Z
UID:10020122-1761415200-1761426000@oselepaysdesbleuets.com
SUMMARY:Activité bénéfice - Éveil des sens
DESCRIPTION:Le samedi 25 octobre\, Cuisine Fusion Météore s’illuminera sous le concept original : ÉVEIL DES SENS\n\nVivez une expérience UNIQUE où 9 artistes\, 5 chefs\, 1 sommelière et 1 mixologue unissent leur créativité pour vous offrir une soirée hors du commun\, au cœur du Cuisine Fusion Météore.\nUn cocktail dînatoire artistique & gastronomique\, sous la présidence d’honneur de madame Laurie Marois\, artiste peintre\, viendra rehausser cette expérience.\nUne soirée immersive où l’art rencontre la gastronomie !\n\n️Les artistes créent en direct\, dispersés à travers les espaces du restaurant\, transformés pour l’occasion en galeries vivantes.\nLes chefs proposent des créations culinaires raffinées\, chacune inspirée de l’univers singulier de chaque artiste. Une sommelière et un mixologue subliment le tout avec des accords audacieux et des créations sur mesure.\n\nDéambulez librement entre les zones\, laissez-vous surprendre par les œuvres en pleine naissance\, et savourez l’harmonie entre art visuel et gastronomie.\nPoint culminant de la soirée : l’Art Challenge.�Sous les défis du public\, les artistes réalisent leurs derniers gestes en direct\, dans un esprit de performance et de dépassement.️La soirée se clôture par l’enchère des œuvres\, au profit du Club Rotary de Dolbeau-Mistassini — une occasion parfaite d’acquérir une pièce unique tout en soutenant une bonne cause.\n\nCode vestimentaireStyle critique d’art – un mélange de Cruella et Le diable s’habille en PradaStyle Titanic – comme si vous aviez une place en première classeStyle “Je m’invente une vie” – et tout le monde croit que vous connaissez vraiment l’art\n\nVenez célébrer l’art\, la gastronomie et la solidarité — pour une bonne cause ! Cet événement reflète à merveille la mission du Rotary : créer ensemble\, unir nos forces et bâtir un impact durable pour notre communauté.
URL:https://oselepaysdesbleuets.com/evenement/activite-benefice-eveil-des-sens/
LOCATION:Cuisine Fusion Météore\, 1504 boulevard Wallberg\, Dolbeau-Mistassini\, Québec\, G8L 1H4\, Canada
CATEGORIES:Arts et culture,Spectacles et festivals
ATTACH;FMTTYPE=image/jpeg:https://oselepaysdesbleuets.com/wp-content/uploads/2025/10/Eveil-des-sens.jpg
END:VEVENT
BEGIN:VEVENT
DTSTART;TZID=America/Toronto:20241108T180000
DTEND;TZID=America/Toronto:20241108T200000
DTSTAMP:20260419T224232
CREATED:20241030T154040Z
LAST-MODIFIED:20241030T154040Z
UID:10003973-1731088800-1731096000@oselepaysdesbleuets.com
SUMMARY:Souper bénéfice au Cuisine Fusion Météore
DESCRIPTION:Souper bénéfice le vendredi 8 novembre 2024 au profit du Groupe Espoir pour la maison de répit pour personnes en situation d’handicape. \nAchat de vos billets auprès de la présidente d’honneur\, Mme Nadya Tremblay à l’adresse courriel suivante : tremblaynad@yahoo.ca ou directement au restaurant Cuisine Fusion Météore.
URL:https://oselepaysdesbleuets.com/evenement/souper-benefice-au-cuisine-fusion-meteore/
LOCATION:Cuisine Fusion Météore\, 1504 boulevard Wallberg\, Dolbeau-Mistassini\, Québec\, G8L 1H4\, Canada
CATEGORIES:Activités familiales,Agrotourisme,Loisirs et culture
ATTACH;FMTTYPE=image/jpeg:https://oselepaysdesbleuets.com/wp-content/uploads/2024/10/Souper-benefice.jpg
END:VEVENT
END:VCALENDAR