BEGIN:VCALENDAR
VERSION:2.0
PRODID:-//Ose le Pays des Bleuets - ECPv6.15.20//NONSGML v1.0//EN
CALSCALE:GREGORIAN
METHOD:PUBLISH
X-ORIGINAL-URL:https://oselepaysdesbleuets.com
X-WR-CALDESC:Évènements pour Ose le Pays des Bleuets
REFRESH-INTERVAL;VALUE=DURATION:PT1H
X-Robots-Tag:noindex
X-PUBLISHED-TTL:PT1H
BEGIN:VTIMEZONE
TZID:America/Toronto
BEGIN:DAYLIGHT
TZOFFSETFROM:-0500
TZOFFSETTO:-0400
TZNAME:EDT
DTSTART:20230312T070000
END:DAYLIGHT
BEGIN:STANDARD
TZOFFSETFROM:-0400
TZOFFSETTO:-0500
TZNAME:EST
DTSTART:20231105T060000
END:STANDARD
BEGIN:DAYLIGHT
TZOFFSETFROM:-0500
TZOFFSETTO:-0400
TZNAME:EDT
DTSTART:20240310T070000
END:DAYLIGHT
BEGIN:STANDARD
TZOFFSETFROM:-0400
TZOFFSETTO:-0500
TZNAME:EST
DTSTART:20241103T060000
END:STANDARD
BEGIN:DAYLIGHT
TZOFFSETFROM:-0500
TZOFFSETTO:-0400
TZNAME:EDT
DTSTART:20250309T070000
END:DAYLIGHT
BEGIN:STANDARD
TZOFFSETFROM:-0400
TZOFFSETTO:-0500
TZNAME:EST
DTSTART:20251102T060000
END:STANDARD
BEGIN:DAYLIGHT
TZOFFSETFROM:-0500
TZOFFSETTO:-0400
TZNAME:EDT
DTSTART:20260308T070000
END:DAYLIGHT
BEGIN:STANDARD
TZOFFSETFROM:-0400
TZOFFSETTO:-0500
TZNAME:EST
DTSTART:20261101T060000
END:STANDARD
END:VTIMEZONE
BEGIN:VEVENT
DTSTART;TZID=America/Toronto:20250613T080000
DTEND;TZID=America/Toronto:20250613T170000
DTSTAMP:20260420T033936
CREATED:20250604T133607Z
LAST-MODIFIED:20250604T133607Z
UID:10019518-1749801600-1749834000@oselepaysdesbleuets.com
SUMMARY:Exposition - L'inclusion en mouvement
DESCRIPTION:Heures d’ouverture\n\n\n\nLundi 13 h 00 – 16 h 30\n\n\nMardi 13 h 00 – 16 h 30 / 18 h 00 – 19 h 30\n\n\nMercredi 10 h 00 – 16 h 30 / 18 h 00 – 20 h 00\n\n\nJeudi 10 h 00 – 16 h 30 / 18 h 00 – 20 h 00\n\n\nVendredi 10 h 00 – 16 h 30\n\n\nSamedi FERMÉ\n\n\nDimanche FERMÉ
URL:https://oselepaysdesbleuets.com/evenement/exposition-linclusion-en-mouvement/2025-06-13/
LOCATION:L’espace\, 175 4ème Avenue\, Dolbeau-Mistassini\, Québec\, G8L 1W6\, Canada
CATEGORIES:Activités familiales,Activités gratuites,Arts et culture,Loisirs et culture
ATTACH;FMTTYPE=image/jpeg:https://oselepaysdesbleuets.com/wp-content/uploads/2025/06/Exposition-linclusion-en-mouvement.jpg
ORGANIZER;CN="L'Espace":MAILTO:espacedolmis@gmail.com
END:VEVENT
BEGIN:VEVENT
DTSTART;TZID=America/Toronto:20250612T080000
DTEND;TZID=America/Toronto:20250612T170000
DTSTAMP:20260420T033936
CREATED:20250604T133607Z
LAST-MODIFIED:20250604T133607Z
UID:10019517-1749715200-1749747600@oselepaysdesbleuets.com
SUMMARY:Exposition - L'inclusion en mouvement
DESCRIPTION:Heures d’ouverture\n\n\n\nLundi 13 h 00 – 16 h 30\n\n\nMardi 13 h 00 – 16 h 30 / 18 h 00 – 19 h 30\n\n\nMercredi 10 h 00 – 16 h 30 / 18 h 00 – 20 h 00\n\n\nJeudi 10 h 00 – 16 h 30 / 18 h 00 – 20 h 00\n\n\nVendredi 10 h 00 – 16 h 30\n\n\nSamedi FERMÉ\n\n\nDimanche FERMÉ
URL:https://oselepaysdesbleuets.com/evenement/exposition-linclusion-en-mouvement/2025-06-12/
LOCATION:L’espace\, 175 4ème Avenue\, Dolbeau-Mistassini\, Québec\, G8L 1W6\, Canada
CATEGORIES:Activités familiales,Activités gratuites,Arts et culture,Loisirs et culture
ATTACH;FMTTYPE=image/jpeg:https://oselepaysdesbleuets.com/wp-content/uploads/2025/06/Exposition-linclusion-en-mouvement.jpg
ORGANIZER;CN="L'Espace":MAILTO:espacedolmis@gmail.com
END:VEVENT
BEGIN:VEVENT
DTSTART;TZID=America/Toronto:20250611T080000
DTEND;TZID=America/Toronto:20250611T170000
DTSTAMP:20260420T033936
CREATED:20250604T133607Z
LAST-MODIFIED:20250604T133607Z
UID:10019516-1749628800-1749661200@oselepaysdesbleuets.com
SUMMARY:Exposition - L'inclusion en mouvement
DESCRIPTION:Heures d’ouverture\n\n\n\nLundi 13 h 00 – 16 h 30\n\n\nMardi 13 h 00 – 16 h 30 / 18 h 00 – 19 h 30\n\n\nMercredi 10 h 00 – 16 h 30 / 18 h 00 – 20 h 00\n\n\nJeudi 10 h 00 – 16 h 30 / 18 h 00 – 20 h 00\n\n\nVendredi 10 h 00 – 16 h 30\n\n\nSamedi FERMÉ\n\n\nDimanche FERMÉ
URL:https://oselepaysdesbleuets.com/evenement/exposition-linclusion-en-mouvement/2025-06-11/
LOCATION:L’espace\, 175 4ème Avenue\, Dolbeau-Mistassini\, Québec\, G8L 1W6\, Canada
CATEGORIES:Activités familiales,Activités gratuites,Arts et culture,Loisirs et culture
ATTACH;FMTTYPE=image/jpeg:https://oselepaysdesbleuets.com/wp-content/uploads/2025/06/Exposition-linclusion-en-mouvement.jpg
ORGANIZER;CN="L'Espace":MAILTO:espacedolmis@gmail.com
END:VEVENT
BEGIN:VEVENT
DTSTART;TZID=America/Toronto:20250610T080000
DTEND;TZID=America/Toronto:20250610T170000
DTSTAMP:20260420T033936
CREATED:20250604T133607Z
LAST-MODIFIED:20250604T133607Z
UID:10019515-1749542400-1749574800@oselepaysdesbleuets.com
SUMMARY:Exposition - L'inclusion en mouvement
DESCRIPTION:Heures d’ouverture\n\n\n\nLundi 13 h 00 – 16 h 30\n\n\nMardi 13 h 00 – 16 h 30 / 18 h 00 – 19 h 30\n\n\nMercredi 10 h 00 – 16 h 30 / 18 h 00 – 20 h 00\n\n\nJeudi 10 h 00 – 16 h 30 / 18 h 00 – 20 h 00\n\n\nVendredi 10 h 00 – 16 h 30\n\n\nSamedi FERMÉ\n\n\nDimanche FERMÉ
URL:https://oselepaysdesbleuets.com/evenement/exposition-linclusion-en-mouvement/2025-06-10/
LOCATION:L’espace\, 175 4ème Avenue\, Dolbeau-Mistassini\, Québec\, G8L 1W6\, Canada
CATEGORIES:Activités familiales,Activités gratuites,Arts et culture,Loisirs et culture
ATTACH;FMTTYPE=image/jpeg:https://oselepaysdesbleuets.com/wp-content/uploads/2025/06/Exposition-linclusion-en-mouvement.jpg
ORGANIZER;CN="L'Espace":MAILTO:espacedolmis@gmail.com
END:VEVENT
BEGIN:VEVENT
DTSTART;TZID=America/Toronto:20250609T080000
DTEND;TZID=America/Toronto:20250609T170000
DTSTAMP:20260420T033936
CREATED:20250604T133607Z
LAST-MODIFIED:20250604T133607Z
UID:10019514-1749456000-1749488400@oselepaysdesbleuets.com
SUMMARY:Exposition - L'inclusion en mouvement
DESCRIPTION:Heures d’ouverture\n\n\n\nLundi 13 h 00 – 16 h 30\n\n\nMardi 13 h 00 – 16 h 30 / 18 h 00 – 19 h 30\n\n\nMercredi 10 h 00 – 16 h 30 / 18 h 00 – 20 h 00\n\n\nJeudi 10 h 00 – 16 h 30 / 18 h 00 – 20 h 00\n\n\nVendredi 10 h 00 – 16 h 30\n\n\nSamedi FERMÉ\n\n\nDimanche FERMÉ
URL:https://oselepaysdesbleuets.com/evenement/exposition-linclusion-en-mouvement/2025-06-09/
LOCATION:L’espace\, 175 4ème Avenue\, Dolbeau-Mistassini\, Québec\, G8L 1W6\, Canada
CATEGORIES:Activités familiales,Activités gratuites,Arts et culture,Loisirs et culture
ATTACH;FMTTYPE=image/jpeg:https://oselepaysdesbleuets.com/wp-content/uploads/2025/06/Exposition-linclusion-en-mouvement.jpg
ORGANIZER;CN="L'Espace":MAILTO:espacedolmis@gmail.com
END:VEVENT
BEGIN:VEVENT
DTSTART;TZID=America/Toronto:20250606T080000
DTEND;TZID=America/Toronto:20250606T170000
DTSTAMP:20260420T033936
CREATED:20250604T133607Z
LAST-MODIFIED:20250604T133607Z
UID:10019513-1749196800-1749229200@oselepaysdesbleuets.com
SUMMARY:Exposition - L'inclusion en mouvement
DESCRIPTION:Heures d’ouverture\n\n\n\nLundi 13 h 00 – 16 h 30\n\n\nMardi 13 h 00 – 16 h 30 / 18 h 00 – 19 h 30\n\n\nMercredi 10 h 00 – 16 h 30 / 18 h 00 – 20 h 00\n\n\nJeudi 10 h 00 – 16 h 30 / 18 h 00 – 20 h 00\n\n\nVendredi 10 h 00 – 16 h 30\n\n\nSamedi FERMÉ\n\n\nDimanche FERMÉ
URL:https://oselepaysdesbleuets.com/evenement/exposition-linclusion-en-mouvement/2025-06-06/
LOCATION:L’espace\, 175 4ème Avenue\, Dolbeau-Mistassini\, Québec\, G8L 1W6\, Canada
CATEGORIES:Activités familiales,Activités gratuites,Arts et culture,Loisirs et culture
ATTACH;FMTTYPE=image/jpeg:https://oselepaysdesbleuets.com/wp-content/uploads/2025/06/Exposition-linclusion-en-mouvement.jpg
ORGANIZER;CN="L'Espace":MAILTO:espacedolmis@gmail.com
END:VEVENT
BEGIN:VEVENT
DTSTART;TZID=America/Toronto:20250605T080000
DTEND;TZID=America/Toronto:20250605T170000
DTSTAMP:20260420T033936
CREATED:20250604T133607Z
LAST-MODIFIED:20250604T133607Z
UID:10019512-1749110400-1749142800@oselepaysdesbleuets.com
SUMMARY:Exposition - L'inclusion en mouvement
DESCRIPTION:Heures d’ouverture\n\n\n\nLundi 13 h 00 – 16 h 30\n\n\nMardi 13 h 00 – 16 h 30 / 18 h 00 – 19 h 30\n\n\nMercredi 10 h 00 – 16 h 30 / 18 h 00 – 20 h 00\n\n\nJeudi 10 h 00 – 16 h 30 / 18 h 00 – 20 h 00\n\n\nVendredi 10 h 00 – 16 h 30\n\n\nSamedi FERMÉ\n\n\nDimanche FERMÉ
URL:https://oselepaysdesbleuets.com/evenement/exposition-linclusion-en-mouvement/2025-06-05/
LOCATION:L’espace\, 175 4ème Avenue\, Dolbeau-Mistassini\, Québec\, G8L 1W6\, Canada
CATEGORIES:Activités familiales,Activités gratuites,Arts et culture,Loisirs et culture
ATTACH;FMTTYPE=image/jpeg:https://oselepaysdesbleuets.com/wp-content/uploads/2025/06/Exposition-linclusion-en-mouvement.jpg
ORGANIZER;CN="L'Espace":MAILTO:espacedolmis@gmail.com
END:VEVENT
BEGIN:VEVENT
DTSTART;TZID=America/Toronto:20250604T080000
DTEND;TZID=America/Toronto:20250604T170000
DTSTAMP:20260420T033936
CREATED:20250604T133607Z
LAST-MODIFIED:20250604T133607Z
UID:10019511-1749024000-1749056400@oselepaysdesbleuets.com
SUMMARY:Exposition - L'inclusion en mouvement
DESCRIPTION:Heures d’ouverture\n\n\n\nLundi 13 h 00 – 16 h 30\n\n\nMardi 13 h 00 – 16 h 30 / 18 h 00 – 19 h 30\n\n\nMercredi 10 h 00 – 16 h 30 / 18 h 00 – 20 h 00\n\n\nJeudi 10 h 00 – 16 h 30 / 18 h 00 – 20 h 00\n\n\nVendredi 10 h 00 – 16 h 30\n\n\nSamedi FERMÉ\n\n\nDimanche FERMÉ
URL:https://oselepaysdesbleuets.com/evenement/exposition-linclusion-en-mouvement/2025-06-04/
LOCATION:L’espace\, 175 4ème Avenue\, Dolbeau-Mistassini\, Québec\, G8L 1W6\, Canada
CATEGORIES:Activités familiales,Activités gratuites,Arts et culture,Loisirs et culture
ATTACH;FMTTYPE=image/jpeg:https://oselepaysdesbleuets.com/wp-content/uploads/2025/06/Exposition-linclusion-en-mouvement.jpg
ORGANIZER;CN="L'Espace":MAILTO:espacedolmis@gmail.com
END:VEVENT
BEGIN:VEVENT
DTSTART;TZID=America/Toronto:20250603T080000
DTEND;TZID=America/Toronto:20250603T170000
DTSTAMP:20260420T033936
CREATED:20250604T133607Z
LAST-MODIFIED:20250604T133607Z
UID:10019510-1748937600-1748970000@oselepaysdesbleuets.com
SUMMARY:Exposition - L'inclusion en mouvement
DESCRIPTION:Heures d’ouverture\n\n\n\nLundi 13 h 00 – 16 h 30\n\n\nMardi 13 h 00 – 16 h 30 / 18 h 00 – 19 h 30\n\n\nMercredi 10 h 00 – 16 h 30 / 18 h 00 – 20 h 00\n\n\nJeudi 10 h 00 – 16 h 30 / 18 h 00 – 20 h 00\n\n\nVendredi 10 h 00 – 16 h 30\n\n\nSamedi FERMÉ\n\n\nDimanche FERMÉ
URL:https://oselepaysdesbleuets.com/evenement/exposition-linclusion-en-mouvement/2025-06-03/
LOCATION:L’espace\, 175 4ème Avenue\, Dolbeau-Mistassini\, Québec\, G8L 1W6\, Canada
CATEGORIES:Activités familiales,Activités gratuites,Arts et culture,Loisirs et culture
ATTACH;FMTTYPE=image/jpeg:https://oselepaysdesbleuets.com/wp-content/uploads/2025/06/Exposition-linclusion-en-mouvement.jpg
ORGANIZER;CN="L'Espace":MAILTO:espacedolmis@gmail.com
END:VEVENT
BEGIN:VEVENT
DTSTART;TZID=America/Toronto:20250602T080000
DTEND;TZID=America/Toronto:20250602T170000
DTSTAMP:20260420T033936
CREATED:20250604T133607Z
LAST-MODIFIED:20250604T133607Z
UID:10019509-1748851200-1748883600@oselepaysdesbleuets.com
SUMMARY:Exposition - L'inclusion en mouvement
DESCRIPTION:Heures d’ouverture\n\n\n\nLundi 13 h 00 – 16 h 30\n\n\nMardi 13 h 00 – 16 h 30 / 18 h 00 – 19 h 30\n\n\nMercredi 10 h 00 – 16 h 30 / 18 h 00 – 20 h 00\n\n\nJeudi 10 h 00 – 16 h 30 / 18 h 00 – 20 h 00\n\n\nVendredi 10 h 00 – 16 h 30\n\n\nSamedi FERMÉ\n\n\nDimanche FERMÉ
URL:https://oselepaysdesbleuets.com/evenement/exposition-linclusion-en-mouvement/2025-06-02/
LOCATION:L’espace\, 175 4ème Avenue\, Dolbeau-Mistassini\, Québec\, G8L 1W6\, Canada
CATEGORIES:Activités familiales,Activités gratuites,Arts et culture,Loisirs et culture
ATTACH;FMTTYPE=image/jpeg:https://oselepaysdesbleuets.com/wp-content/uploads/2025/06/Exposition-linclusion-en-mouvement.jpg
ORGANIZER;CN="L'Espace":MAILTO:espacedolmis@gmail.com
END:VEVENT
BEGIN:VEVENT
DTSTART;TZID=America/Toronto:20250306T130000
DTEND;TZID=America/Toronto:20250306T160000
DTSTAMP:20260420T033936
CREATED:20250224T143616Z
LAST-MODIFIED:20250226T194754Z
UID:10013779-1741266000-1741276800@oselepaysdesbleuets.com
SUMMARY:Relâche 2025 - Après-midi Mario Kart
DESCRIPTION:Relâche 2025 \nVenez partager un moment père-enfant agréable pendant un après-midi Mario Kart. \nUne collaboration du CRH Optimum.
URL:https://oselepaysdesbleuets.com/evenement/relache-2025-apres-midi-mario-kart/
LOCATION:L’espace\, 175 4ème Avenue\, Dolbeau-Mistassini\, Québec\, G8L 1W6\, Canada
CATEGORIES:Activités familiales,Loisirs et culture
ATTACH;FMTTYPE=image/jpeg:https://oselepaysdesbleuets.com/wp-content/uploads/2025/02/Mariokart.jpg
END:VEVENT
BEGIN:VEVENT
DTSTART;TZID=America/Toronto:20241029T183000
DTEND;TZID=America/Toronto:20241029T200000
DTSTAMP:20260420T033936
CREATED:20241008T150248Z
LAST-MODIFIED:20241008T150248Z
UID:10003536-1730226600-1730232000@oselepaysdesbleuets.com
SUMMARY:Café\, biscuits et tricot
DESCRIPTION:Plongez dans l’univers du tricot avec Caroline Tremblay lors de notre atelier convivial ce soir à l’Espace. Que vous teniez des aiguilles pour la première fois ou que vous soyez un tricoteur chevronné\, venez partager votre passion et élargir votre palette de techniques. N’oubliez pas d’apporter votre matériel (aiguilles\, laine\, etc.) pour profiter pleinement de cette soirée. \nEntrée libre et gratuite – Venez nombreux pour une soirée de détente et de créativité.
URL:https://oselepaysdesbleuets.com/evenement/cafe-biscuits-et-tricot/2024-10-29/
LOCATION:L’espace\, 175 4ème Avenue\, Dolbeau-Mistassini\, Québec\, G8L 1W6\, Canada
CATEGORIES:Arts et culture,Ateliers
ATTACH;FMTTYPE=image/jpeg:https://oselepaysdesbleuets.com/wp-content/uploads/2024/10/Tricot-biscuits-et-cafe.jpg
ORGANIZER;CN="L'Espace":MAILTO:espacedolmis@gmail.com
END:VEVENT
BEGIN:VEVENT
DTSTART;TZID=America/Toronto:20241022T183000
DTEND;TZID=America/Toronto:20241022T200000
DTSTAMP:20260420T033936
CREATED:20241008T150248Z
LAST-MODIFIED:20241008T150248Z
UID:10003535-1729621800-1729627200@oselepaysdesbleuets.com
SUMMARY:Café\, biscuits et tricot
DESCRIPTION:Plongez dans l’univers du tricot avec Caroline Tremblay lors de notre atelier convivial ce soir à l’Espace. Que vous teniez des aiguilles pour la première fois ou que vous soyez un tricoteur chevronné\, venez partager votre passion et élargir votre palette de techniques. N’oubliez pas d’apporter votre matériel (aiguilles\, laine\, etc.) pour profiter pleinement de cette soirée. \nEntrée libre et gratuite – Venez nombreux pour une soirée de détente et de créativité.
URL:https://oselepaysdesbleuets.com/evenement/cafe-biscuits-et-tricot/2024-10-22/
LOCATION:L’espace\, 175 4ème Avenue\, Dolbeau-Mistassini\, Québec\, G8L 1W6\, Canada
CATEGORIES:Arts et culture,Ateliers
ATTACH;FMTTYPE=image/jpeg:https://oselepaysdesbleuets.com/wp-content/uploads/2024/10/Tricot-biscuits-et-cafe.jpg
ORGANIZER;CN="L'Espace":MAILTO:espacedolmis@gmail.com
END:VEVENT
BEGIN:VEVENT
DTSTART;TZID=America/Toronto:20241022T180000
DTEND;TZID=America/Toronto:20241022T193000
DTSTAMP:20260420T033936
CREATED:20241008T145342Z
LAST-MODIFIED:20241008T145511Z
UID:10003480-1729620000-1729625400@oselepaysdesbleuets.com
SUMMARY:Exposition café tricot
DESCRIPTION:
URL:https://oselepaysdesbleuets.com/evenement/exposition-cafe-tricot/2024-10-22/
LOCATION:L’espace\, 175 4ème Avenue\, Dolbeau-Mistassini\, Québec\, G8L 1W6\, Canada
CATEGORIES:Activités familiales,Arts et culture,Ateliers
ATTACH;FMTTYPE=image/jpeg:https://oselepaysdesbleuets.com/wp-content/uploads/2024/10/Expo-tricot.jpg
ORGANIZER;CN="L'Espace":MAILTO:espacedolmis@gmail.com
END:VEVENT
BEGIN:VEVENT
DTSTART;TZID=America/Toronto:20241015T183000
DTEND;TZID=America/Toronto:20241015T200000
DTSTAMP:20260420T033936
CREATED:20241008T150248Z
LAST-MODIFIED:20241008T150248Z
UID:10003534-1729017000-1729022400@oselepaysdesbleuets.com
SUMMARY:Café\, biscuits et tricot
DESCRIPTION:Plongez dans l’univers du tricot avec Caroline Tremblay lors de notre atelier convivial ce soir à l’Espace. Que vous teniez des aiguilles pour la première fois ou que vous soyez un tricoteur chevronné\, venez partager votre passion et élargir votre palette de techniques. N’oubliez pas d’apporter votre matériel (aiguilles\, laine\, etc.) pour profiter pleinement de cette soirée. \nEntrée libre et gratuite – Venez nombreux pour une soirée de détente et de créativité.
URL:https://oselepaysdesbleuets.com/evenement/cafe-biscuits-et-tricot/2024-10-15/
LOCATION:L’espace\, 175 4ème Avenue\, Dolbeau-Mistassini\, Québec\, G8L 1W6\, Canada
CATEGORIES:Arts et culture,Ateliers
ATTACH;FMTTYPE=image/jpeg:https://oselepaysdesbleuets.com/wp-content/uploads/2024/10/Tricot-biscuits-et-cafe.jpg
ORGANIZER;CN="L'Espace":MAILTO:espacedolmis@gmail.com
END:VEVENT
BEGIN:VEVENT
DTSTART;TZID=America/Toronto:20241015T180000
DTEND;TZID=America/Toronto:20241015T193000
DTSTAMP:20260420T033936
CREATED:20241008T145342Z
LAST-MODIFIED:20241008T145511Z
UID:10003479-1729015200-1729020600@oselepaysdesbleuets.com
SUMMARY:Exposition café tricot
DESCRIPTION:
URL:https://oselepaysdesbleuets.com/evenement/exposition-cafe-tricot/2024-10-15/
LOCATION:L’espace\, 175 4ème Avenue\, Dolbeau-Mistassini\, Québec\, G8L 1W6\, Canada
CATEGORIES:Activités familiales,Arts et culture,Ateliers
ATTACH;FMTTYPE=image/jpeg:https://oselepaysdesbleuets.com/wp-content/uploads/2024/10/Expo-tricot.jpg
ORGANIZER;CN="L'Espace":MAILTO:espacedolmis@gmail.com
END:VEVENT
BEGIN:VEVENT
DTSTART;TZID=America/Toronto:20241008T183000
DTEND;TZID=America/Toronto:20241008T200000
DTSTAMP:20260420T033936
CREATED:20241008T150248Z
LAST-MODIFIED:20241008T150248Z
UID:10003533-1728412200-1728417600@oselepaysdesbleuets.com
SUMMARY:Café\, biscuits et tricot
DESCRIPTION:Plongez dans l’univers du tricot avec Caroline Tremblay lors de notre atelier convivial ce soir à l’Espace. Que vous teniez des aiguilles pour la première fois ou que vous soyez un tricoteur chevronné\, venez partager votre passion et élargir votre palette de techniques. N’oubliez pas d’apporter votre matériel (aiguilles\, laine\, etc.) pour profiter pleinement de cette soirée. \nEntrée libre et gratuite – Venez nombreux pour une soirée de détente et de créativité.
URL:https://oselepaysdesbleuets.com/evenement/cafe-biscuits-et-tricot/2024-10-08/
LOCATION:L’espace\, 175 4ème Avenue\, Dolbeau-Mistassini\, Québec\, G8L 1W6\, Canada
CATEGORIES:Arts et culture,Ateliers
ATTACH;FMTTYPE=image/jpeg:https://oselepaysdesbleuets.com/wp-content/uploads/2024/10/Tricot-biscuits-et-cafe.jpg
ORGANIZER;CN="L'Espace":MAILTO:espacedolmis@gmail.com
END:VEVENT
BEGIN:VEVENT
DTSTART;TZID=America/Toronto:20241008T180000
DTEND;TZID=America/Toronto:20241008T193000
DTSTAMP:20260420T033936
CREATED:20241008T145342Z
LAST-MODIFIED:20241008T145511Z
UID:10003478-1728410400-1728415800@oselepaysdesbleuets.com
SUMMARY:Exposition café tricot
DESCRIPTION:
URL:https://oselepaysdesbleuets.com/evenement/exposition-cafe-tricot/2024-10-08/
LOCATION:L’espace\, 175 4ème Avenue\, Dolbeau-Mistassini\, Québec\, G8L 1W6\, Canada
CATEGORIES:Activités familiales,Arts et culture,Ateliers
ATTACH;FMTTYPE=image/jpeg:https://oselepaysdesbleuets.com/wp-content/uploads/2024/10/Expo-tricot.jpg
ORGANIZER;CN="L'Espace":MAILTO:espacedolmis@gmail.com
END:VEVENT
END:VCALENDAR