BEGIN:VCALENDAR
VERSION:2.0
PRODID:-//Ose le Pays des Bleuets - ECPv6.15.20//NONSGML v1.0//EN
CALSCALE:GREGORIAN
METHOD:PUBLISH
X-WR-CALNAME:Ose le Pays des Bleuets
X-ORIGINAL-URL:https://oselepaysdesbleuets.com
X-WR-CALDESC:Évènements pour Ose le Pays des Bleuets
REFRESH-INTERVAL;VALUE=DURATION:PT1H
X-Robots-Tag:noindex
X-PUBLISHED-TTL:PT1H
BEGIN:VTIMEZONE
TZID:America/Toronto
BEGIN:DAYLIGHT
TZOFFSETFROM:-0500
TZOFFSETTO:-0400
TZNAME:EDT
DTSTART:20230312T070000
END:DAYLIGHT
BEGIN:STANDARD
TZOFFSETFROM:-0400
TZOFFSETTO:-0500
TZNAME:EST
DTSTART:20231105T060000
END:STANDARD
BEGIN:DAYLIGHT
TZOFFSETFROM:-0500
TZOFFSETTO:-0400
TZNAME:EDT
DTSTART:20240310T070000
END:DAYLIGHT
BEGIN:STANDARD
TZOFFSETFROM:-0400
TZOFFSETTO:-0500
TZNAME:EST
DTSTART:20241103T060000
END:STANDARD
BEGIN:DAYLIGHT
TZOFFSETFROM:-0500
TZOFFSETTO:-0400
TZNAME:EDT
DTSTART:20250309T070000
END:DAYLIGHT
BEGIN:STANDARD
TZOFFSETFROM:-0400
TZOFFSETTO:-0500
TZNAME:EST
DTSTART:20251102T060000
END:STANDARD
END:VTIMEZONE
BEGIN:VEVENT
DTSTART;TZID=America/Toronto:20241022T183000
DTEND;TZID=America/Toronto:20241022T200000
DTSTAMP:20260420T050337
CREATED:20241008T150248Z
LAST-MODIFIED:20241008T150248Z
UID:10003535-1729621800-1729627200@oselepaysdesbleuets.com
SUMMARY:Café\, biscuits et tricot
DESCRIPTION:Plongez dans l’univers du tricot avec Caroline Tremblay lors de notre atelier convivial ce soir à l’Espace. Que vous teniez des aiguilles pour la première fois ou que vous soyez un tricoteur chevronné\, venez partager votre passion et élargir votre palette de techniques. N’oubliez pas d’apporter votre matériel (aiguilles\, laine\, etc.) pour profiter pleinement de cette soirée. \nEntrée libre et gratuite – Venez nombreux pour une soirée de détente et de créativité.
URL:https://oselepaysdesbleuets.com/evenement/cafe-biscuits-et-tricot/2024-10-22/
LOCATION:L’espace\, 175 4ème Avenue\, Dolbeau-Mistassini\, Québec\, G8L 1W6\, Canada
CATEGORIES:Arts et culture,Ateliers
ATTACH;FMTTYPE=image/jpeg:https://oselepaysdesbleuets.com/wp-content/uploads/2024/10/Tricot-biscuits-et-cafe.jpg
ORGANIZER;CN="L'Espace":MAILTO:espacedolmis@gmail.com
END:VEVENT
BEGIN:VEVENT
DTSTART;TZID=America/Toronto:20241022T180000
DTEND;TZID=America/Toronto:20241022T193000
DTSTAMP:20260420T050337
CREATED:20241008T145342Z
LAST-MODIFIED:20241008T145511Z
UID:10003480-1729620000-1729625400@oselepaysdesbleuets.com
SUMMARY:Exposition café tricot
DESCRIPTION:
URL:https://oselepaysdesbleuets.com/evenement/exposition-cafe-tricot/2024-10-22/
LOCATION:L’espace\, 175 4ème Avenue\, Dolbeau-Mistassini\, Québec\, G8L 1W6\, Canada
CATEGORIES:Activités familiales,Arts et culture,Ateliers
ATTACH;FMTTYPE=image/jpeg:https://oselepaysdesbleuets.com/wp-content/uploads/2024/10/Expo-tricot.jpg
ORGANIZER;CN="L'Espace":MAILTO:espacedolmis@gmail.com
END:VEVENT
BEGIN:VEVENT
DTSTART;TZID=America/Toronto:20241015T183000
DTEND;TZID=America/Toronto:20241015T200000
DTSTAMP:20260420T050337
CREATED:20241008T150248Z
LAST-MODIFIED:20241008T150248Z
UID:10003534-1729017000-1729022400@oselepaysdesbleuets.com
SUMMARY:Café\, biscuits et tricot
DESCRIPTION:Plongez dans l’univers du tricot avec Caroline Tremblay lors de notre atelier convivial ce soir à l’Espace. Que vous teniez des aiguilles pour la première fois ou que vous soyez un tricoteur chevronné\, venez partager votre passion et élargir votre palette de techniques. N’oubliez pas d’apporter votre matériel (aiguilles\, laine\, etc.) pour profiter pleinement de cette soirée. \nEntrée libre et gratuite – Venez nombreux pour une soirée de détente et de créativité.
URL:https://oselepaysdesbleuets.com/evenement/cafe-biscuits-et-tricot/2024-10-15/
LOCATION:L’espace\, 175 4ème Avenue\, Dolbeau-Mistassini\, Québec\, G8L 1W6\, Canada
CATEGORIES:Arts et culture,Ateliers
ATTACH;FMTTYPE=image/jpeg:https://oselepaysdesbleuets.com/wp-content/uploads/2024/10/Tricot-biscuits-et-cafe.jpg
ORGANIZER;CN="L'Espace":MAILTO:espacedolmis@gmail.com
END:VEVENT
BEGIN:VEVENT
DTSTART;TZID=America/Toronto:20241015T180000
DTEND;TZID=America/Toronto:20241015T193000
DTSTAMP:20260420T050337
CREATED:20241008T145342Z
LAST-MODIFIED:20241008T145511Z
UID:10003479-1729015200-1729020600@oselepaysdesbleuets.com
SUMMARY:Exposition café tricot
DESCRIPTION:
URL:https://oselepaysdesbleuets.com/evenement/exposition-cafe-tricot/2024-10-15/
LOCATION:L’espace\, 175 4ème Avenue\, Dolbeau-Mistassini\, Québec\, G8L 1W6\, Canada
CATEGORIES:Activités familiales,Arts et culture,Ateliers
ATTACH;FMTTYPE=image/jpeg:https://oselepaysdesbleuets.com/wp-content/uploads/2024/10/Expo-tricot.jpg
ORGANIZER;CN="L'Espace":MAILTO:espacedolmis@gmail.com
END:VEVENT
BEGIN:VEVENT
DTSTART;TZID=America/Toronto:20241008T183000
DTEND;TZID=America/Toronto:20241008T200000
DTSTAMP:20260420T050337
CREATED:20241008T150248Z
LAST-MODIFIED:20241008T150248Z
UID:10003533-1728412200-1728417600@oselepaysdesbleuets.com
SUMMARY:Café\, biscuits et tricot
DESCRIPTION:Plongez dans l’univers du tricot avec Caroline Tremblay lors de notre atelier convivial ce soir à l’Espace. Que vous teniez des aiguilles pour la première fois ou que vous soyez un tricoteur chevronné\, venez partager votre passion et élargir votre palette de techniques. N’oubliez pas d’apporter votre matériel (aiguilles\, laine\, etc.) pour profiter pleinement de cette soirée. \nEntrée libre et gratuite – Venez nombreux pour une soirée de détente et de créativité.
URL:https://oselepaysdesbleuets.com/evenement/cafe-biscuits-et-tricot/2024-10-08/
LOCATION:L’espace\, 175 4ème Avenue\, Dolbeau-Mistassini\, Québec\, G8L 1W6\, Canada
CATEGORIES:Arts et culture,Ateliers
ATTACH;FMTTYPE=image/jpeg:https://oselepaysdesbleuets.com/wp-content/uploads/2024/10/Tricot-biscuits-et-cafe.jpg
ORGANIZER;CN="L'Espace":MAILTO:espacedolmis@gmail.com
END:VEVENT
BEGIN:VEVENT
DTSTART;TZID=America/Toronto:20241008T180000
DTEND;TZID=America/Toronto:20241008T193000
DTSTAMP:20260420T050337
CREATED:20241008T145342Z
LAST-MODIFIED:20241008T145511Z
UID:10003478-1728410400-1728415800@oselepaysdesbleuets.com
SUMMARY:Exposition café tricot
DESCRIPTION:
URL:https://oselepaysdesbleuets.com/evenement/exposition-cafe-tricot/2024-10-08/
LOCATION:L’espace\, 175 4ème Avenue\, Dolbeau-Mistassini\, Québec\, G8L 1W6\, Canada
CATEGORIES:Activités familiales,Arts et culture,Ateliers
ATTACH;FMTTYPE=image/jpeg:https://oselepaysdesbleuets.com/wp-content/uploads/2024/10/Expo-tricot.jpg
ORGANIZER;CN="L'Espace":MAILTO:espacedolmis@gmail.com
END:VEVENT
END:VCALENDAR