BEGIN:VCALENDAR
VERSION:2.0
PRODID:-//Ose le Pays des Bleuets - ECPv6.15.20//NONSGML v1.0//EN
CALSCALE:GREGORIAN
METHOD:PUBLISH
X-WR-CALNAME:Ose le Pays des Bleuets
X-ORIGINAL-URL:https://oselepaysdesbleuets.com
X-WR-CALDESC:Évènements pour Ose le Pays des Bleuets
REFRESH-INTERVAL;VALUE=DURATION:PT1H
X-Robots-Tag:noindex
X-PUBLISHED-TTL:PT1H
BEGIN:VTIMEZONE
TZID:America/Toronto
BEGIN:DAYLIGHT
TZOFFSETFROM:-0500
TZOFFSETTO:-0400
TZNAME:EDT
DTSTART:20240310T070000
END:DAYLIGHT
BEGIN:STANDARD
TZOFFSETFROM:-0400
TZOFFSETTO:-0500
TZNAME:EST
DTSTART:20241103T060000
END:STANDARD
BEGIN:DAYLIGHT
TZOFFSETFROM:-0500
TZOFFSETTO:-0400
TZNAME:EDT
DTSTART:20250309T070000
END:DAYLIGHT
BEGIN:STANDARD
TZOFFSETFROM:-0400
TZOFFSETTO:-0500
TZNAME:EST
DTSTART:20251102T060000
END:STANDARD
BEGIN:DAYLIGHT
TZOFFSETFROM:-0500
TZOFFSETTO:-0400
TZNAME:EDT
DTSTART:20260308T070000
END:DAYLIGHT
BEGIN:STANDARD
TZOFFSETFROM:-0400
TZOFFSETTO:-0500
TZNAME:EST
DTSTART:20261101T060000
END:STANDARD
END:VTIMEZONE
BEGIN:VEVENT
DTSTART;TZID=America/Toronto:20250725T183000
DTEND;TZID=America/Toronto:20250725T193000
DTSTAMP:20260419T081826
CREATED:20250703T133123Z
LAST-MODIFIED:20250707T123848Z
UID:10019965-1753468200-1753471800@oselepaysdesbleuets.com
SUMMARY:Sport - Piscine extérieure Dolbeau-Mistassini
DESCRIPTION:La piscine extérieure sera fermée les jours de pluie et lorsque la météo prévoit moins de 20°C. Les deux bassins de la piscine Rémabec seront alors accessible gratuitement en après-midi.
URL:https://oselepaysdesbleuets.com/evenement/sport-piscine-exterieure-dolbeau-mistassini/2025-07-25/
LOCATION:Parc Yvon Massicotte\, 108\, avenue des Chutes\, Dolbeau-Mistassini\, Québec\, G8L 3X4\, Canada
CATEGORIES:Activités familiales,Activités gratuites,Sports et plein air
ATTACH;FMTTYPE=image/png:https://oselepaysdesbleuets.com/wp-content/uploads/2025/06/OSE-1080-x-1080-px-2.png
END:VEVENT
BEGIN:VEVENT
DTSTART;TZID=America/Toronto:20250725T123000
DTEND;TZID=America/Toronto:20250725T163000
DTSTAMP:20260419T081826
CREATED:20250619T185022Z
LAST-MODIFIED:20250707T123640Z
UID:10019847-1753446600-1753461000@oselepaysdesbleuets.com
SUMMARY:Sport - Piscine extérieure Dolbeau-Mistassini
DESCRIPTION:La piscine extérieure sera fermée les jours de pluie et lorsque la météo prévoit moins de 20°C. Les deux bassins de la piscine Rémabec seront alors accessible gratuitement en après-midi.
URL:https://oselepaysdesbleuets.com/evenement/sport-piscine-exterieure-et-jeux-deau-2/2025-07-25/
LOCATION:Parc Yvon Massicotte\, 108\, avenue des Chutes\, Dolbeau-Mistassini\, Québec\, G8L 3X4\, Canada
CATEGORIES:Activités familiales,Activités gratuites,Sports et plein air
ATTACH;FMTTYPE=image/png:https://oselepaysdesbleuets.com/wp-content/uploads/2025/06/OSE-1080-x-1080-px-2.png
END:VEVENT
BEGIN:VEVENT
DTSTART;TZID=America/Toronto:20250724T123000
DTEND;TZID=America/Toronto:20250724T163000
DTSTAMP:20260419T081826
CREATED:20250619T185022Z
LAST-MODIFIED:20250707T123640Z
UID:10019846-1753360200-1753374600@oselepaysdesbleuets.com
SUMMARY:Sport - Piscine extérieure Dolbeau-Mistassini
DESCRIPTION:La piscine extérieure sera fermée les jours de pluie et lorsque la météo prévoit moins de 20°C. Les deux bassins de la piscine Rémabec seront alors accessible gratuitement en après-midi.
URL:https://oselepaysdesbleuets.com/evenement/sport-piscine-exterieure-et-jeux-deau-2/2025-07-24/
LOCATION:Parc Yvon Massicotte\, 108\, avenue des Chutes\, Dolbeau-Mistassini\, Québec\, G8L 3X4\, Canada
CATEGORIES:Activités familiales,Activités gratuites,Sports et plein air
ATTACH;FMTTYPE=image/png:https://oselepaysdesbleuets.com/wp-content/uploads/2025/06/OSE-1080-x-1080-px-2.png
END:VEVENT
BEGIN:VEVENT
DTSTART;TZID=America/Toronto:20250723T123000
DTEND;TZID=America/Toronto:20250723T163000
DTSTAMP:20260419T081826
CREATED:20250619T185022Z
LAST-MODIFIED:20250707T123640Z
UID:10019845-1753273800-1753288200@oselepaysdesbleuets.com
SUMMARY:Sport - Piscine extérieure Dolbeau-Mistassini
DESCRIPTION:La piscine extérieure sera fermée les jours de pluie et lorsque la météo prévoit moins de 20°C. Les deux bassins de la piscine Rémabec seront alors accessible gratuitement en après-midi.
URL:https://oselepaysdesbleuets.com/evenement/sport-piscine-exterieure-et-jeux-deau-2/2025-07-23/
LOCATION:Parc Yvon Massicotte\, 108\, avenue des Chutes\, Dolbeau-Mistassini\, Québec\, G8L 3X4\, Canada
CATEGORIES:Activités familiales,Activités gratuites,Sports et plein air
ATTACH;FMTTYPE=image/png:https://oselepaysdesbleuets.com/wp-content/uploads/2025/06/OSE-1080-x-1080-px-2.png
END:VEVENT
BEGIN:VEVENT
DTSTART;TZID=America/Toronto:20250722T123000
DTEND;TZID=America/Toronto:20250722T163000
DTSTAMP:20260419T081826
CREATED:20250619T185022Z
LAST-MODIFIED:20250707T123640Z
UID:10019844-1753187400-1753201800@oselepaysdesbleuets.com
SUMMARY:Sport - Piscine extérieure Dolbeau-Mistassini
DESCRIPTION:La piscine extérieure sera fermée les jours de pluie et lorsque la météo prévoit moins de 20°C. Les deux bassins de la piscine Rémabec seront alors accessible gratuitement en après-midi.
URL:https://oselepaysdesbleuets.com/evenement/sport-piscine-exterieure-et-jeux-deau-2/2025-07-22/
LOCATION:Parc Yvon Massicotte\, 108\, avenue des Chutes\, Dolbeau-Mistassini\, Québec\, G8L 3X4\, Canada
CATEGORIES:Activités familiales,Activités gratuites,Sports et plein air
ATTACH;FMTTYPE=image/png:https://oselepaysdesbleuets.com/wp-content/uploads/2025/06/OSE-1080-x-1080-px-2.png
END:VEVENT
BEGIN:VEVENT
DTSTART;TZID=America/Toronto:20250721T123000
DTEND;TZID=America/Toronto:20250721T163000
DTSTAMP:20260419T081826
CREATED:20250619T185022Z
LAST-MODIFIED:20250707T123640Z
UID:10019843-1753101000-1753115400@oselepaysdesbleuets.com
SUMMARY:Sport - Piscine extérieure Dolbeau-Mistassini
DESCRIPTION:La piscine extérieure sera fermée les jours de pluie et lorsque la météo prévoit moins de 20°C. Les deux bassins de la piscine Rémabec seront alors accessible gratuitement en après-midi.
URL:https://oselepaysdesbleuets.com/evenement/sport-piscine-exterieure-et-jeux-deau-2/2025-07-21/
LOCATION:Parc Yvon Massicotte\, 108\, avenue des Chutes\, Dolbeau-Mistassini\, Québec\, G8L 3X4\, Canada
CATEGORIES:Activités familiales,Activités gratuites,Sports et plein air
ATTACH;FMTTYPE=image/png:https://oselepaysdesbleuets.com/wp-content/uploads/2025/06/OSE-1080-x-1080-px-2.png
END:VEVENT
BEGIN:VEVENT
DTSTART;TZID=America/Toronto:20250720T183000
DTEND;TZID=America/Toronto:20250720T193000
DTSTAMP:20260419T081826
CREATED:20250703T133123Z
LAST-MODIFIED:20250707T123848Z
UID:10019964-1753036200-1753039800@oselepaysdesbleuets.com
SUMMARY:Sport - Piscine extérieure Dolbeau-Mistassini
DESCRIPTION:La piscine extérieure sera fermée les jours de pluie et lorsque la météo prévoit moins de 20°C. Les deux bassins de la piscine Rémabec seront alors accessible gratuitement en après-midi.
URL:https://oselepaysdesbleuets.com/evenement/sport-piscine-exterieure-dolbeau-mistassini/2025-07-20/
LOCATION:Parc Yvon Massicotte\, 108\, avenue des Chutes\, Dolbeau-Mistassini\, Québec\, G8L 3X4\, Canada
CATEGORIES:Activités familiales,Activités gratuites,Sports et plein air
ATTACH;FMTTYPE=image/png:https://oselepaysdesbleuets.com/wp-content/uploads/2025/06/OSE-1080-x-1080-px-2.png
END:VEVENT
BEGIN:VEVENT
DTSTART;TZID=America/Toronto:20250720T123000
DTEND;TZID=America/Toronto:20250720T163000
DTSTAMP:20260419T081826
CREATED:20250619T185022Z
LAST-MODIFIED:20250707T123640Z
UID:10019842-1753014600-1753029000@oselepaysdesbleuets.com
SUMMARY:Sport - Piscine extérieure Dolbeau-Mistassini
DESCRIPTION:La piscine extérieure sera fermée les jours de pluie et lorsque la météo prévoit moins de 20°C. Les deux bassins de la piscine Rémabec seront alors accessible gratuitement en après-midi.
URL:https://oselepaysdesbleuets.com/evenement/sport-piscine-exterieure-et-jeux-deau-2/2025-07-20/
LOCATION:Parc Yvon Massicotte\, 108\, avenue des Chutes\, Dolbeau-Mistassini\, Québec\, G8L 3X4\, Canada
CATEGORIES:Activités familiales,Activités gratuites,Sports et plein air
ATTACH;FMTTYPE=image/png:https://oselepaysdesbleuets.com/wp-content/uploads/2025/06/OSE-1080-x-1080-px-2.png
END:VEVENT
BEGIN:VEVENT
DTSTART;TZID=America/Toronto:20250719T183000
DTEND;TZID=America/Toronto:20250719T193000
DTSTAMP:20260419T081826
CREATED:20250703T133123Z
LAST-MODIFIED:20250707T123848Z
UID:10019963-1752949800-1752953400@oselepaysdesbleuets.com
SUMMARY:Sport - Piscine extérieure Dolbeau-Mistassini
DESCRIPTION:La piscine extérieure sera fermée les jours de pluie et lorsque la météo prévoit moins de 20°C. Les deux bassins de la piscine Rémabec seront alors accessible gratuitement en après-midi.
URL:https://oselepaysdesbleuets.com/evenement/sport-piscine-exterieure-dolbeau-mistassini/2025-07-19/
LOCATION:Parc Yvon Massicotte\, 108\, avenue des Chutes\, Dolbeau-Mistassini\, Québec\, G8L 3X4\, Canada
CATEGORIES:Activités familiales,Activités gratuites,Sports et plein air
ATTACH;FMTTYPE=image/png:https://oselepaysdesbleuets.com/wp-content/uploads/2025/06/OSE-1080-x-1080-px-2.png
END:VEVENT
BEGIN:VEVENT
DTSTART;TZID=America/Toronto:20250719T123000
DTEND;TZID=America/Toronto:20250719T163000
DTSTAMP:20260419T081826
CREATED:20250619T185022Z
LAST-MODIFIED:20250707T123640Z
UID:10019841-1752928200-1752942600@oselepaysdesbleuets.com
SUMMARY:Sport - Piscine extérieure Dolbeau-Mistassini
DESCRIPTION:La piscine extérieure sera fermée les jours de pluie et lorsque la météo prévoit moins de 20°C. Les deux bassins de la piscine Rémabec seront alors accessible gratuitement en après-midi.
URL:https://oselepaysdesbleuets.com/evenement/sport-piscine-exterieure-et-jeux-deau-2/2025-07-19/
LOCATION:Parc Yvon Massicotte\, 108\, avenue des Chutes\, Dolbeau-Mistassini\, Québec\, G8L 3X4\, Canada
CATEGORIES:Activités familiales,Activités gratuites,Sports et plein air
ATTACH;FMTTYPE=image/png:https://oselepaysdesbleuets.com/wp-content/uploads/2025/06/OSE-1080-x-1080-px-2.png
END:VEVENT
BEGIN:VEVENT
DTSTART;TZID=America/Toronto:20250718T183000
DTEND;TZID=America/Toronto:20250718T193000
DTSTAMP:20260419T081826
CREATED:20250703T133123Z
LAST-MODIFIED:20250707T123848Z
UID:10019962-1752863400-1752867000@oselepaysdesbleuets.com
SUMMARY:Sport - Piscine extérieure Dolbeau-Mistassini
DESCRIPTION:La piscine extérieure sera fermée les jours de pluie et lorsque la météo prévoit moins de 20°C. Les deux bassins de la piscine Rémabec seront alors accessible gratuitement en après-midi.
URL:https://oselepaysdesbleuets.com/evenement/sport-piscine-exterieure-dolbeau-mistassini/2025-07-18/
LOCATION:Parc Yvon Massicotte\, 108\, avenue des Chutes\, Dolbeau-Mistassini\, Québec\, G8L 3X4\, Canada
CATEGORIES:Activités familiales,Activités gratuites,Sports et plein air
ATTACH;FMTTYPE=image/png:https://oselepaysdesbleuets.com/wp-content/uploads/2025/06/OSE-1080-x-1080-px-2.png
END:VEVENT
BEGIN:VEVENT
DTSTART;TZID=America/Toronto:20250718T123000
DTEND;TZID=America/Toronto:20250718T163000
DTSTAMP:20260419T081826
CREATED:20250619T185022Z
LAST-MODIFIED:20250707T123640Z
UID:10019840-1752841800-1752856200@oselepaysdesbleuets.com
SUMMARY:Sport - Piscine extérieure Dolbeau-Mistassini
DESCRIPTION:La piscine extérieure sera fermée les jours de pluie et lorsque la météo prévoit moins de 20°C. Les deux bassins de la piscine Rémabec seront alors accessible gratuitement en après-midi.
URL:https://oselepaysdesbleuets.com/evenement/sport-piscine-exterieure-et-jeux-deau-2/2025-07-18/
LOCATION:Parc Yvon Massicotte\, 108\, avenue des Chutes\, Dolbeau-Mistassini\, Québec\, G8L 3X4\, Canada
CATEGORIES:Activités familiales,Activités gratuites,Sports et plein air
ATTACH;FMTTYPE=image/png:https://oselepaysdesbleuets.com/wp-content/uploads/2025/06/OSE-1080-x-1080-px-2.png
END:VEVENT
BEGIN:VEVENT
DTSTART;TZID=America/Toronto:20250717T123000
DTEND;TZID=America/Toronto:20250717T163000
DTSTAMP:20260419T081826
CREATED:20250619T185022Z
LAST-MODIFIED:20250707T123640Z
UID:10019839-1752755400-1752769800@oselepaysdesbleuets.com
SUMMARY:Sport - Piscine extérieure Dolbeau-Mistassini
DESCRIPTION:La piscine extérieure sera fermée les jours de pluie et lorsque la météo prévoit moins de 20°C. Les deux bassins de la piscine Rémabec seront alors accessible gratuitement en après-midi.
URL:https://oselepaysdesbleuets.com/evenement/sport-piscine-exterieure-et-jeux-deau-2/2025-07-17/
LOCATION:Parc Yvon Massicotte\, 108\, avenue des Chutes\, Dolbeau-Mistassini\, Québec\, G8L 3X4\, Canada
CATEGORIES:Activités familiales,Activités gratuites,Sports et plein air
ATTACH;FMTTYPE=image/png:https://oselepaysdesbleuets.com/wp-content/uploads/2025/06/OSE-1080-x-1080-px-2.png
END:VEVENT
BEGIN:VEVENT
DTSTART;TZID=America/Toronto:20250716T123000
DTEND;TZID=America/Toronto:20250716T163000
DTSTAMP:20260419T081826
CREATED:20250619T185022Z
LAST-MODIFIED:20250707T123640Z
UID:10019838-1752669000-1752683400@oselepaysdesbleuets.com
SUMMARY:Sport - Piscine extérieure Dolbeau-Mistassini
DESCRIPTION:La piscine extérieure sera fermée les jours de pluie et lorsque la météo prévoit moins de 20°C. Les deux bassins de la piscine Rémabec seront alors accessible gratuitement en après-midi.
URL:https://oselepaysdesbleuets.com/evenement/sport-piscine-exterieure-et-jeux-deau-2/2025-07-16/
LOCATION:Parc Yvon Massicotte\, 108\, avenue des Chutes\, Dolbeau-Mistassini\, Québec\, G8L 3X4\, Canada
CATEGORIES:Activités familiales,Activités gratuites,Sports et plein air
ATTACH;FMTTYPE=image/png:https://oselepaysdesbleuets.com/wp-content/uploads/2025/06/OSE-1080-x-1080-px-2.png
END:VEVENT
BEGIN:VEVENT
DTSTART;TZID=America/Toronto:20250715T123000
DTEND;TZID=America/Toronto:20250715T163000
DTSTAMP:20260419T081826
CREATED:20250619T185022Z
LAST-MODIFIED:20250707T123640Z
UID:10019837-1752582600-1752597000@oselepaysdesbleuets.com
SUMMARY:Sport - Piscine extérieure Dolbeau-Mistassini
DESCRIPTION:La piscine extérieure sera fermée les jours de pluie et lorsque la météo prévoit moins de 20°C. Les deux bassins de la piscine Rémabec seront alors accessible gratuitement en après-midi.
URL:https://oselepaysdesbleuets.com/evenement/sport-piscine-exterieure-et-jeux-deau-2/2025-07-15/
LOCATION:Parc Yvon Massicotte\, 108\, avenue des Chutes\, Dolbeau-Mistassini\, Québec\, G8L 3X4\, Canada
CATEGORIES:Activités familiales,Activités gratuites,Sports et plein air
ATTACH;FMTTYPE=image/png:https://oselepaysdesbleuets.com/wp-content/uploads/2025/06/OSE-1080-x-1080-px-2.png
END:VEVENT
BEGIN:VEVENT
DTSTART;TZID=America/Toronto:20250714T123000
DTEND;TZID=America/Toronto:20250714T163000
DTSTAMP:20260419T081826
CREATED:20250619T185022Z
LAST-MODIFIED:20250707T123640Z
UID:10019836-1752496200-1752510600@oselepaysdesbleuets.com
SUMMARY:Sport - Piscine extérieure Dolbeau-Mistassini
DESCRIPTION:La piscine extérieure sera fermée les jours de pluie et lorsque la météo prévoit moins de 20°C. Les deux bassins de la piscine Rémabec seront alors accessible gratuitement en après-midi.
URL:https://oselepaysdesbleuets.com/evenement/sport-piscine-exterieure-et-jeux-deau-2/2025-07-14/
LOCATION:Parc Yvon Massicotte\, 108\, avenue des Chutes\, Dolbeau-Mistassini\, Québec\, G8L 3X4\, Canada
CATEGORIES:Activités familiales,Activités gratuites,Sports et plein air
ATTACH;FMTTYPE=image/png:https://oselepaysdesbleuets.com/wp-content/uploads/2025/06/OSE-1080-x-1080-px-2.png
END:VEVENT
BEGIN:VEVENT
DTSTART;TZID=America/Toronto:20250713T183000
DTEND;TZID=America/Toronto:20250713T193000
DTSTAMP:20260419T081826
CREATED:20250703T133123Z
LAST-MODIFIED:20250707T123848Z
UID:10019961-1752431400-1752435000@oselepaysdesbleuets.com
SUMMARY:Sport - Piscine extérieure Dolbeau-Mistassini
DESCRIPTION:La piscine extérieure sera fermée les jours de pluie et lorsque la météo prévoit moins de 20°C. Les deux bassins de la piscine Rémabec seront alors accessible gratuitement en après-midi.
URL:https://oselepaysdesbleuets.com/evenement/sport-piscine-exterieure-dolbeau-mistassini/2025-07-13/
LOCATION:Parc Yvon Massicotte\, 108\, avenue des Chutes\, Dolbeau-Mistassini\, Québec\, G8L 3X4\, Canada
CATEGORIES:Activités familiales,Activités gratuites,Sports et plein air
ATTACH;FMTTYPE=image/png:https://oselepaysdesbleuets.com/wp-content/uploads/2025/06/OSE-1080-x-1080-px-2.png
END:VEVENT
BEGIN:VEVENT
DTSTART;TZID=America/Toronto:20250713T123000
DTEND;TZID=America/Toronto:20250713T163000
DTSTAMP:20260419T081826
CREATED:20250619T185022Z
LAST-MODIFIED:20250707T123640Z
UID:10019835-1752409800-1752424200@oselepaysdesbleuets.com
SUMMARY:Sport - Piscine extérieure Dolbeau-Mistassini
DESCRIPTION:La piscine extérieure sera fermée les jours de pluie et lorsque la météo prévoit moins de 20°C. Les deux bassins de la piscine Rémabec seront alors accessible gratuitement en après-midi.
URL:https://oselepaysdesbleuets.com/evenement/sport-piscine-exterieure-et-jeux-deau-2/2025-07-13/
LOCATION:Parc Yvon Massicotte\, 108\, avenue des Chutes\, Dolbeau-Mistassini\, Québec\, G8L 3X4\, Canada
CATEGORIES:Activités familiales,Activités gratuites,Sports et plein air
ATTACH;FMTTYPE=image/png:https://oselepaysdesbleuets.com/wp-content/uploads/2025/06/OSE-1080-x-1080-px-2.png
END:VEVENT
BEGIN:VEVENT
DTSTART;TZID=America/Toronto:20250712T183000
DTEND;TZID=America/Toronto:20250712T193000
DTSTAMP:20260419T081826
CREATED:20250703T133123Z
LAST-MODIFIED:20250707T123848Z
UID:10019960-1752345000-1752348600@oselepaysdesbleuets.com
SUMMARY:Sport - Piscine extérieure Dolbeau-Mistassini
DESCRIPTION:La piscine extérieure sera fermée les jours de pluie et lorsque la météo prévoit moins de 20°C. Les deux bassins de la piscine Rémabec seront alors accessible gratuitement en après-midi.
URL:https://oselepaysdesbleuets.com/evenement/sport-piscine-exterieure-dolbeau-mistassini/2025-07-12/
LOCATION:Parc Yvon Massicotte\, 108\, avenue des Chutes\, Dolbeau-Mistassini\, Québec\, G8L 3X4\, Canada
CATEGORIES:Activités familiales,Activités gratuites,Sports et plein air
ATTACH;FMTTYPE=image/png:https://oselepaysdesbleuets.com/wp-content/uploads/2025/06/OSE-1080-x-1080-px-2.png
END:VEVENT
BEGIN:VEVENT
DTSTART;TZID=America/Toronto:20250712T123000
DTEND;TZID=America/Toronto:20250712T163000
DTSTAMP:20260419T081826
CREATED:20250619T185022Z
LAST-MODIFIED:20250707T123640Z
UID:10019834-1752323400-1752337800@oselepaysdesbleuets.com
SUMMARY:Sport - Piscine extérieure Dolbeau-Mistassini
DESCRIPTION:La piscine extérieure sera fermée les jours de pluie et lorsque la météo prévoit moins de 20°C. Les deux bassins de la piscine Rémabec seront alors accessible gratuitement en après-midi.
URL:https://oselepaysdesbleuets.com/evenement/sport-piscine-exterieure-et-jeux-deau-2/2025-07-12/
LOCATION:Parc Yvon Massicotte\, 108\, avenue des Chutes\, Dolbeau-Mistassini\, Québec\, G8L 3X4\, Canada
CATEGORIES:Activités familiales,Activités gratuites,Sports et plein air
ATTACH;FMTTYPE=image/png:https://oselepaysdesbleuets.com/wp-content/uploads/2025/06/OSE-1080-x-1080-px-2.png
END:VEVENT
BEGIN:VEVENT
DTSTART;TZID=America/Toronto:20250711T183000
DTEND;TZID=America/Toronto:20250711T193000
DTSTAMP:20260419T081826
CREATED:20250703T133123Z
LAST-MODIFIED:20250707T123848Z
UID:10019959-1752258600-1752262200@oselepaysdesbleuets.com
SUMMARY:Sport - Piscine extérieure Dolbeau-Mistassini
DESCRIPTION:La piscine extérieure sera fermée les jours de pluie et lorsque la météo prévoit moins de 20°C. Les deux bassins de la piscine Rémabec seront alors accessible gratuitement en après-midi.
URL:https://oselepaysdesbleuets.com/evenement/sport-piscine-exterieure-dolbeau-mistassini/2025-07-11/
LOCATION:Parc Yvon Massicotte\, 108\, avenue des Chutes\, Dolbeau-Mistassini\, Québec\, G8L 3X4\, Canada
CATEGORIES:Activités familiales,Activités gratuites,Sports et plein air
ATTACH;FMTTYPE=image/png:https://oselepaysdesbleuets.com/wp-content/uploads/2025/06/OSE-1080-x-1080-px-2.png
END:VEVENT
BEGIN:VEVENT
DTSTART;TZID=America/Toronto:20250711T123000
DTEND;TZID=America/Toronto:20250711T163000
DTSTAMP:20260419T081826
CREATED:20250619T185022Z
LAST-MODIFIED:20250707T123640Z
UID:10019833-1752237000-1752251400@oselepaysdesbleuets.com
SUMMARY:Sport - Piscine extérieure Dolbeau-Mistassini
DESCRIPTION:La piscine extérieure sera fermée les jours de pluie et lorsque la météo prévoit moins de 20°C. Les deux bassins de la piscine Rémabec seront alors accessible gratuitement en après-midi.
URL:https://oselepaysdesbleuets.com/evenement/sport-piscine-exterieure-et-jeux-deau-2/2025-07-11/
LOCATION:Parc Yvon Massicotte\, 108\, avenue des Chutes\, Dolbeau-Mistassini\, Québec\, G8L 3X4\, Canada
CATEGORIES:Activités familiales,Activités gratuites,Sports et plein air
ATTACH;FMTTYPE=image/png:https://oselepaysdesbleuets.com/wp-content/uploads/2025/06/OSE-1080-x-1080-px-2.png
END:VEVENT
BEGIN:VEVENT
DTSTART;TZID=America/Toronto:20250710T123000
DTEND;TZID=America/Toronto:20250710T163000
DTSTAMP:20260419T081826
CREATED:20250619T185022Z
LAST-MODIFIED:20250707T123640Z
UID:10019832-1752150600-1752165000@oselepaysdesbleuets.com
SUMMARY:Sport - Piscine extérieure Dolbeau-Mistassini
DESCRIPTION:La piscine extérieure sera fermée les jours de pluie et lorsque la météo prévoit moins de 20°C. Les deux bassins de la piscine Rémabec seront alors accessible gratuitement en après-midi.
URL:https://oselepaysdesbleuets.com/evenement/sport-piscine-exterieure-et-jeux-deau-2/2025-07-10/
LOCATION:Parc Yvon Massicotte\, 108\, avenue des Chutes\, Dolbeau-Mistassini\, Québec\, G8L 3X4\, Canada
CATEGORIES:Activités familiales,Activités gratuites,Sports et plein air
ATTACH;FMTTYPE=image/png:https://oselepaysdesbleuets.com/wp-content/uploads/2025/06/OSE-1080-x-1080-px-2.png
END:VEVENT
BEGIN:VEVENT
DTSTART;TZID=America/Toronto:20250709T123000
DTEND;TZID=America/Toronto:20250709T163000
DTSTAMP:20260419T081826
CREATED:20250619T185022Z
LAST-MODIFIED:20250707T123640Z
UID:10019831-1752064200-1752078600@oselepaysdesbleuets.com
SUMMARY:Sport - Piscine extérieure Dolbeau-Mistassini
DESCRIPTION:La piscine extérieure sera fermée les jours de pluie et lorsque la météo prévoit moins de 20°C. Les deux bassins de la piscine Rémabec seront alors accessible gratuitement en après-midi.
URL:https://oselepaysdesbleuets.com/evenement/sport-piscine-exterieure-et-jeux-deau-2/2025-07-09/
LOCATION:Parc Yvon Massicotte\, 108\, avenue des Chutes\, Dolbeau-Mistassini\, Québec\, G8L 3X4\, Canada
CATEGORIES:Activités familiales,Activités gratuites,Sports et plein air
ATTACH;FMTTYPE=image/png:https://oselepaysdesbleuets.com/wp-content/uploads/2025/06/OSE-1080-x-1080-px-2.png
END:VEVENT
BEGIN:VEVENT
DTSTART;TZID=America/Toronto:20250708T123000
DTEND;TZID=America/Toronto:20250708T163000
DTSTAMP:20260419T081826
CREATED:20250619T185022Z
LAST-MODIFIED:20250707T123640Z
UID:10019830-1751977800-1751992200@oselepaysdesbleuets.com
SUMMARY:Sport - Piscine extérieure Dolbeau-Mistassini
DESCRIPTION:La piscine extérieure sera fermée les jours de pluie et lorsque la météo prévoit moins de 20°C. Les deux bassins de la piscine Rémabec seront alors accessible gratuitement en après-midi.
URL:https://oselepaysdesbleuets.com/evenement/sport-piscine-exterieure-et-jeux-deau-2/2025-07-08/
LOCATION:Parc Yvon Massicotte\, 108\, avenue des Chutes\, Dolbeau-Mistassini\, Québec\, G8L 3X4\, Canada
CATEGORIES:Activités familiales,Activités gratuites,Sports et plein air
ATTACH;FMTTYPE=image/png:https://oselepaysdesbleuets.com/wp-content/uploads/2025/06/OSE-1080-x-1080-px-2.png
END:VEVENT
BEGIN:VEVENT
DTSTART;TZID=America/Toronto:20250707T123000
DTEND;TZID=America/Toronto:20250707T163000
DTSTAMP:20260419T081826
CREATED:20250619T185022Z
LAST-MODIFIED:20250707T123640Z
UID:10019829-1751891400-1751905800@oselepaysdesbleuets.com
SUMMARY:Sport - Piscine extérieure Dolbeau-Mistassini
DESCRIPTION:La piscine extérieure sera fermée les jours de pluie et lorsque la météo prévoit moins de 20°C. Les deux bassins de la piscine Rémabec seront alors accessible gratuitement en après-midi.
URL:https://oselepaysdesbleuets.com/evenement/sport-piscine-exterieure-et-jeux-deau-2/2025-07-07/
LOCATION:Parc Yvon Massicotte\, 108\, avenue des Chutes\, Dolbeau-Mistassini\, Québec\, G8L 3X4\, Canada
CATEGORIES:Activités familiales,Activités gratuites,Sports et plein air
ATTACH;FMTTYPE=image/png:https://oselepaysdesbleuets.com/wp-content/uploads/2025/06/OSE-1080-x-1080-px-2.png
END:VEVENT
BEGIN:VEVENT
DTSTART;TZID=America/Toronto:20250706T183000
DTEND;TZID=America/Toronto:20250706T193000
DTSTAMP:20260419T081826
CREATED:20250703T133123Z
LAST-MODIFIED:20250707T123848Z
UID:10019958-1751826600-1751830200@oselepaysdesbleuets.com
SUMMARY:Sport - Piscine extérieure Dolbeau-Mistassini
DESCRIPTION:La piscine extérieure sera fermée les jours de pluie et lorsque la météo prévoit moins de 20°C. Les deux bassins de la piscine Rémabec seront alors accessible gratuitement en après-midi.
URL:https://oselepaysdesbleuets.com/evenement/sport-piscine-exterieure-dolbeau-mistassini/2025-07-06/
LOCATION:Parc Yvon Massicotte\, 108\, avenue des Chutes\, Dolbeau-Mistassini\, Québec\, G8L 3X4\, Canada
CATEGORIES:Activités familiales,Activités gratuites,Sports et plein air
ATTACH;FMTTYPE=image/png:https://oselepaysdesbleuets.com/wp-content/uploads/2025/06/OSE-1080-x-1080-px-2.png
END:VEVENT
BEGIN:VEVENT
DTSTART;TZID=America/Toronto:20250706T123000
DTEND;TZID=America/Toronto:20250706T163000
DTSTAMP:20260419T081826
CREATED:20250619T185022Z
LAST-MODIFIED:20250707T123640Z
UID:10019828-1751805000-1751819400@oselepaysdesbleuets.com
SUMMARY:Sport - Piscine extérieure Dolbeau-Mistassini
DESCRIPTION:La piscine extérieure sera fermée les jours de pluie et lorsque la météo prévoit moins de 20°C. Les deux bassins de la piscine Rémabec seront alors accessible gratuitement en après-midi.
URL:https://oselepaysdesbleuets.com/evenement/sport-piscine-exterieure-et-jeux-deau-2/2025-07-06/
LOCATION:Parc Yvon Massicotte\, 108\, avenue des Chutes\, Dolbeau-Mistassini\, Québec\, G8L 3X4\, Canada
CATEGORIES:Activités familiales,Activités gratuites,Sports et plein air
ATTACH;FMTTYPE=image/png:https://oselepaysdesbleuets.com/wp-content/uploads/2025/06/OSE-1080-x-1080-px-2.png
END:VEVENT
BEGIN:VEVENT
DTSTART;TZID=America/Toronto:20250705T183000
DTEND;TZID=America/Toronto:20250705T193000
DTSTAMP:20260419T081826
CREATED:20250703T133123Z
LAST-MODIFIED:20250707T123848Z
UID:10019957-1751740200-1751743800@oselepaysdesbleuets.com
SUMMARY:Sport - Piscine extérieure Dolbeau-Mistassini
DESCRIPTION:La piscine extérieure sera fermée les jours de pluie et lorsque la météo prévoit moins de 20°C. Les deux bassins de la piscine Rémabec seront alors accessible gratuitement en après-midi.
URL:https://oselepaysdesbleuets.com/evenement/sport-piscine-exterieure-dolbeau-mistassini/2025-07-05/
LOCATION:Parc Yvon Massicotte\, 108\, avenue des Chutes\, Dolbeau-Mistassini\, Québec\, G8L 3X4\, Canada
CATEGORIES:Activités familiales,Activités gratuites,Sports et plein air
ATTACH;FMTTYPE=image/png:https://oselepaysdesbleuets.com/wp-content/uploads/2025/06/OSE-1080-x-1080-px-2.png
END:VEVENT
BEGIN:VEVENT
DTSTART;TZID=America/Toronto:20250705T123000
DTEND;TZID=America/Toronto:20250705T163000
DTSTAMP:20260419T081826
CREATED:20250619T185022Z
LAST-MODIFIED:20250707T123640Z
UID:10019827-1751718600-1751733000@oselepaysdesbleuets.com
SUMMARY:Sport - Piscine extérieure Dolbeau-Mistassini
DESCRIPTION:La piscine extérieure sera fermée les jours de pluie et lorsque la météo prévoit moins de 20°C. Les deux bassins de la piscine Rémabec seront alors accessible gratuitement en après-midi.
URL:https://oselepaysdesbleuets.com/evenement/sport-piscine-exterieure-et-jeux-deau-2/2025-07-05/
LOCATION:Parc Yvon Massicotte\, 108\, avenue des Chutes\, Dolbeau-Mistassini\, Québec\, G8L 3X4\, Canada
CATEGORIES:Activités familiales,Activités gratuites,Sports et plein air
ATTACH;FMTTYPE=image/png:https://oselepaysdesbleuets.com/wp-content/uploads/2025/06/OSE-1080-x-1080-px-2.png
END:VEVENT
END:VCALENDAR