BEGIN:VCALENDAR
VERSION:2.0
PRODID:-//Ose le Pays des Bleuets - ECPv6.15.20//NONSGML v1.0//EN
CALSCALE:GREGORIAN
METHOD:PUBLISH
X-ORIGINAL-URL:https://oselepaysdesbleuets.com
X-WR-CALDESC:Évènements pour Ose le Pays des Bleuets
REFRESH-INTERVAL;VALUE=DURATION:PT1H
X-Robots-Tag:noindex
X-PUBLISHED-TTL:PT1H
BEGIN:VTIMEZONE
TZID:America/Toronto
BEGIN:DAYLIGHT
TZOFFSETFROM:-0500
TZOFFSETTO:-0400
TZNAME:EDT
DTSTART:20230312T070000
END:DAYLIGHT
BEGIN:STANDARD
TZOFFSETFROM:-0400
TZOFFSETTO:-0500
TZNAME:EST
DTSTART:20231105T060000
END:STANDARD
BEGIN:DAYLIGHT
TZOFFSETFROM:-0500
TZOFFSETTO:-0400
TZNAME:EDT
DTSTART:20240310T070000
END:DAYLIGHT
BEGIN:STANDARD
TZOFFSETFROM:-0400
TZOFFSETTO:-0500
TZNAME:EST
DTSTART:20241103T060000
END:STANDARD
BEGIN:DAYLIGHT
TZOFFSETFROM:-0500
TZOFFSETTO:-0400
TZNAME:EDT
DTSTART:20250309T070000
END:DAYLIGHT
BEGIN:STANDARD
TZOFFSETFROM:-0400
TZOFFSETTO:-0500
TZNAME:EST
DTSTART:20251102T060000
END:STANDARD
BEGIN:DAYLIGHT
TZOFFSETFROM:-0500
TZOFFSETTO:-0400
TZNAME:EDT
DTSTART:20260308T070000
END:DAYLIGHT
BEGIN:STANDARD
TZOFFSETFROM:-0400
TZOFFSETTO:-0500
TZNAME:EST
DTSTART:20261101T060000
END:STANDARD
BEGIN:DAYLIGHT
TZOFFSETFROM:-0500
TZOFFSETTO:-0400
TZNAME:EDT
DTSTART:20270314T070000
END:DAYLIGHT
BEGIN:STANDARD
TZOFFSETFROM:-0400
TZOFFSETTO:-0500
TZNAME:EST
DTSTART:20271107T060000
END:STANDARD
END:VTIMEZONE
BEGIN:VEVENT
DTSTART;TZID=America/Toronto:20260314T080000
DTEND;TZID=America/Toronto:20260314T210000
DTSTAMP:20260418T060749
CREATED:20260313T151303Z
LAST-MODIFIED:20260313T151303Z
UID:10031458-1773475200-1773522000@oselepaysdesbleuets.com
SUMMARY:La classique de petuches Jacques Girard
DESCRIPTION:
URL:https://oselepaysdesbleuets.com/evenement/la-classique-de-petuches-jacques-girard/
LOCATION:Salle communautaire de Saint-Eugène-d’Argentenay\, 469 Rue du Pont\, Saint-Eugène-d'Argentenay\, Québec\, G0W 1B0\, Canada
CATEGORIES:Loisirs et culture
ATTACH;FMTTYPE=image/jpeg:https://oselepaysdesbleuets.com/wp-content/uploads/2026/03/Petuches.jpg
END:VEVENT
BEGIN:VEVENT
DTSTART;TZID=America/Toronto:20241124T100000
DTEND;TZID=America/Toronto:20241124T160000
DTSTAMP:20260418T060749
CREATED:20241030T183921Z
LAST-MODIFIED:20241115T152546Z
UID:10003979-1732442400-1732464000@oselepaysdesbleuets.com
SUMMARY:Marché de Noël - Saint-Eugène-d'Argentenay
DESCRIPTION:
URL:https://oselepaysdesbleuets.com/evenement/marche-de-noel-de-saint-eugene-dargentenay/2024-11-24/
LOCATION:Salle communautaire de Saint-Eugène-d’Argentenay\, 469 Rue du Pont\, Saint-Eugène-d'Argentenay\, Québec\, G0W 1B0\, Canada
CATEGORIES:Activités familiales,Loisirs et culture
ATTACH;FMTTYPE=image/jpeg:https://oselepaysdesbleuets.com/wp-content/uploads/2024/10/Marche-de-noel-St-eugene-1.jpg
END:VEVENT
BEGIN:VEVENT
DTSTART;TZID=America/Toronto:20241123T100000
DTEND;TZID=America/Toronto:20241123T160000
DTSTAMP:20260418T060749
CREATED:20241030T183921Z
LAST-MODIFIED:20241115T152546Z
UID:10003978-1732356000-1732377600@oselepaysdesbleuets.com
SUMMARY:Marché de Noël - Saint-Eugène-d'Argentenay
DESCRIPTION:
URL:https://oselepaysdesbleuets.com/evenement/marche-de-noel-de-saint-eugene-dargentenay/2024-11-23/
LOCATION:Salle communautaire de Saint-Eugène-d’Argentenay\, 469 Rue du Pont\, Saint-Eugène-d'Argentenay\, Québec\, G0W 1B0\, Canada
CATEGORIES:Activités familiales,Loisirs et culture
ATTACH;FMTTYPE=image/jpeg:https://oselepaysdesbleuets.com/wp-content/uploads/2024/10/Marche-de-noel-St-eugene-1.jpg
END:VEVENT
END:VCALENDAR