BEGIN:VCALENDAR
VERSION:2.0
PRODID:-//Ose le Pays des Bleuets - ECPv6.15.20//NONSGML v1.0//EN
CALSCALE:GREGORIAN
METHOD:PUBLISH
X-ORIGINAL-URL:https://oselepaysdesbleuets.com
X-WR-CALDESC:Évènements pour Ose le Pays des Bleuets
REFRESH-INTERVAL;VALUE=DURATION:PT1H
X-Robots-Tag:noindex
X-PUBLISHED-TTL:PT1H
BEGIN:VTIMEZONE
TZID:America/Toronto
BEGIN:DAYLIGHT
TZOFFSETFROM:-0500
TZOFFSETTO:-0400
TZNAME:EDT
DTSTART:20230312T070000
END:DAYLIGHT
BEGIN:STANDARD
TZOFFSETFROM:-0400
TZOFFSETTO:-0500
TZNAME:EST
DTSTART:20231105T060000
END:STANDARD
BEGIN:DAYLIGHT
TZOFFSETFROM:-0500
TZOFFSETTO:-0400
TZNAME:EDT
DTSTART:20240310T070000
END:DAYLIGHT
BEGIN:STANDARD
TZOFFSETFROM:-0400
TZOFFSETTO:-0500
TZNAME:EST
DTSTART:20241103T060000
END:STANDARD
BEGIN:DAYLIGHT
TZOFFSETFROM:-0500
TZOFFSETTO:-0400
TZNAME:EDT
DTSTART:20250309T070000
END:DAYLIGHT
BEGIN:STANDARD
TZOFFSETFROM:-0400
TZOFFSETTO:-0500
TZNAME:EST
DTSTART:20251102T060000
END:STANDARD
BEGIN:DAYLIGHT
TZOFFSETFROM:-0500
TZOFFSETTO:-0400
TZNAME:EDT
DTSTART:20260308T070000
END:DAYLIGHT
BEGIN:STANDARD
TZOFFSETFROM:-0400
TZOFFSETTO:-0500
TZNAME:EST
DTSTART:20261101T060000
END:STANDARD
END:VTIMEZONE
BEGIN:VEVENT
DTSTART;TZID=America/Toronto:20251213T170000
DTEND;TZID=America/Toronto:20251213T210000
DTSTAMP:20260419T105157
CREATED:20251030T170612Z
LAST-MODIFIED:20251030T170612Z
UID:10028634-1765645200-1765659600@oselepaysdesbleuets.com
SUMMARY:Souper spectacle  - 100e anniversaire
DESCRIPTION:
URL:https://oselepaysdesbleuets.com/evenement/souper-spectacle-100e-anniversaire/
LOCATION:Salle Gaieté\, 61 Avenue du Moulin\, St-Thomas-Didyme\, Québec\, G0W 1P0\, Canada
CATEGORIES:Loisirs et culture
ATTACH;FMTTYPE=image/jpeg:https://oselepaysdesbleuets.com/wp-content/uploads/2025/10/Souper-spectacle-cdf.jpg
END:VEVENT
BEGIN:VEVENT
DTSTART;TZID=America/Toronto:20251129T190000
DTEND;TZID=America/Toronto:20251129T233000
DTSTAMP:20260419T105157
CREATED:20251114T135326Z
LAST-MODIFIED:20251114T135326Z
UID:10028776-1764442800-1764459000@oselepaysdesbleuets.com
SUMMARY:Soirée de danse country - pop
DESCRIPTION:Soirée de danse Country/PopSous le Thème des Lutins\nCoût:15\,00$\n\nEnfants de 15 ans et moins gratuit\n\nÀ L’animation : Karine et Nathalie\n19h00 Cours de Danse19h30 Danse de partenaire20h Danse pour Tous
URL:https://oselepaysdesbleuets.com/evenement/soiree-de-danse-country-pop-2/
LOCATION:Salle Gaieté\, 61 Avenue du Moulin\, St-Thomas-Didyme\, Québec\, G0W 1P0\, Canada
CATEGORIES:Loisirs et culture,Sports et plein air
ATTACH;FMTTYPE=image/jpeg:https://oselepaysdesbleuets.com/wp-content/uploads/2025/11/Soiree-les-lutins-de-noel.jpg
END:VEVENT
BEGIN:VEVENT
DTSTART;TZID=America/Toronto:20251031T173000
DTEND;TZID=America/Toronto:20251031T193000
DTSTAMP:20260419T105157
CREATED:20250917T153150Z
LAST-MODIFIED:20251030T170138Z
UID:10020072-1761931800-1761939000@oselepaysdesbleuets.com
SUMMARY:Halloween - St-Thomas Didyme
DESCRIPTION:En raison de la forte pluie\, l’Halloween aura lieu à la salle Gaieté.
URL:https://oselepaysdesbleuets.com/evenement/halloween-st-thomas-didyme/
LOCATION:Salle Gaieté\, 61 Avenue du Moulin\, St-Thomas-Didyme\, Québec\, G0W 1P0\, Canada
CATEGORIES:Activités familiales,Activités gratuites
ATTACH;FMTTYPE=image/jpeg:https://oselepaysdesbleuets.com/wp-content/uploads/2025/09/Halloween-st-thomas-2025.jpg
END:VEVENT
BEGIN:VEVENT
DTSTART;TZID=America/Toronto:20250621T180000
DTEND;TZID=America/Toronto:20250621T233000
DTSTAMP:20260419T105157
CREATED:20250506T194720Z
LAST-MODIFIED:20250506T194720Z
UID:10019365-1750528800-1750548600@oselepaysdesbleuets.com
SUMMARY:Concert - Tassez-vous de d'là (hommage aux colocs)
DESCRIPTION:Souper-spectacle (fesse de boeuf) dès 18h00 sous le chapiteau\n35$ par personne et 20$ pour les 4 à 12 ans.\nLes billets sont en vente au Bureau municipal 418- 274 -3638 poste 0 ou au 418-274-7140
URL:https://oselepaysdesbleuets.com/evenement/concert-tassez-vous-de-dla-hommage-aux-colocs-2/
LOCATION:Salle Gaieté\, 61 Avenue du Moulin\, St-Thomas-Didyme\, Québec\, G0W 1P0\, Canada
CATEGORIES:Activités familiales,Concerts
ATTACH;FMTTYPE=image/jpeg:https://oselepaysdesbleuets.com/wp-content/uploads/2025/05/Concert-Tassez-vous-de-dla-hommage-aux-colocs-1.jpg
END:VEVENT
BEGIN:VEVENT
DTSTART;TZID=America/Toronto:20250322T193000
DTEND;TZID=America/Toronto:20250322T220000
DTSTAMP:20260419T105157
CREATED:20250317T151954Z
LAST-MODIFIED:20250317T151954Z
UID:10016776-1742671800-1742680800@oselepaysdesbleuets.com
SUMMARY:Soirée fluorescente - Danse country pop
DESCRIPTION:Soirée Country/Pop\nSoirée Fluorescente \n\nCoût: 15$\n19h30: Pratique Danse de Partenaire\n20h: Danse pour tous
URL:https://oselepaysdesbleuets.com/evenement/soiree-fluorescente-danse-country-pop/
LOCATION:Salle Gaieté\, 61 Avenue du Moulin\, St-Thomas-Didyme\, Québec\, G0W 1P0\, Canada
CATEGORIES:Loisirs et culture,Sports et plein air
ATTACH;FMTTYPE=image/jpeg:https://oselepaysdesbleuets.com/wp-content/uploads/2025/03/Soiree-fluorescente-Danse-country-pop.jpg
END:VEVENT
BEGIN:VEVENT
DTSTART;TZID=America/Toronto:20241130T200000
DTEND;TZID=America/Toronto:20241130T233000
DTSTAMP:20260419T105157
CREATED:20241119T202905Z
LAST-MODIFIED:20241119T202905Z
UID:10004112-1732996800-1733009400@oselepaysdesbleuets.com
SUMMARY:Fête - Country pop
DESCRIPTION:Soirée des Lutins de Noël \n\nCours de Danse: 20h\nDébut de la Soirée: 20h30\n\nApportez votre boisson.
URL:https://oselepaysdesbleuets.com/evenement/fete-country-pop/
LOCATION:Salle Gaieté\, 61 Avenue du Moulin\, St-Thomas-Didyme\, Québec\, G0W 1P0\, Canada
CATEGORIES:Loisirs et culture
ATTACH;FMTTYPE=image/jpeg:https://oselepaysdesbleuets.com/wp-content/uploads/2024/11/Soiree-country-pop.jpg
END:VEVENT
END:VCALENDAR