BEGIN:VCALENDAR
VERSION:2.0
PRODID:-//Ose le Pays des Bleuets - ECPv6.15.20//NONSGML v1.0//EN
CALSCALE:GREGORIAN
METHOD:PUBLISH
X-WR-CALNAME:Ose le Pays des Bleuets
X-ORIGINAL-URL:https://oselepaysdesbleuets.com
X-WR-CALDESC:Évènements pour Ose le Pays des Bleuets
REFRESH-INTERVAL;VALUE=DURATION:PT1H
X-Robots-Tag:noindex
X-PUBLISHED-TTL:PT1H
BEGIN:VTIMEZONE
TZID:America/Toronto
BEGIN:DAYLIGHT
TZOFFSETFROM:-0500
TZOFFSETTO:-0400
TZNAME:EDT
DTSTART:20230312T070000
END:DAYLIGHT
BEGIN:STANDARD
TZOFFSETFROM:-0400
TZOFFSETTO:-0500
TZNAME:EST
DTSTART:20231105T060000
END:STANDARD
BEGIN:DAYLIGHT
TZOFFSETFROM:-0500
TZOFFSETTO:-0400
TZNAME:EDT
DTSTART:20240310T070000
END:DAYLIGHT
BEGIN:STANDARD
TZOFFSETFROM:-0400
TZOFFSETTO:-0500
TZNAME:EST
DTSTART:20241103T060000
END:STANDARD
BEGIN:DAYLIGHT
TZOFFSETFROM:-0500
TZOFFSETTO:-0400
TZNAME:EDT
DTSTART:20250309T070000
END:DAYLIGHT
BEGIN:STANDARD
TZOFFSETFROM:-0400
TZOFFSETTO:-0500
TZNAME:EST
DTSTART:20251102T060000
END:STANDARD
BEGIN:DAYLIGHT
TZOFFSETFROM:-0500
TZOFFSETTO:-0400
TZNAME:EDT
DTSTART:20260308T070000
END:DAYLIGHT
BEGIN:STANDARD
TZOFFSETFROM:-0400
TZOFFSETTO:-0500
TZNAME:EST
DTSTART:20261101T060000
END:STANDARD
END:VTIMEZONE
BEGIN:VEVENT
DTSTART;TZID=America/Toronto:20250715T200000
DTEND;TZID=America/Toronto:20250715T220000
DTSTAMP:20260418T064304
CREATED:20250604T141324Z
LAST-MODIFIED:20250604T141324Z
UID:10019539-1752609600-1752616800@oselepaysdesbleuets.com
SUMMARY:Spectacle - Wanabago Blues
DESCRIPTION:En co-production\, les Zanimés et Bruno Paradis vous Z’annoncent leur production estivale 2025! Wanabago BluesUne comédie touchante et déjantéeUne toute nouvelle formule\, en co-production avec Bruno Paradis Un Wanabago. Des musiciens. Des comédiens.Et surtout… une bonne dose de fous rires! Préparez-vous à embarquer avec nous dans notre road trip du 6 au 22 juillet les dimanches\, lundis et mardis à 20 h à la salle du Site Touristique Chute à l’Ours de Normandin Billetterie en ligne  https://lepointdevente.com/billets/wanabagoblues \nTarifs : \n\nAdulte : 20$\nÉtudiant : 15$\nEnfant 11 ans et moins : 10$\n\n  \n 
URL:https://oselepaysdesbleuets.com/evenement/spectacle-wanabago-blues/2025-07-15/
LOCATION:Site touristique de la chute à l’ours\, 101 chemin Louis-Ovide Bouchard\, Normandin\, Québec\, G8M 4S8\, Canada
CATEGORIES:Activités familiales,Arts et culture,Loisirs et culture,Spectacles et festivals
ATTACH;FMTTYPE=image/jpeg:https://oselepaysdesbleuets.com/wp-content/uploads/2025/06/WANABAGO-LBUES.jpg
END:VEVENT
BEGIN:VEVENT
DTSTART;TZID=America/Toronto:20250714T200000
DTEND;TZID=America/Toronto:20250714T220000
DTSTAMP:20260418T064304
CREATED:20250604T141324Z
LAST-MODIFIED:20250604T141324Z
UID:10019538-1752523200-1752530400@oselepaysdesbleuets.com
SUMMARY:Spectacle - Wanabago Blues
DESCRIPTION:En co-production\, les Zanimés et Bruno Paradis vous Z’annoncent leur production estivale 2025! Wanabago BluesUne comédie touchante et déjantéeUne toute nouvelle formule\, en co-production avec Bruno Paradis Un Wanabago. Des musiciens. Des comédiens.Et surtout… une bonne dose de fous rires! Préparez-vous à embarquer avec nous dans notre road trip du 6 au 22 juillet les dimanches\, lundis et mardis à 20 h à la salle du Site Touristique Chute à l’Ours de Normandin Billetterie en ligne  https://lepointdevente.com/billets/wanabagoblues \nTarifs : \n\nAdulte : 20$\nÉtudiant : 15$\nEnfant 11 ans et moins : 10$\n\n  \n 
URL:https://oselepaysdesbleuets.com/evenement/spectacle-wanabago-blues/2025-07-14/
LOCATION:Site touristique de la chute à l’ours\, 101 chemin Louis-Ovide Bouchard\, Normandin\, Québec\, G8M 4S8\, Canada
CATEGORIES:Activités familiales,Arts et culture,Loisirs et culture,Spectacles et festivals
ATTACH;FMTTYPE=image/jpeg:https://oselepaysdesbleuets.com/wp-content/uploads/2025/06/WANABAGO-LBUES.jpg
END:VEVENT
BEGIN:VEVENT
DTSTART;TZID=America/Toronto:20250713T200000
DTEND;TZID=America/Toronto:20250713T220000
DTSTAMP:20260418T064304
CREATED:20250604T141324Z
LAST-MODIFIED:20250604T141324Z
UID:10019537-1752436800-1752444000@oselepaysdesbleuets.com
SUMMARY:Spectacle - Wanabago Blues
DESCRIPTION:En co-production\, les Zanimés et Bruno Paradis vous Z’annoncent leur production estivale 2025! Wanabago BluesUne comédie touchante et déjantéeUne toute nouvelle formule\, en co-production avec Bruno Paradis Un Wanabago. Des musiciens. Des comédiens.Et surtout… une bonne dose de fous rires! Préparez-vous à embarquer avec nous dans notre road trip du 6 au 22 juillet les dimanches\, lundis et mardis à 20 h à la salle du Site Touristique Chute à l’Ours de Normandin Billetterie en ligne  https://lepointdevente.com/billets/wanabagoblues \nTarifs : \n\nAdulte : 20$\nÉtudiant : 15$\nEnfant 11 ans et moins : 10$\n\n  \n 
URL:https://oselepaysdesbleuets.com/evenement/spectacle-wanabago-blues/2025-07-13/
LOCATION:Site touristique de la chute à l’ours\, 101 chemin Louis-Ovide Bouchard\, Normandin\, Québec\, G8M 4S8\, Canada
CATEGORIES:Activités familiales,Arts et culture,Loisirs et culture,Spectacles et festivals
ATTACH;FMTTYPE=image/jpeg:https://oselepaysdesbleuets.com/wp-content/uploads/2025/06/WANABAGO-LBUES.jpg
END:VEVENT
BEGIN:VEVENT
DTSTART;TZID=America/Toronto:20250708T200000
DTEND;TZID=America/Toronto:20250708T220000
DTSTAMP:20260418T064304
CREATED:20250604T141324Z
LAST-MODIFIED:20250604T141324Z
UID:10019536-1752004800-1752012000@oselepaysdesbleuets.com
SUMMARY:Spectacle - Wanabago Blues
DESCRIPTION:En co-production\, les Zanimés et Bruno Paradis vous Z’annoncent leur production estivale 2025! Wanabago BluesUne comédie touchante et déjantéeUne toute nouvelle formule\, en co-production avec Bruno Paradis Un Wanabago. Des musiciens. Des comédiens.Et surtout… une bonne dose de fous rires! Préparez-vous à embarquer avec nous dans notre road trip du 6 au 22 juillet les dimanches\, lundis et mardis à 20 h à la salle du Site Touristique Chute à l’Ours de Normandin Billetterie en ligne  https://lepointdevente.com/billets/wanabagoblues \nTarifs : \n\nAdulte : 20$\nÉtudiant : 15$\nEnfant 11 ans et moins : 10$\n\n  \n 
URL:https://oselepaysdesbleuets.com/evenement/spectacle-wanabago-blues/2025-07-08/
LOCATION:Site touristique de la chute à l’ours\, 101 chemin Louis-Ovide Bouchard\, Normandin\, Québec\, G8M 4S8\, Canada
CATEGORIES:Activités familiales,Arts et culture,Loisirs et culture,Spectacles et festivals
ATTACH;FMTTYPE=image/jpeg:https://oselepaysdesbleuets.com/wp-content/uploads/2025/06/WANABAGO-LBUES.jpg
END:VEVENT
BEGIN:VEVENT
DTSTART;TZID=America/Toronto:20250707T200000
DTEND;TZID=America/Toronto:20250707T220000
DTSTAMP:20260418T064304
CREATED:20250604T141324Z
LAST-MODIFIED:20250604T141324Z
UID:10019535-1751918400-1751925600@oselepaysdesbleuets.com
SUMMARY:Spectacle - Wanabago Blues
DESCRIPTION:En co-production\, les Zanimés et Bruno Paradis vous Z’annoncent leur production estivale 2025! Wanabago BluesUne comédie touchante et déjantéeUne toute nouvelle formule\, en co-production avec Bruno Paradis Un Wanabago. Des musiciens. Des comédiens.Et surtout… une bonne dose de fous rires! Préparez-vous à embarquer avec nous dans notre road trip du 6 au 22 juillet les dimanches\, lundis et mardis à 20 h à la salle du Site Touristique Chute à l’Ours de Normandin Billetterie en ligne  https://lepointdevente.com/billets/wanabagoblues \nTarifs : \n\nAdulte : 20$\nÉtudiant : 15$\nEnfant 11 ans et moins : 10$\n\n  \n 
URL:https://oselepaysdesbleuets.com/evenement/spectacle-wanabago-blues/2025-07-07/
LOCATION:Site touristique de la chute à l’ours\, 101 chemin Louis-Ovide Bouchard\, Normandin\, Québec\, G8M 4S8\, Canada
CATEGORIES:Activités familiales,Arts et culture,Loisirs et culture,Spectacles et festivals
ATTACH;FMTTYPE=image/jpeg:https://oselepaysdesbleuets.com/wp-content/uploads/2025/06/WANABAGO-LBUES.jpg
END:VEVENT
BEGIN:VEVENT
DTSTART;TZID=America/Toronto:20250706T200000
DTEND;TZID=America/Toronto:20250706T220000
DTSTAMP:20260418T064304
CREATED:20250604T141324Z
LAST-MODIFIED:20250604T141324Z
UID:10019534-1751832000-1751839200@oselepaysdesbleuets.com
SUMMARY:Spectacle - Wanabago Blues
DESCRIPTION:En co-production\, les Zanimés et Bruno Paradis vous Z’annoncent leur production estivale 2025! Wanabago BluesUne comédie touchante et déjantéeUne toute nouvelle formule\, en co-production avec Bruno Paradis Un Wanabago. Des musiciens. Des comédiens.Et surtout… une bonne dose de fous rires! Préparez-vous à embarquer avec nous dans notre road trip du 6 au 22 juillet les dimanches\, lundis et mardis à 20 h à la salle du Site Touristique Chute à l’Ours de Normandin Billetterie en ligne  https://lepointdevente.com/billets/wanabagoblues \nTarifs : \n\nAdulte : 20$\nÉtudiant : 15$\nEnfant 11 ans et moins : 10$\n\n  \n 
URL:https://oselepaysdesbleuets.com/evenement/spectacle-wanabago-blues/2025-07-06/
LOCATION:Site touristique de la chute à l’ours\, 101 chemin Louis-Ovide Bouchard\, Normandin\, Québec\, G8M 4S8\, Canada
CATEGORIES:Activités familiales,Arts et culture,Loisirs et culture,Spectacles et festivals
ATTACH;FMTTYPE=image/jpeg:https://oselepaysdesbleuets.com/wp-content/uploads/2025/06/WANABAGO-LBUES.jpg
END:VEVENT
BEGIN:VEVENT
DTSTART;TZID=America/Toronto:20250705T130000
DTEND;TZID=America/Toronto:20250705T170000
DTSTAMP:20260418T064304
CREATED:20250701T191044Z
LAST-MODIFIED:20250701T191044Z
UID:10019895-1751720400-1751734800@oselepaysdesbleuets.com
SUMMARY:Sport - Initiation au kayak 12-17 ans
DESCRIPTION:Activité vedette : Initiation au kayak – Gratuit\n\nEnvie d’aventure sur l’eau ? Cet été\, notre camp propose une initiation au kayak entièrement gratuite\, idéale pour les jeunes curieux de découvrir ce sport nautique en toute sécurité.Encadrés par des moniteurs certifiés et dynamiques\, les participants auront l’occasion de :\n– découvrir les bases du maniement du kayak ;– apprendre à pagayer efficacement et à se diriger ;– développer leur autonomie et leur confiance sur l’eau ;– Vivre une expérience de plein air amusante\, sportive et enrichissante.\n\nLieu : plan d’eau calme\, idéal pour débutants en aval de la chute à l’oursDurée : demi-journéeÂges : 12 à 17 ansÉquipement fourni : kayak\, pagaie\, gilet de sauvetageÀ apporter : maillot\, serviette\, vêtements de rechange\, lunch\n\nC’est l’occasion parfaite d’essayer un nouveau sport sans frais\, dans un cadre sécuritaire et stimulant. Rejoins-nous cet été pour pagayer en toute liberté ! Contactez-nous pour réserver vos places.
URL:https://oselepaysdesbleuets.com/evenement/sport-initiation-au-kayak-12-17-ans/
LOCATION:Site touristique de la chute à l’ours\, 101 chemin Louis-Ovide Bouchard\, Normandin\, Québec\, G8M 4S8\, Canada
CATEGORIES:Activités familiales,Activités gratuites,Sports et plein air
ATTACH;FMTTYPE=image/jpeg:https://oselepaysdesbleuets.com/wp-content/uploads/2025/07/Initiation-au-kayak.jpg
ORGANIZER;CN="Kayak Ho'omau":MAILTO:info@institut-kayakhoomau.com
END:VEVENT
BEGIN:VEVENT
DTSTART;TZID=America/Toronto:20250628T100000
DTEND;TZID=America/Toronto:20250628T210000
DTSTAMP:20260418T064304
CREATED:20250604T134906Z
LAST-MODIFIED:20250604T135119Z
UID:10019531-1751104800-1751144400@oselepaysdesbleuets.com
SUMMARY:Ateliers - Cartographie - Histoire - Canotage - Pêche
DESCRIPTION:L’expédition À la Mer du Nord passe par Normandin dans son grand voyage en canots traditionnels sur la Route des Fourrures\, de Tadoussac à la baie James. Le portage ancestral de la Chute-à-l’Ours\, c’en est tout un\, et on aura besoin de l’aide de toute la communauté pour transporter nos canots de toile et notre matériel!\nVenez nous rencontrer au site touristique de la Chute à l’Ours! Au programme: ateliers sur la cartographie\, l’histoire\, le canotage\, la pêche\, et on finit ça avec une veillée autour du feu. Conteurs et musiciens bienvenus!
URL:https://oselepaysdesbleuets.com/evenement/ateliers-cartographie-histoire-canotage-peche/
LOCATION:Site touristique de la chute à l’ours\, 101 chemin Louis-Ovide Bouchard\, Normandin\, Québec\, G8M 4S8\, Canada
CATEGORIES:Activités familiales,Activités gratuites,Arts et culture,Loisirs et culture
ATTACH;FMTTYPE=image/jpeg:https://oselepaysdesbleuets.com/wp-content/uploads/2025/06/Ateliers-a-la-mer-du-nord-2025.jpg
END:VEVENT
BEGIN:VEVENT
DTSTART;TZID=America/Toronto:20250305T180000
DTEND;TZID=America/Toronto:20250305T200000
DTSTAMP:20260418T064304
CREATED:20250225T200415Z
LAST-MODIFIED:20250225T200415Z
UID:10016117-1741197600-1741204800@oselepaysdesbleuets.com
SUMMARY:Relâche 2025 - Chasse au trésor nocturne
DESCRIPTION:Rendez-vous au Resto d’la Chute avec votre lampe frontale pour une chasse au trésor en famille dans les sentiers pédestres. \nInscris-toi au 418 274-2004 p3255.
URL:https://oselepaysdesbleuets.com/evenement/relache-2025-chasse-au-tresor-nocturne/
LOCATION:Site touristique de la chute à l’ours\, 101 chemin Louis-Ovide Bouchard\, Normandin\, Québec\, G8M 4S8\, Canada
CATEGORIES:Activités familiales,Sports et plein air
ATTACH;FMTTYPE=image/jpeg:https://oselepaysdesbleuets.com/wp-content/uploads/2025/02/Relache-2025-Normandin.jpg
END:VEVENT
BEGIN:VEVENT
DTSTART;TZID=America/Toronto:20240929T080000
DTEND;TZID=America/Toronto:20240929T220000
DTSTAMP:20260418T064304
CREATED:20240809T135704Z
LAST-MODIFIED:20240909T182342Z
UID:10003373-1727596800-1727647200@oselepaysdesbleuets.com
SUMMARY:Symposium de la Chute à l'Ours
DESCRIPTION:Le Symposium de la Chute à l’Ours est un évènement d’arts visuels regroupant des artistes professionnels de toutes les régions du Québec.  L’évènement aura lieu sous chapiteau. \nUne trentaine d’artistes exposeront leurs œuvres dans l’environnement naturel unique du Site touristique Chute à l’Ours\, bordé des rapides de la rivière Ashuapmushuan et entouré d’une forêt mature. \nLes visiteurs auront la chance de venir découvrir les réalisations des artistes et de venir les encourager dans leur création.
URL:https://oselepaysdesbleuets.com/evenement/symposium-de-la-chute-a-lours-2/
LOCATION:Site touristique de la chute à l’ours\, 101 chemin Louis-Ovide Bouchard\, Normandin\, Québec\, G8M 4S8\, Canada
CATEGORIES:Arts et culture
ATTACH;FMTTYPE=image/png:https://oselepaysdesbleuets.com/wp-content/uploads/2024/08/Symposium-de-la-chute-a-lours.png
END:VEVENT
BEGIN:VEVENT
DTSTART;TZID=America/Toronto:20240928T080000
DTEND;TZID=America/Toronto:20240928T220000
DTSTAMP:20260418T064304
CREATED:20240809T135442Z
LAST-MODIFIED:20240909T182220Z
UID:10003372-1727510400-1727560800@oselepaysdesbleuets.com
SUMMARY:Symposium de la Chute à l'Ours
DESCRIPTION:Évènement d’arts visuels\nLe Symposium de la Chute à l’Ours est un évènement d’arts visuels regroupant des artistes professionnels de toutes les régions du Québec. L’évènement aura lieu sous chapiteau. \nUne trentaine d’artistes exposeront leurs œuvres dans l’environnement naturel unique du Site touristique Chute à l’Ours\, bordé des rapides de la rivière Ashuapmushuan et entouré d’une forêt mature. Les visiteurs auront la chance de venir découvrir les réalisations des artistes et de venir les encourager dans leur création. \n 
URL:https://oselepaysdesbleuets.com/evenement/symposium-de-la-chute-a-lours/
LOCATION:Site touristique de la chute à l’ours\, 101 chemin Louis-Ovide Bouchard\, Normandin\, Québec\, G8M 4S8\, Canada
CATEGORIES:Arts et culture
ATTACH;FMTTYPE=image/png:https://oselepaysdesbleuets.com/wp-content/uploads/2024/08/Symposium-de-la-chute-a-lours.png
END:VEVENT
BEGIN:VEVENT
DTSTART;TZID=America/Toronto:20240913T200000
DTEND;TZID=America/Toronto:20240913T230000
DTSTAMP:20260418T064304
CREATED:20240808T181725Z
LAST-MODIFIED:20240808T181725Z
UID:10003371-1726257600-1726268400@oselepaysdesbleuets.com
SUMMARY:Spectacle de Fuso
DESCRIPTION:Fuso est originaire de Milly-La-Forêt\, en France\, où il baigna dans la musique depuis son jeune âge et grandit sous les airs reggae et hip-hop\, notamment de la chanson « Angela » du groupe Saian Supa Crew. En 2001\, il quitta la banlieue parisienne pour déménager avec sa famille au Québec. Quelques années plus tard\, absorbé par la culture du surf\, des voyages et n’ayant jamais perdu sa passion pour le rythme que lui apporte la musique dans sa vie\, il commença à gratter la guitare en vue d’accompagner ses amis autour des feux. Fuso se fait approcher par le producteur William Gaboury afin d’expérimenter l’enregistrement en studio. Une fois le duo séparé\, Fuso décide de revenir en force en studio afin de livrer son premier album éponyme.
URL:https://oselepaysdesbleuets.com/evenement/spectacle-de-fuso/
LOCATION:Site touristique de la chute à l’ours\, 101 chemin Louis-Ovide Bouchard\, Normandin\, Québec\, G8M 4S8\, Canada
CATEGORIES:Concerts
ATTACH;FMTTYPE=image/jpeg:https://oselepaysdesbleuets.com/wp-content/uploads/2024/08/Fuso1.jpg
END:VEVENT
BEGIN:VEVENT
DTSTART;TZID=America/Toronto:20240913T170000
DTEND;TZID=America/Toronto:20240915T130000
DTSTAMP:20260418T064304
CREATED:20240808T180931Z
LAST-MODIFIED:20240904T130908Z
UID:10003370-1726246800-1726405200@oselepaysdesbleuets.com
SUMMARY:Festival Équilibre
DESCRIPTION:Développer les 6 dimensions du bien-être pour tendre vers l’équilibre!\n\n\n\n\n\n\n\n\n\n\n\n\n\n\nDu 13 au 15 septembre prochain\, pour sa toute première édition\, plongez dans l’univers magique du festival ÉQUILIBRE au Saguenay-Lac-Saint-Jean\, une célébration unique du bien-être en pleine nature. Rejoignez une communauté de 300 passionnés pour des ateliers\, des conférences et des soins axés sur les 6 dimensions du bien-être : physique\, émotionnelle\, spirituelle\, intellectuelle\, sociale et environnementale. \n\nTarifs : \n\nPasseport du samedi : 85$\nPasseport fin de semaine : 165$ (Complet)
URL:https://oselepaysdesbleuets.com/evenement/festival-equilibre/
LOCATION:Site touristique de la chute à l’ours\, 101 chemin Louis-Ovide Bouchard\, Normandin\, Québec\, G8M 4S8\, Canada
CATEGORIES:Spectacles et festivals
ATTACH;FMTTYPE=image/jpeg:https://oselepaysdesbleuets.com/wp-content/uploads/2024/08/Festival-Equilibre.jpg
END:VEVENT
BEGIN:VEVENT
DTSTART;TZID=America/Toronto:20240809T170000
DTEND;TZID=America/Toronto:20240811T160000
DTSTAMP:20260418T064304
CREATED:20240808T175300Z
LAST-MODIFIED:20240808T175300Z
UID:10003369-1723222800-1723392000@oselepaysdesbleuets.com
SUMMARY:La classique de volleyball
DESCRIPTION:L’évènement tant attendu de volleyball revient encore une fois cette année à Normandin. La compétition se déroulera du 9 au 11 août 2024. Plusieurs catégories et équipes de haut calibre feront partie de ce tournoi. \nRetrouvez le vendredi et samedi soir à partir de 21h les spectacles de Belle et Bête ainsi que de DJ JM.
URL:https://oselepaysdesbleuets.com/evenement/la-classique-de-volleyball/
LOCATION:Site touristique de la chute à l’ours\, 101 chemin Louis-Ovide Bouchard\, Normandin\, Québec\, G8M 4S8\, Canada
CATEGORIES:Concerts,Sports et plein air
ATTACH;FMTTYPE=image/jpeg:https://oselepaysdesbleuets.com/wp-content/uploads/2024/08/La-classique-de-volleyball.jpg
END:VEVENT
END:VCALENDAR