BEGIN:VCALENDAR
VERSION:2.0
PRODID:-//Ose le Pays des Bleuets - ECPv6.15.20//NONSGML v1.0//EN
CALSCALE:GREGORIAN
METHOD:PUBLISH
X-ORIGINAL-URL:https://oselepaysdesbleuets.com
X-WR-CALDESC:Évènements pour Ose le Pays des Bleuets
REFRESH-INTERVAL;VALUE=DURATION:PT1H
X-Robots-Tag:noindex
X-PUBLISHED-TTL:PT1H
BEGIN:VTIMEZONE
TZID:America/Toronto
BEGIN:DAYLIGHT
TZOFFSETFROM:-0500
TZOFFSETTO:-0400
TZNAME:EDT
DTSTART:20230312T070000
END:DAYLIGHT
BEGIN:STANDARD
TZOFFSETFROM:-0400
TZOFFSETTO:-0500
TZNAME:EST
DTSTART:20231105T060000
END:STANDARD
BEGIN:DAYLIGHT
TZOFFSETFROM:-0500
TZOFFSETTO:-0400
TZNAME:EDT
DTSTART:20240310T070000
END:DAYLIGHT
BEGIN:STANDARD
TZOFFSETFROM:-0400
TZOFFSETTO:-0500
TZNAME:EST
DTSTART:20241103T060000
END:STANDARD
BEGIN:DAYLIGHT
TZOFFSETFROM:-0500
TZOFFSETTO:-0400
TZNAME:EDT
DTSTART:20250309T070000
END:DAYLIGHT
BEGIN:STANDARD
TZOFFSETFROM:-0400
TZOFFSETTO:-0500
TZNAME:EST
DTSTART:20251102T060000
END:STANDARD
BEGIN:DAYLIGHT
TZOFFSETFROM:-0500
TZOFFSETTO:-0400
TZNAME:EDT
DTSTART:20260308T070000
END:DAYLIGHT
BEGIN:STANDARD
TZOFFSETFROM:-0400
TZOFFSETTO:-0500
TZNAME:EST
DTSTART:20261101T060000
END:STANDARD
END:VTIMEZONE
BEGIN:VEVENT
DTSTART;TZID=America/Toronto:20250308T140000
DTEND;TZID=America/Toronto:20250308T153000
DTSTAMP:20260420T032815
CREATED:20250130T150308Z
LAST-MODIFIED:20250222T153028Z
UID:10013057-1741442400-1741447800@oselepaysdesbleuets.com
SUMMARY:Danse intuitive - Ancrage par le mouvement
DESCRIPTION:Je vous invite à cet atelier de danse intuitive – ancrage par le mouvement qui aura lieu le samedi 22 février à 14h dans l’espace sacré\, local voisin du centre mieux-être Arcana\, au coût de 22 $ par personne ! Cet atelier débutera par une séance d’information sur le chakra racine. Ensuite\, nous continuerons l’atelier avec une élévation par les vibrations\, puis nous créerons un ancrage parfait avec des mouvements de votre corps. Enfin\, nous apprendrons à canaliser notre énergie créatrice avec la musique et à la laisser s’extérioriser par la suite avec une danse intuitive ! \nTout le monde qui aimerait venir tester ce nouvel atelier qui s’ajoute à notre secteur et qui débutera une grande série de danse intuitive sont les bienvenus ! Tout le monde est invité à se joindre à nous ! Que vous soyez débutant ou expérimenté en danse et en spiritualité !
URL:https://oselepaysdesbleuets.com/evenement/danse-intuitive-ancrage-par-le-mouvement/
LOCATION:L’espace sacré\, 1230 boulevard wallberg\, Dolbeau-mistassini\, G8L 1H2
ATTACH;FMTTYPE=image/jpeg:https://oselepaysdesbleuets.com/wp-content/uploads/2025/01/IMG_9695-scaled.jpeg
END:VEVENT
BEGIN:VEVENT
DTSTART;TZID=America/Toronto:20241109T130000
DTEND;TZID=America/Toronto:20241109T160000
DTSTAMP:20260420T032815
CREATED:20241021T190423Z
LAST-MODIFIED:20241021T190423Z
UID:10003555-1731157200-1731168000@oselepaysdesbleuets.com
SUMMARY:Atelier - Création d'un capteur de rêve
DESCRIPTION:Pour réserver votre place : Envoyez-nous un message sur la page Facebook du centre Mieux-Être Arcana. Nous vous dirons s’il reste de la place et vous donnerons les détails pour le paiement ! \nL’atelier sera sous forme artisanale\, donc on vous accompagne pour créer votre capteur. Nous vous enseignerons les bases de la confection\, les procédés ainsi que son activation !\nVous repartirez avec votre création à la fin de la journée ! \nUne belle après-midi remplie d’énergie co-créatrice et d’originalité!\nCafé / thé / tisane serons à votre disposition durant l’atelier\nNous avons très hâte de vous recevoir!
URL:https://oselepaysdesbleuets.com/evenement/atelier-creation-dun-capteur-de-reve/
LOCATION:Centre mieux-être Arcana\, 1230 Boul. Wallberg suite 114\, Dolbeau-Mistassini\, Québec\, G8L1H1\, Canada
CATEGORIES:Ateliers
ATTACH;FMTTYPE=image/jpeg:https://oselepaysdesbleuets.com/wp-content/uploads/2024/10/Centre-ARCANA.jpg
END:VEVENT
BEGIN:VEVENT
DTSTART;TZID=America/Toronto:20241103T100000
DTEND;TZID=America/Toronto:20241103T170000
DTSTAMP:20260420T032815
CREATED:20241031T174554Z
LAST-MODIFIED:20241031T174554Z
UID:10003983-1730628000-1730653200@oselepaysdesbleuets.com
SUMMARY:Centre Mieux-Être Arcana fête son 1 an
DESCRIPTION:Nous fêtons notre 1 an d’ouverture ! \nPour cet grand événement\, nous vous offrons : \n\nUne boîte mystère qui contiendra des rabais !\nPlusieurs prix à faire tirer\nUn service de bar cacao sacré\nL’INAUGURATION DU CAFÉ/BISTRO CONSCIENCE !! 😍\nService de nourriture sur place (sans gluten)\nDe la belle énergie et de belles discussions\n\nOn vous attend en grand nombre ! 🧡
URL:https://oselepaysdesbleuets.com/evenement/centre-mieux-etre-arcana-fete-son-1-an/
LOCATION:Centre mieux-être Arcana\, 1230 Boul. Wallberg suite 114\, Dolbeau-Mistassini\, Québec\, G8L1H1\, Canada
CATEGORIES:Arts et culture,Loisirs et culture
ATTACH;FMTTYPE=image/jpeg:https://oselepaysdesbleuets.com/wp-content/uploads/2024/10/IMG_8144.jpeg
END:VEVENT
END:VCALENDAR