BEGIN:VCALENDAR
VERSION:2.0
PRODID:-//Ose le Pays des Bleuets - ECPv6.15.20//NONSGML v1.0//EN
CALSCALE:GREGORIAN
METHOD:PUBLISH
X-ORIGINAL-URL:https://oselepaysdesbleuets.com
X-WR-CALDESC:Évènements pour Ose le Pays des Bleuets
REFRESH-INTERVAL;VALUE=DURATION:PT1H
X-Robots-Tag:noindex
X-PUBLISHED-TTL:PT1H
BEGIN:VTIMEZONE
TZID:America/Toronto
BEGIN:DAYLIGHT
TZOFFSETFROM:-0500
TZOFFSETTO:-0400
TZNAME:EDT
DTSTART:20230312T070000
END:DAYLIGHT
BEGIN:STANDARD
TZOFFSETFROM:-0400
TZOFFSETTO:-0500
TZNAME:EST
DTSTART:20231105T060000
END:STANDARD
BEGIN:DAYLIGHT
TZOFFSETFROM:-0500
TZOFFSETTO:-0400
TZNAME:EDT
DTSTART:20240310T070000
END:DAYLIGHT
BEGIN:STANDARD
TZOFFSETFROM:-0400
TZOFFSETTO:-0500
TZNAME:EST
DTSTART:20241103T060000
END:STANDARD
BEGIN:DAYLIGHT
TZOFFSETFROM:-0500
TZOFFSETTO:-0400
TZNAME:EDT
DTSTART:20250309T070000
END:DAYLIGHT
BEGIN:STANDARD
TZOFFSETFROM:-0400
TZOFFSETTO:-0500
TZNAME:EST
DTSTART:20251102T060000
END:STANDARD
BEGIN:DAYLIGHT
TZOFFSETFROM:-0500
TZOFFSETTO:-0400
TZNAME:EDT
DTSTART:20260308T070000
END:DAYLIGHT
BEGIN:STANDARD
TZOFFSETFROM:-0400
TZOFFSETTO:-0500
TZNAME:EST
DTSTART:20261101T060000
END:STANDARD
END:VTIMEZONE
BEGIN:VEVENT
DTSTART;TZID=America/Toronto:20250823T130000
DTEND;TZID=America/Toronto:20250823T233000
DTSTAMP:20260419T141914
CREATED:20250714T122817Z
LAST-MODIFIED:20250728T154829Z
UID:10020002-1755954000-1755991800@oselepaysdesbleuets.com
SUMMARY:Festival des Brasseurs
DESCRIPTION:La 11e édition du Festival des Brasseurs de Dolbeau.
URL:https://oselepaysdesbleuets.com/evenement/festival-des-brasseurs/2025-08-23/
LOCATION:Zone Wallberg\, 1264\, boulevard Wallberg\, Dolbeau-Mistassini\, Québec\, G8l 1h1\, Canada
CATEGORIES:Activités familiales,Agrotourisme,Spectacles et festivals
ATTACH;FMTTYPE=image/jpeg:https://oselepaysdesbleuets.com/wp-content/uploads/2025/07/Festival-des-brasseurs.jpg
END:VEVENT
BEGIN:VEVENT
DTSTART;TZID=America/Toronto:20250822T170000
DTEND;TZID=America/Toronto:20250822T233000
DTSTAMP:20260419T141914
CREATED:20250714T122817Z
LAST-MODIFIED:20250728T154829Z
UID:10019977-1755882000-1755905400@oselepaysdesbleuets.com
SUMMARY:Festival des Brasseurs
DESCRIPTION:La 11e édition du Festival des Brasseurs de Dolbeau.
URL:https://oselepaysdesbleuets.com/evenement/festival-des-brasseurs/2025-08-22/
LOCATION:Zone Wallberg\, 1264\, boulevard Wallberg\, Dolbeau-Mistassini\, Québec\, G8l 1h1\, Canada
CATEGORIES:Activités familiales,Agrotourisme,Spectacles et festivals
ATTACH;FMTTYPE=image/jpeg:https://oselepaysdesbleuets.com/wp-content/uploads/2025/07/Festival-des-brasseurs.jpg
END:VEVENT
BEGIN:VEVENT
DTSTART;TZID=America/Toronto:20240824T213000
DTEND;TZID=America/Toronto:20240824T233000
DTSTAMP:20260419T141914
CREATED:20240809T145418Z
LAST-MODIFIED:20240809T145418Z
UID:10003378-1724535000-1724542200@oselepaysdesbleuets.com
SUMMARY:Sara Dufour au Festival des Brasseurs de Dolbeau-Mistassini
DESCRIPTION:Une puissante bougie d’allumage! Voilà un qualitatif qui décrit parfaitement Sara Dufour. \nEn spectacle\, on fait la rencontre de quelqu’un d’authentique qui nous donne envie de s’évader le temps d’une escapade ou du moins\, le goût de respirer la liberté pour un moment. Au volant de sa guitare\, elle continue de «taper sa trail» avec son folk’n’roll. Elle vous raconte des «bouttes» d’histoires à vapeur d’essence et vous entraîne dans ses aventures parsemées d’humour et de spontanéité\, bien ancrées dans ses racines.
URL:https://oselepaysdesbleuets.com/evenement/sara-dufour-au-festival-des-brasseurs-de-dolbeau-mistassini/
LOCATION:Zone Wallberg\, 1264\, boulevard Wallberg\, Dolbeau-Mistassini\, Québec\, G8l 1h1\, Canada
CATEGORIES:Concerts
ATTACH;FMTTYPE=image/jpeg:https://oselepaysdesbleuets.com/wp-content/uploads/2024/08/sara-dufour.jpg
END:VEVENT
BEGIN:VEVENT
DTSTART;TZID=America/Toronto:20240824T201500
DTEND;TZID=America/Toronto:20240824T213000
DTSTAMP:20260419T141914
CREATED:20240809T144413Z
LAST-MODIFIED:20240809T144413Z
UID:10003377-1724530500-1724535000@oselepaysdesbleuets.com
SUMMARY:Bruno Rodéo au Festival des Brasseurs de Dolbeau-Mistassini
DESCRIPTION:Imaginez un croisement entre Plume Latraverse et Willie Lamothe\, avec des profondes racines rockabilly et punk. Vous pouvez vous faire une vague idée du son de Bruno Rodéo. Mais pour bien saisir son univers\, il faut décidément le voir en show. C’est un country rock assumé et unique qui fait taper du pied les fans du genre\, comme les plus sceptiques. Accompagner de ses talentueux musiciens et de son ultime acolyte Le Fun\, le party va s’enflammer!
URL:https://oselepaysdesbleuets.com/evenement/bruno-rodeo-au-festival-des-brasseurs-de-dolbeau-mistassini/
LOCATION:Zone Wallberg\, 1264\, boulevard Wallberg\, Dolbeau-Mistassini\, Québec\, G8l 1h1\, Canada
CATEGORIES:Concerts
ATTACH;FMTTYPE=image/jpeg:https://oselepaysdesbleuets.com/wp-content/uploads/2024/08/Bruno-Rodeo.jpg
END:VEVENT
BEGIN:VEVENT
DTSTART;TZID=America/Toronto:20240824T130000
DTEND;TZID=America/Toronto:20240824T233000
DTSTAMP:20260419T141914
CREATED:20240809T150239Z
LAST-MODIFIED:20240809T150239Z
UID:10003380-1724504400-1724542200@oselepaysdesbleuets.com
SUMMARY:Festival des Brasseurs de Dolbeau-Mistassini
DESCRIPTION:Depuis 2013\, le dynamique comité de Gestion d’événements FUTÉ organise le Festival des Brasseurs de Dolbeau-Mistassini. \nQue ce soit pour renouer avec les amis et la famille\, pour découvrir une excellente bière du Québec\, pour déguster un menu décadent avec notre offre de bouffe de rue ou pour apprécier un spectacle professionnel de grande qualité\, le festival des Brasseurs est maintenant un incontournable du paysage au lac St-Jean! \nAyant comme mission d’animer de façon grandiose le centre-ville du secteur Dolbeau\, le Festival des Brasseurs promet une ambiance magique sous la voute étoilée pour souligner sa 10e édition les 23 et 24 août 2024!
URL:https://oselepaysdesbleuets.com/evenement/festival-des-brasseurs-de-dolbeau-mistassini-2/
LOCATION:Zone Wallberg\, 1264\, boulevard Wallberg\, Dolbeau-Mistassini\, Québec\, G8l 1h1\, Canada
ATTACH;FMTTYPE=image/jpeg:https://oselepaysdesbleuets.com/wp-content/uploads/2024/08/Festival-des-brasseurs.jpg
END:VEVENT
BEGIN:VEVENT
DTSTART;TZID=America/Toronto:20240823T223000
DTEND;TZID=America/Toronto:20240823T233000
DTSTAMP:20260419T141914
CREATED:20240809T142955Z
LAST-MODIFIED:20240809T142955Z
UID:10003376-1724452200-1724455800@oselepaysdesbleuets.com
SUMMARY:Valaire au Festival des Brasseurs de Dolbeau-Mistassini
DESCRIPTION:Pour terminer la soirée du vendredi 23 août au Festival des Brasseurs de Dolbeau-Mistassini de façon dansante et festive\, vous devez absolument être présents pour le spectacle de Valaire !\n\nPop\, jazz\, électro et hip-hop seront au rendez-vous pour vous faire bouger comme eux seuls savent le faire.
URL:https://oselepaysdesbleuets.com/evenement/valaire-au-festival-des-brasseurs-de-dolbeau-mistassini/
LOCATION:Zone Wallberg\, 1264\, boulevard Wallberg\, Dolbeau-Mistassini\, Québec\, G8l 1h1\, Canada
CATEGORIES:Concerts
ATTACH;FMTTYPE=image/jpeg:https://oselepaysdesbleuets.com/wp-content/uploads/2024/08/Valaire.jpg
END:VEVENT
BEGIN:VEVENT
DTSTART;TZID=America/Toronto:20240823T210000
DTEND;TZID=America/Toronto:20240823T230000
DTSTAMP:20260419T141914
CREATED:20240809T142553Z
LAST-MODIFIED:20240809T142553Z
UID:10003375-1724446800-1724454000@oselepaysdesbleuets.com
SUMMARY:Bon Enfant au Festival des Brasseurs de Dolbeau-Mistassini
DESCRIPTION:Bon Enfant présente un tout nouveau spectacle comprenant des chansons inédites issues d’un 3ᵉ album à venir à l’automne 2024. \nDepuis sa formation en 2018\, le groupe a fait paraître deux albums\, Bon Enfant (2019) et Diorama (2021). Après avoir gagné le Félix de l’Album rock de l’année\, Bon Enfant est nommé dans la catégorie spectacle de l’année et remporte la sonorisation de l’année à l’ADISQ en 2023. \nBon Enfant n’est plus à faire\, c’est sur scène que l’univers éclatant et contagieux de leurs chansons prend son sens. \nGage d’un spectacle à voir et revoir.
URL:https://oselepaysdesbleuets.com/evenement/bon-enfant-au-festival-des-brasseurs-de-dolbeau-mistassini/
LOCATION:Zone Wallberg\, 1264\, boulevard Wallberg\, Dolbeau-Mistassini\, Québec\, G8l 1h1\, Canada
CATEGORIES:Concerts
ATTACH;FMTTYPE=image/jpeg:https://oselepaysdesbleuets.com/wp-content/uploads/2024/08/Bon-enfant.jpg
END:VEVENT
BEGIN:VEVENT
DTSTART;TZID=America/Toronto:20240823T170000
DTEND;TZID=America/Toronto:20240823T233000
DTSTAMP:20260419T141914
CREATED:20240809T150108Z
LAST-MODIFIED:20240809T150108Z
UID:10003379-1724432400-1724455800@oselepaysdesbleuets.com
SUMMARY:Festival des Brasseurs de Dolbeau-Mistassini
DESCRIPTION:Depuis 2013\, le dynamique comité de Gestion d’événements FUTÉ organise le Festival des Brasseurs de Dolbeau-Mistassini. \nQue ce soit pour renouer avec les amis et la famille\, pour découvrir une excellente bière du Québec\, pour déguster un menu décadent avec notre offre de bouffe de rue ou pour apprécier un spectacle professionnel de grande qualité\, le festival des Brasseurs est maintenant un incontournable du paysage au lac St-Jean! \nAyant comme mission d’animer de façon grandiose le centre-ville du secteur Dolbeau\, le Festival des Brasseurs promet une ambiance magique sous la voute étoilée pour souligner sa 10e édition les 23 et 24 août 2024! \nL’accès au site est 100% gratuit.
URL:https://oselepaysdesbleuets.com/evenement/festival-des-brasseurs-de-dolbeau-mistassini/
LOCATION:Zone Wallberg\, 1264\, boulevard Wallberg\, Dolbeau-Mistassini\, Québec\, G8l 1h1\, Canada
CATEGORIES:Spectacles et festivals
ATTACH;FMTTYPE=image/jpeg:https://oselepaysdesbleuets.com/wp-content/uploads/2024/08/Festival-des-brasseurs.jpg
END:VEVENT
END:VCALENDAR