BEGIN:VCALENDAR
VERSION:2.0
PRODID:-//Ose le Pays des Bleuets - ECPv6.15.20//NONSGML v1.0//EN
CALSCALE:GREGORIAN
METHOD:PUBLISH
X-WR-CALNAME:Ose le Pays des Bleuets
X-ORIGINAL-URL:https://oselepaysdesbleuets.com
X-WR-CALDESC:Évènements pour Ose le Pays des Bleuets
REFRESH-INTERVAL;VALUE=DURATION:PT1H
X-Robots-Tag:noindex
X-PUBLISHED-TTL:PT1H
BEGIN:VTIMEZONE
TZID:America/Toronto
BEGIN:DAYLIGHT
TZOFFSETFROM:-0500
TZOFFSETTO:-0400
TZNAME:EDT
DTSTART:20240310T070000
END:DAYLIGHT
BEGIN:STANDARD
TZOFFSETFROM:-0400
TZOFFSETTO:-0500
TZNAME:EST
DTSTART:20241103T060000
END:STANDARD
BEGIN:DAYLIGHT
TZOFFSETFROM:-0500
TZOFFSETTO:-0400
TZNAME:EDT
DTSTART:20250309T070000
END:DAYLIGHT
BEGIN:STANDARD
TZOFFSETFROM:-0400
TZOFFSETTO:-0500
TZNAME:EST
DTSTART:20251102T060000
END:STANDARD
BEGIN:DAYLIGHT
TZOFFSETFROM:-0500
TZOFFSETTO:-0400
TZNAME:EDT
DTSTART:20260308T070000
END:DAYLIGHT
BEGIN:STANDARD
TZOFFSETFROM:-0400
TZOFFSETTO:-0500
TZNAME:EST
DTSTART:20261101T060000
END:STANDARD
END:VTIMEZONE
BEGIN:VEVENT
DTSTART;TZID=America/Toronto:20250703T090000
DTEND;TZID=America/Toronto:20250703T110000
DTSTAMP:20260419T184041
CREATED:20250521T155928Z
LAST-MODIFIED:20250521T155928Z
UID:10019440-1751533200-1751540400@oselepaysdesbleuets.com
SUMMARY:Sport - Viens jouer au pickleball
DESCRIPTION:
URL:https://oselepaysdesbleuets.com/evenement/sport-viens-jouer-au-pickleball/2025-07-03/
LOCATION:Chapelle de Vauvert\, 25 rue de la Chapelle\, Dolbeau-Mistassini\, Québec\, G8L 5L7\, Canada
CATEGORIES:Activités gratuites,Sports et plein air
ATTACH;FMTTYPE=image/jpeg:https://oselepaysdesbleuets.com/wp-content/uploads/2025/05/Vauvert-activite.jpg
END:VEVENT
BEGIN:VEVENT
DTSTART;TZID=America/Toronto:20250701T180000
DTEND;TZID=America/Toronto:20250701T200000
DTSTAMP:20260419T184041
CREATED:20250604T132021Z
LAST-MODIFIED:20250604T132021Z
UID:10019495-1751392800-1751400000@oselepaysdesbleuets.com
SUMMARY:Sport - Soirée pétanque
DESCRIPTION:Tous les mardis à la Chapelle de Vauvert.
URL:https://oselepaysdesbleuets.com/evenement/sport-soiree-petanque/2025-07-01/
LOCATION:Chapelle de Vauvert\, 25 rue de la Chapelle\, Dolbeau-Mistassini\, Québec\, G8L 5L7\, Canada
CATEGORIES:Activités familiales,Activités gratuites,Loisirs et culture,Sports et plein air
ATTACH;FMTTYPE=image/jpeg:https://oselepaysdesbleuets.com/wp-content/uploads/2025/06/Soiree-petanque.jpg
END:VEVENT
BEGIN:VEVENT
DTSTART;TZID=America/Toronto:20250630T090000
DTEND;TZID=America/Toronto:20250630T110000
DTSTAMP:20260419T184041
CREATED:20250521T155928Z
LAST-MODIFIED:20250521T155928Z
UID:10019439-1751274000-1751281200@oselepaysdesbleuets.com
SUMMARY:Sport - Viens jouer au pickleball
DESCRIPTION:
URL:https://oselepaysdesbleuets.com/evenement/sport-viens-jouer-au-pickleball/2025-06-30/
LOCATION:Chapelle de Vauvert\, 25 rue de la Chapelle\, Dolbeau-Mistassini\, Québec\, G8L 5L7\, Canada
CATEGORIES:Activités gratuites,Sports et plein air
ATTACH;FMTTYPE=image/jpeg:https://oselepaysdesbleuets.com/wp-content/uploads/2025/05/Vauvert-activite.jpg
END:VEVENT
BEGIN:VEVENT
DTSTART;TZID=America/Toronto:20250626T090000
DTEND;TZID=America/Toronto:20250626T110000
DTSTAMP:20260419T184041
CREATED:20250521T155928Z
LAST-MODIFIED:20250521T155928Z
UID:10019438-1750928400-1750935600@oselepaysdesbleuets.com
SUMMARY:Sport - Viens jouer au pickleball
DESCRIPTION:
URL:https://oselepaysdesbleuets.com/evenement/sport-viens-jouer-au-pickleball/2025-06-26/
LOCATION:Chapelle de Vauvert\, 25 rue de la Chapelle\, Dolbeau-Mistassini\, Québec\, G8L 5L7\, Canada
CATEGORIES:Activités gratuites,Sports et plein air
ATTACH;FMTTYPE=image/jpeg:https://oselepaysdesbleuets.com/wp-content/uploads/2025/05/Vauvert-activite.jpg
END:VEVENT
BEGIN:VEVENT
DTSTART;TZID=America/Toronto:20250624T180000
DTEND;TZID=America/Toronto:20250624T200000
DTSTAMP:20260419T184041
CREATED:20250604T132021Z
LAST-MODIFIED:20250604T132021Z
UID:10019494-1750788000-1750795200@oselepaysdesbleuets.com
SUMMARY:Sport - Soirée pétanque
DESCRIPTION:Tous les mardis à la Chapelle de Vauvert.
URL:https://oselepaysdesbleuets.com/evenement/sport-soiree-petanque/2025-06-24/
LOCATION:Chapelle de Vauvert\, 25 rue de la Chapelle\, Dolbeau-Mistassini\, Québec\, G8L 5L7\, Canada
CATEGORIES:Activités familiales,Activités gratuites,Loisirs et culture,Sports et plein air
ATTACH;FMTTYPE=image/jpeg:https://oselepaysdesbleuets.com/wp-content/uploads/2025/06/Soiree-petanque.jpg
END:VEVENT
BEGIN:VEVENT
DTSTART;TZID=America/Toronto:20250623T090000
DTEND;TZID=America/Toronto:20250623T110000
DTSTAMP:20260419T184041
CREATED:20250521T155928Z
LAST-MODIFIED:20250521T155928Z
UID:10019437-1750669200-1750676400@oselepaysdesbleuets.com
SUMMARY:Sport - Viens jouer au pickleball
DESCRIPTION:
URL:https://oselepaysdesbleuets.com/evenement/sport-viens-jouer-au-pickleball/2025-06-23/
LOCATION:Chapelle de Vauvert\, 25 rue de la Chapelle\, Dolbeau-Mistassini\, Québec\, G8L 5L7\, Canada
CATEGORIES:Activités gratuites,Sports et plein air
ATTACH;FMTTYPE=image/jpeg:https://oselepaysdesbleuets.com/wp-content/uploads/2025/05/Vauvert-activite.jpg
END:VEVENT
BEGIN:VEVENT
DTSTART;TZID=America/Toronto:20250619T090000
DTEND;TZID=America/Toronto:20250619T110000
DTSTAMP:20260419T184041
CREATED:20250521T155928Z
LAST-MODIFIED:20250521T155928Z
UID:10019436-1750323600-1750330800@oselepaysdesbleuets.com
SUMMARY:Sport - Viens jouer au pickleball
DESCRIPTION:
URL:https://oselepaysdesbleuets.com/evenement/sport-viens-jouer-au-pickleball/2025-06-19/
LOCATION:Chapelle de Vauvert\, 25 rue de la Chapelle\, Dolbeau-Mistassini\, Québec\, G8L 5L7\, Canada
CATEGORIES:Activités gratuites,Sports et plein air
ATTACH;FMTTYPE=image/jpeg:https://oselepaysdesbleuets.com/wp-content/uploads/2025/05/Vauvert-activite.jpg
END:VEVENT
BEGIN:VEVENT
DTSTART;TZID=America/Toronto:20250617T180000
DTEND;TZID=America/Toronto:20250617T200000
DTSTAMP:20260419T184041
CREATED:20250604T132021Z
LAST-MODIFIED:20250604T132021Z
UID:10019493-1750183200-1750190400@oselepaysdesbleuets.com
SUMMARY:Sport - Soirée pétanque
DESCRIPTION:Tous les mardis à la Chapelle de Vauvert.
URL:https://oselepaysdesbleuets.com/evenement/sport-soiree-petanque/2025-06-17/
LOCATION:Chapelle de Vauvert\, 25 rue de la Chapelle\, Dolbeau-Mistassini\, Québec\, G8L 5L7\, Canada
CATEGORIES:Activités familiales,Activités gratuites,Loisirs et culture,Sports et plein air
ATTACH;FMTTYPE=image/jpeg:https://oselepaysdesbleuets.com/wp-content/uploads/2025/06/Soiree-petanque.jpg
END:VEVENT
BEGIN:VEVENT
DTSTART;TZID=America/Toronto:20250616T090000
DTEND;TZID=America/Toronto:20250616T110000
DTSTAMP:20260419T184041
CREATED:20250521T155928Z
LAST-MODIFIED:20250521T155928Z
UID:10019435-1750064400-1750071600@oselepaysdesbleuets.com
SUMMARY:Sport - Viens jouer au pickleball
DESCRIPTION:
URL:https://oselepaysdesbleuets.com/evenement/sport-viens-jouer-au-pickleball/2025-06-16/
LOCATION:Chapelle de Vauvert\, 25 rue de la Chapelle\, Dolbeau-Mistassini\, Québec\, G8L 5L7\, Canada
CATEGORIES:Activités gratuites,Sports et plein air
ATTACH;FMTTYPE=image/jpeg:https://oselepaysdesbleuets.com/wp-content/uploads/2025/05/Vauvert-activite.jpg
END:VEVENT
BEGIN:VEVENT
DTSTART;TZID=America/Toronto:20250612T090000
DTEND;TZID=America/Toronto:20250612T110000
DTSTAMP:20260419T184041
CREATED:20250521T155928Z
LAST-MODIFIED:20250521T155928Z
UID:10019434-1749718800-1749726000@oselepaysdesbleuets.com
SUMMARY:Sport - Viens jouer au pickleball
DESCRIPTION:
URL:https://oselepaysdesbleuets.com/evenement/sport-viens-jouer-au-pickleball/2025-06-12/
LOCATION:Chapelle de Vauvert\, 25 rue de la Chapelle\, Dolbeau-Mistassini\, Québec\, G8L 5L7\, Canada
CATEGORIES:Activités gratuites,Sports et plein air
ATTACH;FMTTYPE=image/jpeg:https://oselepaysdesbleuets.com/wp-content/uploads/2025/05/Vauvert-activite.jpg
END:VEVENT
BEGIN:VEVENT
DTSTART;TZID=America/Toronto:20250610T180000
DTEND;TZID=America/Toronto:20250610T200000
DTSTAMP:20260419T184041
CREATED:20250604T132021Z
LAST-MODIFIED:20250604T132021Z
UID:10019492-1749578400-1749585600@oselepaysdesbleuets.com
SUMMARY:Sport - Soirée pétanque
DESCRIPTION:Tous les mardis à la Chapelle de Vauvert.
URL:https://oselepaysdesbleuets.com/evenement/sport-soiree-petanque/2025-06-10/
LOCATION:Chapelle de Vauvert\, 25 rue de la Chapelle\, Dolbeau-Mistassini\, Québec\, G8L 5L7\, Canada
CATEGORIES:Activités familiales,Activités gratuites,Loisirs et culture,Sports et plein air
ATTACH;FMTTYPE=image/jpeg:https://oselepaysdesbleuets.com/wp-content/uploads/2025/06/Soiree-petanque.jpg
END:VEVENT
BEGIN:VEVENT
DTSTART;TZID=America/Toronto:20250609T090000
DTEND;TZID=America/Toronto:20250609T110000
DTSTAMP:20260419T184041
CREATED:20250521T155928Z
LAST-MODIFIED:20250521T155928Z
UID:10019433-1749459600-1749466800@oselepaysdesbleuets.com
SUMMARY:Sport - Viens jouer au pickleball
DESCRIPTION:
URL:https://oselepaysdesbleuets.com/evenement/sport-viens-jouer-au-pickleball/2025-06-09/
LOCATION:Chapelle de Vauvert\, 25 rue de la Chapelle\, Dolbeau-Mistassini\, Québec\, G8L 5L7\, Canada
CATEGORIES:Activités gratuites,Sports et plein air
ATTACH;FMTTYPE=image/jpeg:https://oselepaysdesbleuets.com/wp-content/uploads/2025/05/Vauvert-activite.jpg
END:VEVENT
BEGIN:VEVENT
DTSTART;TZID=America/Toronto:20250605T090000
DTEND;TZID=America/Toronto:20250605T110000
DTSTAMP:20260419T184041
CREATED:20250521T155928Z
LAST-MODIFIED:20250521T155928Z
UID:10019432-1749114000-1749121200@oselepaysdesbleuets.com
SUMMARY:Sport - Viens jouer au pickleball
DESCRIPTION:
URL:https://oselepaysdesbleuets.com/evenement/sport-viens-jouer-au-pickleball/2025-06-05/
LOCATION:Chapelle de Vauvert\, 25 rue de la Chapelle\, Dolbeau-Mistassini\, Québec\, G8L 5L7\, Canada
CATEGORIES:Activités gratuites,Sports et plein air
ATTACH;FMTTYPE=image/jpeg:https://oselepaysdesbleuets.com/wp-content/uploads/2025/05/Vauvert-activite.jpg
END:VEVENT
BEGIN:VEVENT
DTSTART;TZID=America/Toronto:20250603T180000
DTEND;TZID=America/Toronto:20250603T200000
DTSTAMP:20260419T184041
CREATED:20250604T132021Z
LAST-MODIFIED:20250604T132021Z
UID:10019491-1748973600-1748980800@oselepaysdesbleuets.com
SUMMARY:Sport - Soirée pétanque
DESCRIPTION:Tous les mardis à la Chapelle de Vauvert.
URL:https://oselepaysdesbleuets.com/evenement/sport-soiree-petanque/2025-06-03/
LOCATION:Chapelle de Vauvert\, 25 rue de la Chapelle\, Dolbeau-Mistassini\, Québec\, G8L 5L7\, Canada
CATEGORIES:Activités familiales,Activités gratuites,Loisirs et culture,Sports et plein air
ATTACH;FMTTYPE=image/jpeg:https://oselepaysdesbleuets.com/wp-content/uploads/2025/06/Soiree-petanque.jpg
END:VEVENT
BEGIN:VEVENT
DTSTART;TZID=America/Toronto:20250602T090000
DTEND;TZID=America/Toronto:20250602T110000
DTSTAMP:20260419T184041
CREATED:20250521T155928Z
LAST-MODIFIED:20250521T155928Z
UID:10019431-1748854800-1748862000@oselepaysdesbleuets.com
SUMMARY:Sport - Viens jouer au pickleball
DESCRIPTION:
URL:https://oselepaysdesbleuets.com/evenement/sport-viens-jouer-au-pickleball/2025-06-02/
LOCATION:Chapelle de Vauvert\, 25 rue de la Chapelle\, Dolbeau-Mistassini\, Québec\, G8L 5L7\, Canada
CATEGORIES:Activités gratuites,Sports et plein air
ATTACH;FMTTYPE=image/jpeg:https://oselepaysdesbleuets.com/wp-content/uploads/2025/05/Vauvert-activite.jpg
END:VEVENT
BEGIN:VEVENT
DTSTART;TZID=America/Toronto:20250529T090000
DTEND;TZID=America/Toronto:20250529T110000
DTSTAMP:20260419T184041
CREATED:20250521T155928Z
LAST-MODIFIED:20250521T155928Z
UID:10019430-1748509200-1748516400@oselepaysdesbleuets.com
SUMMARY:Sport - Viens jouer au pickleball
DESCRIPTION:
URL:https://oselepaysdesbleuets.com/evenement/sport-viens-jouer-au-pickleball/2025-05-29/
LOCATION:Chapelle de Vauvert\, 25 rue de la Chapelle\, Dolbeau-Mistassini\, Québec\, G8L 5L7\, Canada
CATEGORIES:Activités gratuites,Sports et plein air
ATTACH;FMTTYPE=image/jpeg:https://oselepaysdesbleuets.com/wp-content/uploads/2025/05/Vauvert-activite.jpg
END:VEVENT
BEGIN:VEVENT
DTSTART;TZID=America/Toronto:20250526T090000
DTEND;TZID=America/Toronto:20250526T110000
DTSTAMP:20260419T184041
CREATED:20250521T155928Z
LAST-MODIFIED:20250521T155928Z
UID:10019429-1748250000-1748257200@oselepaysdesbleuets.com
SUMMARY:Sport - Viens jouer au pickleball
DESCRIPTION:
URL:https://oselepaysdesbleuets.com/evenement/sport-viens-jouer-au-pickleball/2025-05-26/
LOCATION:Chapelle de Vauvert\, 25 rue de la Chapelle\, Dolbeau-Mistassini\, Québec\, G8L 5L7\, Canada
CATEGORIES:Activités gratuites,Sports et plein air
ATTACH;FMTTYPE=image/jpeg:https://oselepaysdesbleuets.com/wp-content/uploads/2025/05/Vauvert-activite.jpg
END:VEVENT
BEGIN:VEVENT
DTSTART;TZID=America/Toronto:20250522T090000
DTEND;TZID=America/Toronto:20250522T110000
DTSTAMP:20260419T184041
CREATED:20250521T155928Z
LAST-MODIFIED:20250521T155928Z
UID:10019428-1747904400-1747911600@oselepaysdesbleuets.com
SUMMARY:Sport - Viens jouer au pickleball
DESCRIPTION:
URL:https://oselepaysdesbleuets.com/evenement/sport-viens-jouer-au-pickleball/2025-05-22/
LOCATION:Chapelle de Vauvert\, 25 rue de la Chapelle\, Dolbeau-Mistassini\, Québec\, G8L 5L7\, Canada
CATEGORIES:Activités gratuites,Sports et plein air
ATTACH;FMTTYPE=image/jpeg:https://oselepaysdesbleuets.com/wp-content/uploads/2025/05/Vauvert-activite.jpg
END:VEVENT
BEGIN:VEVENT
DTSTART;TZID=America/Toronto:20250519T090000
DTEND;TZID=America/Toronto:20250519T110000
DTSTAMP:20260419T184041
CREATED:20250521T155928Z
LAST-MODIFIED:20250521T155928Z
UID:10019427-1747645200-1747652400@oselepaysdesbleuets.com
SUMMARY:Sport - Viens jouer au pickleball
DESCRIPTION:
URL:https://oselepaysdesbleuets.com/evenement/sport-viens-jouer-au-pickleball/2025-05-19/
LOCATION:Chapelle de Vauvert\, 25 rue de la Chapelle\, Dolbeau-Mistassini\, Québec\, G8L 5L7\, Canada
CATEGORIES:Activités gratuites,Sports et plein air
ATTACH;FMTTYPE=image/jpeg:https://oselepaysdesbleuets.com/wp-content/uploads/2025/05/Vauvert-activite.jpg
END:VEVENT
BEGIN:VEVENT
DTSTART;TZID=America/Toronto:20250118T133000
DTEND;TZID=America/Toronto:20250118T150000
DTSTAMP:20260419T184041
CREATED:20250113T145519Z
LAST-MODIFIED:20250113T145628Z
UID:10012595-1737207000-1737212400@oselepaysdesbleuets.com
SUMMARY:Atelier - Clinique de fartage ski de fond
DESCRIPTION:
URL:https://oselepaysdesbleuets.com/evenement/atelier-clinique-de-fartage-ski-de-fond/
LOCATION:Centre Tourisique Vauvert-sur-le-Lac-Saint-Jean\, 472 Rte de Vauvert\, Dolbeau-Mistassini\, Québec\, G8L 5W3\, Canada
CATEGORIES:Sports et plein air
ATTACH;FMTTYPE=image/jpeg:https://oselepaysdesbleuets.com/wp-content/uploads/2025/01/Atelier-de-fartage-1-scaled.jpg
END:VEVENT
END:VCALENDAR