BEGIN:VCALENDAR
VERSION:2.0
PRODID:-//Ose le Pays des Bleuets - ECPv6.15.20//NONSGML v1.0//EN
CALSCALE:GREGORIAN
METHOD:PUBLISH
X-ORIGINAL-URL:https://oselepaysdesbleuets.com
X-WR-CALDESC:Évènements pour Ose le Pays des Bleuets
REFRESH-INTERVAL;VALUE=DURATION:PT1H
X-Robots-Tag:noindex
X-PUBLISHED-TTL:PT1H
BEGIN:VTIMEZONE
TZID:America/Toronto
BEGIN:DAYLIGHT
TZOFFSETFROM:-0500
TZOFFSETTO:-0400
TZNAME:EDT
DTSTART:20230312T070000
END:DAYLIGHT
BEGIN:STANDARD
TZOFFSETFROM:-0400
TZOFFSETTO:-0500
TZNAME:EST
DTSTART:20231105T060000
END:STANDARD
BEGIN:DAYLIGHT
TZOFFSETFROM:-0500
TZOFFSETTO:-0400
TZNAME:EDT
DTSTART:20240310T070000
END:DAYLIGHT
BEGIN:STANDARD
TZOFFSETFROM:-0400
TZOFFSETTO:-0500
TZNAME:EST
DTSTART:20241103T060000
END:STANDARD
BEGIN:DAYLIGHT
TZOFFSETFROM:-0500
TZOFFSETTO:-0400
TZNAME:EDT
DTSTART:20250309T070000
END:DAYLIGHT
BEGIN:STANDARD
TZOFFSETFROM:-0400
TZOFFSETTO:-0500
TZNAME:EST
DTSTART:20251102T060000
END:STANDARD
BEGIN:DAYLIGHT
TZOFFSETFROM:-0500
TZOFFSETTO:-0400
TZNAME:EDT
DTSTART:20260308T070000
END:DAYLIGHT
BEGIN:STANDARD
TZOFFSETFROM:-0400
TZOFFSETTO:-0500
TZNAME:EST
DTSTART:20261101T060000
END:STANDARD
END:VTIMEZONE
BEGIN:VEVENT
DTSTART;TZID=America/Toronto:20250606T130000
DTEND;TZID=America/Toronto:20250606T160000
DTSTAMP:20260420T050708
CREATED:20250604T130205Z
LAST-MODIFIED:20250604T130205Z
UID:10019486-1749214800-1749225600@oselepaysdesbleuets.com
SUMMARY:Journée reconnaissance pour nos aînés
DESCRIPTION:Le 6 juin prochain\, la MRC de Maria-Chapdelaine et le Comité des Spectacles vous convient à une journée spéciale pour souligner l’importance de nos aînés sur le territoire.\n\n𝗗𝗲́𝗿𝗼𝘂𝗹𝗲𝗺𝗲𝗻𝘁 𝗱𝗲 𝗹’𝗲́𝘃𝗲́𝗻𝗲𝗺𝗲𝗻𝘁 :Salle de spectacle Desjardins Maria-Chapdelaine105\, avenue de l’Église\n13 h 00 – Accueil des participants\n13 h 30 – Représentation de la pièce « Affaire en chemin » de la troupe Parminou\n14 h 45 – Café\, échanges et réseautage\n14 h 30 à 16 h 00 – Kiosques d’information d’organismes locaux\n\nÉvénement gratuit | Pour les 55 ans et plus de notre territoire\nMerci de confirmer votre présence ici : http://comitedesspectacles.tuxedobillet.com/…/histoire…\n\nPour toute question : 418 276-2131\nVenez échanger dans une ambiance conviviale!
URL:https://oselepaysdesbleuets.com/evenement/journee-reconnaissance-pour-nos-aines/
LOCATION:Comité des Spectacles Dolbeau-Mistassini\, 105 Avenue de l'Église\, Dolbeau-Mistassini\, Québec\, G8L 4Z7\, Canada
ATTACH;FMTTYPE=image/jpeg:https://oselepaysdesbleuets.com/wp-content/uploads/2025/06/Journee-reconnaissance-pour-nos-aines.jpg
ORGANIZER;CN="MRC de Maria Chapdelaine":MAILTO:portail@mrcmaria.qc.ca
END:VEVENT
BEGIN:VEVENT
DTSTART;TZID=America/Toronto:20250128T080000
DTEND;TZID=America/Toronto:20250128T110000
DTSTAMP:20260420T050708
CREATED:20250103T180221Z
LAST-MODIFIED:20250103T180221Z
UID:10011847-1738051200-1738062000@oselepaysdesbleuets.com
SUMMARY:Atelier - L'économie circulaire
DESCRIPTION:Vous êtes une entreprise\, un organisme\, une municipalité ou une institution ? \nVous êtes conviés à démystifier le concept d’économie circulaire et des stratégies de circularité qui y sont associées. \nVous aurez l’opportunité de participer à un atelier interactif afin de partager vos offres et vos besoins de matériels\, de résidus\, d’énergie\, d’eau\, de ressources matérielles ou humaines\, ou de trouver des débouchés et de créer d’autres formes de collaboration. \n𝗜𝗻𝘀𝗰𝗿𝗶𝗽𝘁𝗶𝗼𝗻 : http://mrcdemaria-chapdelaine.ca/atelier-de-maillage-en…
URL:https://oselepaysdesbleuets.com/evenement/atelier-leconomie-circulaire/
LOCATION:Centre en entreprenariat multi-ressources (CEMR)\, 200 boul. Wallberg\, Dolbeau-Mistassini\, Québec\, G8L 6A5\, Canada
CATEGORIES:Ateliers
ATTACH;FMTTYPE=image/jpeg:https://oselepaysdesbleuets.com/wp-content/uploads/2025/01/Atelier-Leconomie-circulaire.jpg
ORGANIZER;CN="MRC de Maria Chapdelaine":MAILTO:portail@mrcmaria.qc.ca
END:VEVENT
BEGIN:VEVENT
DTSTART;TZID=America/Toronto:20240929T100000
DTEND;TZID=America/Toronto:20240929T143000
DTSTAMP:20260420T050708
CREATED:20240920T125235Z
LAST-MODIFIED:20240920T125401Z
UID:10003421-1727604000-1727620200@oselepaysdesbleuets.com
SUMMARY:Les Journées de la culture 2024 : Tirage d'articles fait par les Fermières
DESCRIPTION:Venez à l’exposition de nos fermières ! Au cours de cette exposition vous allez pouvoir découvrir du tissage et du tricot\, réalisé avec des techniques ancestrales. Le tirage de notre panier et des prix se fera le dimanche après-midi. \nPour l’événement\, nous aurons des biscuits et du café.
URL:https://oselepaysdesbleuets.com/evenement/journee-de-la-culture-2024-tirage-darticles-fait-par-les-fermieres/
LOCATION:Centre civique Desjardins\, 1330 rue des Cyprès\, Dolbeau-Mistassini\, QC\, G8L 1A4\, Canada
CATEGORIES:Activités familiales,Arts et culture,Ateliers
ATTACH;FMTTYPE=image/png:https://oselepaysdesbleuets.com/wp-content/uploads/2024/09/Journees-de-la-culture-29sept-1.png
ORGANIZER;CN="MRC de Maria Chapdelaine":MAILTO:portail@mrcmaria.qc.ca
END:VEVENT
BEGIN:VEVENT
DTSTART;TZID=America/Toronto:20240928T210000
DTEND;TZID=America/Toronto:20240928T223000
DTSTAMP:20260420T050708
CREATED:20240920T124519Z
LAST-MODIFIED:20240920T124519Z
UID:10003419-1727557200-1727562600@oselepaysdesbleuets.com
SUMMARY:Journées de la culture : Spectacle de Alphonse Bisaillon en solo
DESCRIPTION:Alphonse Bisaillon\, c’est la fougue d’un Charlebois et la gaminerie d’un Boris Vian. C’est le perfectionnisme maladif et la sensibilité secrète d’un Gainsbourg\, l’humilité d’un Bill Evans. C’est un projet de chanson\, qui doit beaucoup à Aznavour\, mais aussi un projet de musique progressive\, qui nous amène dans tous les sens. \nL’écriture de Bisaillon se distingue par l’utilisation d’images évocatrices\, de trames narratives riches et de jeux de mots ingénieux. Chaque composit Alphonse Bisaillon\, c’est la fougue d’un Charlebois et la gaminerie d’un Boris Vian. C’est le perfectionnisme maladif et la sensibilité secrète d’un Gainsbourg\, l’humilité d’un Bill Evans. C’est un projet de chanson\, qui doit beaucoup à Aznavour\, mais aussi un projet de musique progressive\, qui nous amène dans tous les sens.
URL:https://oselepaysdesbleuets.com/evenement/journees-de-la-culture-spectacle-de-alphonse-bisaillon-en-solo/
LOCATION:Auberge Île du repos\, 105 Chemin de l'Île du Repos\, Péribonka\, G0W 2G0
CATEGORIES:Arts et culture,Concerts
ATTACH;FMTTYPE=image/png:https://oselepaysdesbleuets.com/wp-content/uploads/2024/09/Journees-de-la-culture-28-sept2-1.png
ORGANIZER;CN="MRC de Maria Chapdelaine":MAILTO:portail@mrcmaria.qc.ca
END:VEVENT
BEGIN:VEVENT
DTSTART;TZID=America/Toronto:20240928T180000
DTEND;TZID=America/Toronto:20240928T210000
DTSTAMP:20260420T050708
CREATED:20240920T124219Z
LAST-MODIFIED:20240920T125344Z
UID:10003418-1727546400-1727557200@oselepaysdesbleuets.com
SUMMARY:Les Journées de la culture 2024 : L’art de l'impro - Atelier et spectacle
DESCRIPTION:Improvisez une soirée avec nous ! L’Imprévu improvisation vous fera découvrir l’art de l’improvisation théâtrale à travers des ateliers sur les personnages\, la répartie et l’imagination\, destinés aux personnes de 7 à 107 ans. L’atelier\, sur inscription\, débutera à 18 h et sera suivi d’un spectacle d’improvisation\, ouvert à tous\, à 20 h. \nUne réservation est requise pour participer à l’atelier. Contact : Bruno Paradis à developpement@stejeannedarc.qc.ca ou 418-276-3166 poste 3602.
URL:https://oselepaysdesbleuets.com/evenement/journees-de-la-culture-lart-de-limpro-atelier-et-spectacle/
LOCATION:Centre communautaire Sainte-Jeanne-d’Arc\, 385 rue François Bilodeau\, Sainte-Jeanne-d'Arc\, QC\, G0W 1E0\, Canada
CATEGORIES:Arts et culture,Ateliers
ATTACH;FMTTYPE=image/png:https://oselepaysdesbleuets.com/wp-content/uploads/2024/09/Journees-de-la-culture-28-sept1-1.png
ORGANIZER;CN="MRC de Maria Chapdelaine":MAILTO:portail@mrcmaria.qc.ca
END:VEVENT
BEGIN:VEVENT
DTSTART;TZID=America/Toronto:20240927T210000
DTEND;TZID=America/Toronto:20240927T223000
DTSTAMP:20260420T050708
CREATED:20240920T120935Z
LAST-MODIFIED:20240920T120935Z
UID:10003414-1727470800-1727476200@oselepaysdesbleuets.com
SUMMARY:Les Journées de la culture 2024 : Jules Goulet en représentation à l’auberge Île du Repos
DESCRIPTION:Concert du pianiste néo-classique Jules Goulet\, originaire de Saint-Cœur-de-Marie et résidant désormais à La Malbaie. Jules présentera des pièces d’Erik Satie\, de Mozart\, Beethoven\, Debussy\, Chopin\, Jean-Michel Blais\, Alexandra Streliski\, et d’autres compositeurs.
URL:https://oselepaysdesbleuets.com/evenement/les-journees-de-la-culture-2024-jules-goulet-en-representation-a-lauberge-ile-du-repos/
LOCATION:Auberge Île du repos\, 105 Chemin de l'Île du Repos\, Péribonka\, G0W 2G0
CATEGORIES:Arts et culture,Concerts
ATTACH;FMTTYPE=image/png:https://oselepaysdesbleuets.com/wp-content/uploads/2024/09/Journees-de-la-culture-27-sept-2.png
ORGANIZER;CN="MRC de Maria Chapdelaine":MAILTO:portail@mrcmaria.qc.ca
END:VEVENT
BEGIN:VEVENT
DTSTART;TZID=America/Toronto:20240927T130000
DTEND;TZID=America/Toronto:20240927T170000
DTSTAMP:20260420T050708
CREATED:20240920T121151Z
LAST-MODIFIED:20240920T123137Z
UID:10003415-1727442000-1727456400@oselepaysdesbleuets.com
SUMMARY:Les Journées de la culture 2024 : Danser ensemble à Albanel\, découvrons ensemble différentes sortes de danses et amusons-nous
DESCRIPTION:En collaboration avec l’école primaire\, nous aimerions faire venir des artistes de la danse pour faire bouger et apprendre une chorégraphie aux enfants. Trois styles de danse seront explorés durant cette activité : la danse en ligne\, la danse classique et le hip-hop.
URL:https://oselepaysdesbleuets.com/evenement/les-journees-de-la-culture-2024-danser-ensemble-a-albanel-decouvrons-ensemble-differentes-sortes-de-danses-et-amusons-nous/
LOCATION:Centre communautaire d’Albanel\, 311 rue de l'Église\, Albanel\, QC\, G8L3H6\, Canada
CATEGORIES:Activités familiales,Arts et culture,Ateliers
ATTACH;FMTTYPE=image/png:https://oselepaysdesbleuets.com/wp-content/uploads/2024/09/Journees-de-la-culture-27-sept-3.png
ORGANIZER;CN="MRC de Maria Chapdelaine":MAILTO:portail@mrcmaria.qc.ca
END:VEVENT
BEGIN:VEVENT
DTSTART;VALUE=DATE:20240927
DTEND;VALUE=DATE:20240928
DTSTAMP:20260420T050708
CREATED:20240920T120440Z
LAST-MODIFIED:20240920T120440Z
UID:10003412-1727395200-1727481599@oselepaysdesbleuets.com
SUMMARY:Les Journées de la culture 2024 : Girardville à l’heure du conte pour tous les âges
DESCRIPTION:La municipalité se laissera bercer par des conteurs de talent qui\, tour à tour\, présenteront des contes à différents publics tout au long de la journée. D’un conte pour les tout-petits à celui destiné aux élèves du primaire\, en passant par les aînés\, chacun aura la chance de se laisser emporter par des histoires inspirantes et touchantes. Les conteurs prendront le temps de discuter des œuvres avec les différents publics et d’interagir avec eux pour faire de cette expérience un véritable lieu d’échange et de partage.
URL:https://oselepaysdesbleuets.com/evenement/les-journees-de-la-culture-2024-girardville-a-lheure-du-conte-pour-tous-les-ages/
LOCATION:Bureau municipal de Girardville\, Salle du conseil\, 180 rue Principale\, Girardville\, QC\, G0W 1R0\, Canada
CATEGORIES:Activités familiales,Arts et culture,Ateliers
ATTACH;FMTTYPE=image/png:https://oselepaysdesbleuets.com/wp-content/uploads/2024/09/Journees-de-la-culture-27-sept1-1.png
ORGANIZER;CN="MRC de Maria Chapdelaine":MAILTO:portail@mrcmaria.qc.ca
END:VEVENT
END:VCALENDAR