BEGIN:VCALENDAR
VERSION:2.0
PRODID:-//Ose le Pays des Bleuets - ECPv6.15.20//NONSGML v1.0//EN
CALSCALE:GREGORIAN
METHOD:PUBLISH
X-WR-CALNAME:Ose le Pays des Bleuets
X-ORIGINAL-URL:https://oselepaysdesbleuets.com
X-WR-CALDESC:Évènements pour Ose le Pays des Bleuets
REFRESH-INTERVAL;VALUE=DURATION:PT1H
X-Robots-Tag:noindex
X-PUBLISHED-TTL:PT1H
BEGIN:VTIMEZONE
TZID:America/Toronto
BEGIN:DAYLIGHT
TZOFFSETFROM:-0500
TZOFFSETTO:-0400
TZNAME:EDT
DTSTART:20240310T070000
END:DAYLIGHT
BEGIN:STANDARD
TZOFFSETFROM:-0400
TZOFFSETTO:-0500
TZNAME:EST
DTSTART:20241103T060000
END:STANDARD
BEGIN:DAYLIGHT
TZOFFSETFROM:-0500
TZOFFSETTO:-0400
TZNAME:EDT
DTSTART:20250309T070000
END:DAYLIGHT
BEGIN:STANDARD
TZOFFSETFROM:-0400
TZOFFSETTO:-0500
TZNAME:EST
DTSTART:20251102T060000
END:STANDARD
BEGIN:DAYLIGHT
TZOFFSETFROM:-0500
TZOFFSETTO:-0400
TZNAME:EDT
DTSTART:20260308T070000
END:DAYLIGHT
BEGIN:STANDARD
TZOFFSETFROM:-0400
TZOFFSETTO:-0500
TZNAME:EST
DTSTART:20261101T060000
END:STANDARD
END:VTIMEZONE
BEGIN:VEVENT
DTSTART;TZID=America/Toronto:20250909T193000
DTEND;TZID=America/Toronto:20250909T210000
DTSTAMP:20260419T093151
CREATED:20250903T134912Z
LAST-MODIFIED:20250903T135009Z
UID:10020021-1757446200-1757451600@oselepaysdesbleuets.com
SUMMARY:Culture - Les Semeurs de contes
DESCRIPTION:La Grande Virée des Semeurs de contes est un projet culturel unique au Québec. Alliant art\, itinérance et rencontre humaine\, le collectif Les Semeurs de contes\, composé de sept conteurs et conteuses professionnels\, parcourt à pied les routes du Québec pour partager leur passion du conte avec les communautés locales. Depuis 2013\, ce projet favorise l’échange culturel\, la proximité et la transmission des récits lors de chaque halte.\nÀ l’automne 2024\, ils ont foulé la première moitié du Lac-Saint-Jean. Touchés par l’accueil chaleureux et l’enthousiasme des gens\, ils ont décidé de revenir en 2025 pour compléter la seconde moitié du Lac !\nDu 4 au 13 septembre 2025\, les Semeurs marcheront de ville en village. Chaque soir\, ils offriront un spectacle de contes différent.Préparez-vous… Les histoires arrivent chez vous à Albanel le 9 septembre !
URL:https://oselepaysdesbleuets.com/evenement/culture-les-semeurs-de-contes-3/
LOCATION:Centre communautaire Albanel\, 311 Rue de l'Église\, Albanel\, Québec\, G8M 3E9\, Canada
CATEGORIES:Loisirs et culture
ORGANIZER;CN="municipalit%C3%A9 d'Albanel":MAILTO:loisirs@albanel.ca
END:VEVENT
END:VCALENDAR