BEGIN:VCALENDAR
VERSION:2.0
PRODID:-//Ose le Pays des Bleuets - ECPv6.15.20//NONSGML v1.0//EN
CALSCALE:GREGORIAN
METHOD:PUBLISH
X-WR-CALNAME:Ose le Pays des Bleuets
X-ORIGINAL-URL:https://oselepaysdesbleuets.com
X-WR-CALDESC:Évènements pour Ose le Pays des Bleuets
REFRESH-INTERVAL;VALUE=DURATION:PT1H
X-Robots-Tag:noindex
X-PUBLISHED-TTL:PT1H
BEGIN:VTIMEZONE
TZID:America/Toronto
BEGIN:DAYLIGHT
TZOFFSETFROM:-0500
TZOFFSETTO:-0400
TZNAME:EDT
DTSTART:20250309T070000
END:DAYLIGHT
BEGIN:STANDARD
TZOFFSETFROM:-0400
TZOFFSETTO:-0500
TZNAME:EST
DTSTART:20251102T060000
END:STANDARD
BEGIN:DAYLIGHT
TZOFFSETFROM:-0500
TZOFFSETTO:-0400
TZNAME:EDT
DTSTART:20260308T070000
END:DAYLIGHT
BEGIN:STANDARD
TZOFFSETFROM:-0400
TZOFFSETTO:-0500
TZNAME:EST
DTSTART:20261101T060000
END:STANDARD
BEGIN:DAYLIGHT
TZOFFSETFROM:-0500
TZOFFSETTO:-0400
TZNAME:EDT
DTSTART:20270314T070000
END:DAYLIGHT
BEGIN:STANDARD
TZOFFSETFROM:-0400
TZOFFSETTO:-0500
TZNAME:EST
DTSTART:20271107T060000
END:STANDARD
END:VTIMEZONE
BEGIN:VEVENT
DTSTART;TZID=America/Toronto:20260429T183000
DTEND;TZID=America/Toronto:20260429T213000
DTSTAMP:20260424T104848
CREATED:20260424T141443Z
LAST-MODIFIED:20260424T141443Z
UID:10031575-1777487400-1777498200@oselepaysdesbleuets.com
SUMMARY:Atelier d'expression
DESCRIPTION:Dès qu’il y a une caméra devant toi… Est-ce que tu figes?\nT’as l’impression d’avoir l’air d’un frigidaire?\nJ’ai créé un atelier pour ça.\n\nUn atelier d’expression pour t’aider à relâcher une partie de la peur et de l’inconfort qui restent pris dans ton corps…\n\nJuste pour t’aider à t’exprimer de manière plus naturelle… devant la caméra\, un public ou un client.\n\n Mercredi 29 avril18 h 30 à 21 h 30Galerie Èlvé à Normandin\n\n47 $ (tout inclus)37 $ pour les membres Ensemble-preneurs\n10 places seulement\n\nPour réserver ta place :Inscris-toi ici (le virement Interac confirme ton inscription)https://forms.gle/WgPoYjCMSzqr7RT19\n\nPour plus d’informations\, contactez Mélyna Girard :418 637-8164melyna@solutioncreative.ca
URL:https://oselepaysdesbleuets.com/evenement/atelier-dexpression/
LOCATION:Galerie èlvé\, 1130 Rue de l'Église\, Normandin\, Québec\, G8M 3Y8\, Canada
CATEGORIES:Arts et culture,Ateliers
ATTACH;FMTTYPE=image/jpeg:https://oselepaysdesbleuets.com/wp-content/uploads/2026/04/a-expression.jpg
END:VEVENT
END:VCALENDAR