BEGIN:VCALENDAR
VERSION:2.0
PRODID:-//Ose le Pays des Bleuets - ECPv6.15.20//NONSGML v1.0//EN
CALSCALE:GREGORIAN
METHOD:PUBLISH
X-WR-CALNAME:Ose le Pays des Bleuets
X-ORIGINAL-URL:https://oselepaysdesbleuets.com
X-WR-CALDESC:Évènements pour Ose le Pays des Bleuets
REFRESH-INTERVAL;VALUE=DURATION:PT1H
X-Robots-Tag:noindex
X-PUBLISHED-TTL:PT1H
BEGIN:VTIMEZONE
TZID:America/Toronto
BEGIN:DAYLIGHT
TZOFFSETFROM:-0500
TZOFFSETTO:-0400
TZNAME:EDT
DTSTART:20240310T070000
END:DAYLIGHT
BEGIN:STANDARD
TZOFFSETFROM:-0400
TZOFFSETTO:-0500
TZNAME:EST
DTSTART:20241103T060000
END:STANDARD
BEGIN:DAYLIGHT
TZOFFSETFROM:-0500
TZOFFSETTO:-0400
TZNAME:EDT
DTSTART:20250309T070000
END:DAYLIGHT
BEGIN:STANDARD
TZOFFSETFROM:-0400
TZOFFSETTO:-0500
TZNAME:EST
DTSTART:20251102T060000
END:STANDARD
BEGIN:DAYLIGHT
TZOFFSETFROM:-0500
TZOFFSETTO:-0400
TZNAME:EDT
DTSTART:20260308T070000
END:DAYLIGHT
BEGIN:STANDARD
TZOFFSETFROM:-0400
TZOFFSETTO:-0500
TZNAME:EST
DTSTART:20261101T060000
END:STANDARD
END:VTIMEZONE
BEGIN:VEVENT
DTSTART;TZID=America/Toronto:20250905T220000
DTEND;TZID=America/Toronto:20250905T233000
DTSTAMP:20260420T025955
CREATED:20250603T125707Z
LAST-MODIFIED:20250904T143503Z
UID:10019982-1757109600-1757115000@oselepaysdesbleuets.com
SUMMARY:Atelier - Présentation astronomique
DESCRIPTION:Cet été\, vivez une expérience unique sous les étoiles ! ✨ \n\nVoici la programmation de la soirée :\n\n\n 21H00 : accueil des participants\n 21h30 : l’ABC de l’astronomie avec l’étoile polaire\, les constellations et le matériel astronomique\n 22h00 : observation de Saturne et du premier croissant de Lune\n 22h30 : photos souvenirs des participants devant la Voie Lactée sur le bord du Lac-Saint-Jean\n\n\n\nEn cas de pluie ou de conditions météorologiques défavorables\, l’observation astronomique se tiendra à l’intérieur\, ainsi qu’une démonstration de capture d’un objet du ciel à partir d’un observatoire situé au Texas !!!\n\n\n\nRendez-vous au Centre Touristique Vauvert-sur-le-Lac-Saint-Jean\nInscription :\nhttps://lepointdevente.com/billets/presentationvauvert
URL:https://oselepaysdesbleuets.com/evenement/atelier-presentation-astronomique/2025-09-05/
LOCATION:Centre Vauvert Sur-Le-Lac-Saint-Jean\, 472\, route de Vauvert\, Dolbeau-Mistassini\, Québec\, G8L 5W3\, Canada
CATEGORIES:Activités gratuites,Ateliers,Loisirs et culture
ATTACH;FMTTYPE=image/jpeg:https://oselepaysdesbleuets.com/wp-content/uploads/2025/06/Presentation-astronomique.jpg
ORGANIZER;CN="Tourisme Dolbeau-Mistassini":MAILTO:communications@tourismedolbeaumistassini.ca
END:VEVENT
BEGIN:VEVENT
DTSTART;TZID=America/Toronto:20250822T220000
DTEND;TZID=America/Toronto:20250822T233000
DTSTAMP:20260420T025955
CREATED:20250603T125707Z
LAST-MODIFIED:20250904T143503Z
UID:10019981-1755900000-1755905400@oselepaysdesbleuets.com
SUMMARY:Atelier - Présentation astronomique
DESCRIPTION:Cet été\, vivez une expérience unique sous les étoiles ! ✨ \n\nVoici la programmation de la soirée :\n\n\n 21H00 : accueil des participants\n 21h30 : l’ABC de l’astronomie avec l’étoile polaire\, les constellations et le matériel astronomique\n 22h00 : observation de Saturne et du premier croissant de Lune\n 22h30 : photos souvenirs des participants devant la Voie Lactée sur le bord du Lac-Saint-Jean\n\n\n\nEn cas de pluie ou de conditions météorologiques défavorables\, l’observation astronomique se tiendra à l’intérieur\, ainsi qu’une démonstration de capture d’un objet du ciel à partir d’un observatoire situé au Texas !!!\n\n\n\nRendez-vous au Centre Touristique Vauvert-sur-le-Lac-Saint-Jean\nInscription :\nhttps://lepointdevente.com/billets/presentationvauvert
URL:https://oselepaysdesbleuets.com/evenement/atelier-presentation-astronomique/2025-08-22/
LOCATION:Centre Vauvert Sur-Le-Lac-Saint-Jean\, 472\, route de Vauvert\, Dolbeau-Mistassini\, Québec\, G8L 5W3\, Canada
CATEGORIES:Activités gratuites,Ateliers,Loisirs et culture
ATTACH;FMTTYPE=image/jpeg:https://oselepaysdesbleuets.com/wp-content/uploads/2025/06/Presentation-astronomique.jpg
ORGANIZER;CN="Tourisme Dolbeau-Mistassini":MAILTO:communications@tourismedolbeaumistassini.ca
END:VEVENT
BEGIN:VEVENT
DTSTART;TZID=America/Toronto:20250813T200000
DTEND;TZID=America/Toronto:20250813T213000
DTSTAMP:20260420T025955
CREATED:20250619T194648Z
LAST-MODIFIED:20250619T194648Z
UID:10019870-1755115200-1755120600@oselepaysdesbleuets.com
SUMMARY:Un air d'été - Angine de poitrine
DESCRIPTION:Avec leur Mantra-rock dada-pythago-cubiste\, les espiègles frères de Poitrine invitent à s’égarer dans un vortex de motifs sonores et visuels hypnotisants. À priori asymétrique et dissonante\, la musique de ces deux êtres aux grandes tronches incite surprenamment à la danse. Une fois assis sur de solides grooves de batterie\, les enchevêtrements complexes de guitares microtonales prennent des airs festifs\, le tout dans une exubérance typiquement rock’n’roll.
URL:https://oselepaysdesbleuets.com/evenement/un-air-dete-angine-de-poitrine/
LOCATION:Centre Vauvert Sur-Le-Lac-Saint-Jean\, 472\, route de Vauvert\, Dolbeau-Mistassini\, Québec\, G8L 5W3\, Canada
CATEGORIES:Activités familiales,Activités gratuites,Arts et culture,Concerts,Loisirs et culture
ORGANIZER;CN="Tourisme Dolbeau-Mistassini":MAILTO:communications@tourismedolbeaumistassini.ca
END:VEVENT
BEGIN:VEVENT
DTSTART;TZID=America/Toronto:20250725T220000
DTEND;TZID=America/Toronto:20250725T233000
DTSTAMP:20260420T025955
CREATED:20250603T125707Z
LAST-MODIFIED:20250904T143503Z
UID:10019980-1753480800-1753486200@oselepaysdesbleuets.com
SUMMARY:Atelier - Présentation astronomique
DESCRIPTION:Cet été\, vivez une expérience unique sous les étoiles ! ✨ \n\nVoici la programmation de la soirée :\n\n\n 21H00 : accueil des participants\n 21h30 : l’ABC de l’astronomie avec l’étoile polaire\, les constellations et le matériel astronomique\n 22h00 : observation de Saturne et du premier croissant de Lune\n 22h30 : photos souvenirs des participants devant la Voie Lactée sur le bord du Lac-Saint-Jean\n\n\n\nEn cas de pluie ou de conditions météorologiques défavorables\, l’observation astronomique se tiendra à l’intérieur\, ainsi qu’une démonstration de capture d’un objet du ciel à partir d’un observatoire situé au Texas !!!\n\n\n\nRendez-vous au Centre Touristique Vauvert-sur-le-Lac-Saint-Jean\nInscription :\nhttps://lepointdevente.com/billets/presentationvauvert
URL:https://oselepaysdesbleuets.com/evenement/atelier-presentation-astronomique/2025-07-25/
LOCATION:Centre Vauvert Sur-Le-Lac-Saint-Jean\, 472\, route de Vauvert\, Dolbeau-Mistassini\, Québec\, G8L 5W3\, Canada
CATEGORIES:Activités gratuites,Ateliers,Loisirs et culture
ATTACH;FMTTYPE=image/jpeg:https://oselepaysdesbleuets.com/wp-content/uploads/2025/06/Presentation-astronomique.jpg
ORGANIZER;CN="Tourisme Dolbeau-Mistassini":MAILTO:communications@tourismedolbeaumistassini.ca
END:VEVENT
BEGIN:VEVENT
DTSTART;TZID=America/Toronto:20250711T220000
DTEND;TZID=America/Toronto:20250711T233000
DTSTAMP:20260420T025955
CREATED:20250710T183625Z
LAST-MODIFIED:20250710T183626Z
UID:10019480-1752271200-1752276600@oselepaysdesbleuets.com
SUMMARY:Atelier - Présentation astronomique
DESCRIPTION:Cet été\, vivez une expérience unique sous les étoiles ! ✨ \nParticipez à 5 soirées exclusives d’observation du ciel\, animées par un Stéphane Simard\, vulgarisateur scientifique\, astrophotographe et animateur de l’émission Chasseurs d’étoiles diffusée sur les ondes d’Ici Explora et de Tout.tv extra de Radio-Canada. Il vous guidera à travers les merveilles de l’univers : constellations\, planètes\, nébuleuses et Voie lactée seront au rendez-vous ! \n⚠️À noter que les dates finales seront déterminées en fonction des prévisions météorologiques et les sujets pourront varier en fonction des phénomènes astronomiques présents dans le ciel. Les dates officielles seront publiées sur la page Facebook de Tourisme Dolbeau-Mistassini trois jours avant chaque présentation.⚠️
URL:https://oselepaysdesbleuets.com/evenement/atelier-presentation-astronomique-2/
LOCATION:Centre Vauvert Sur-Le-Lac-Saint-Jean\, 472\, route de Vauvert\, Dolbeau-Mistassini\, Québec\, G8L 5W3\, Canada
CATEGORIES:Activités gratuites,Ateliers,Loisirs et culture
ATTACH;FMTTYPE=image/jpeg:https://oselepaysdesbleuets.com/wp-content/uploads/2025/06/Presentation-astronomique.jpg
ORGANIZER;CN="Tourisme Dolbeau-Mistassini":MAILTO:communications@tourismedolbeaumistassini.ca
END:VEVENT
BEGIN:VEVENT
DTSTART;TZID=America/Toronto:20250626T220000
DTEND;TZID=America/Toronto:20250626T233000
DTSTAMP:20260420T025955
CREATED:20250603T125707Z
LAST-MODIFIED:20250904T143503Z
UID:10019979-1750975200-1750980600@oselepaysdesbleuets.com
SUMMARY:Atelier - Présentation astronomique
DESCRIPTION:Cet été\, vivez une expérience unique sous les étoiles ! ✨ \n\nVoici la programmation de la soirée :\n\n\n 21H00 : accueil des participants\n 21h30 : l’ABC de l’astronomie avec l’étoile polaire\, les constellations et le matériel astronomique\n 22h00 : observation de Saturne et du premier croissant de Lune\n 22h30 : photos souvenirs des participants devant la Voie Lactée sur le bord du Lac-Saint-Jean\n\n\n\nEn cas de pluie ou de conditions météorologiques défavorables\, l’observation astronomique se tiendra à l’intérieur\, ainsi qu’une démonstration de capture d’un objet du ciel à partir d’un observatoire situé au Texas !!!\n\n\n\nRendez-vous au Centre Touristique Vauvert-sur-le-Lac-Saint-Jean\nInscription :\nhttps://lepointdevente.com/billets/presentationvauvert
URL:https://oselepaysdesbleuets.com/evenement/atelier-presentation-astronomique/2025-06-26/
LOCATION:Centre Vauvert Sur-Le-Lac-Saint-Jean\, 472\, route de Vauvert\, Dolbeau-Mistassini\, Québec\, G8L 5W3\, Canada
CATEGORIES:Activités gratuites,Ateliers,Loisirs et culture
ATTACH;FMTTYPE=image/jpeg:https://oselepaysdesbleuets.com/wp-content/uploads/2025/06/Presentation-astronomique.jpg
ORGANIZER;CN="Tourisme Dolbeau-Mistassini":MAILTO:communications@tourismedolbeaumistassini.ca
END:VEVENT
BEGIN:VEVENT
DTSTART;TZID=America/Toronto:20250617T183000
DTEND;TZID=America/Toronto:20250617T203000
DTSTAMP:20260420T025955
CREATED:20250528T185323Z
LAST-MODIFIED:20250528T185323Z
UID:10019467-1750185000-1750192200@oselepaysdesbleuets.com
SUMMARY:Atelier - Identification des plantes boréales comestibles
DESCRIPTION:Promenade guidée dans la nature pour apprendre à reconnaître et comprendre les plantes comestibles de notre territoire et découvrir les saveurs sauvages du Saguenay-Lac-Saint-Jean!
URL:https://oselepaysdesbleuets.com/evenement/atelier-identification-des-plantes-boreales-comestibles/
LOCATION:Centre Tourisique Vauvert-sur-le-Lac-Saint-Jean\, 472 Rte de Vauvert\, Dolbeau-Mistassini\, Québec\, G8L 5W3\, Canada
CATEGORIES:Activités gratuites,Ateliers,Auto-cueillette
ATTACH;FMTTYPE=image/png:https://oselepaysdesbleuets.com/wp-content/uploads/2025/05/Affiche-Plante-comestibles.png
ORGANIZER;CN="Tourisme Dolbeau-Mistassini":MAILTO:communications@tourismedolbeaumistassini.ca
END:VEVENT
END:VCALENDAR