BEGIN:VCALENDAR
VERSION:2.0
PRODID:-//Ose le Pays des Bleuets - ECPv6.15.20//NONSGML v1.0//EN
CALSCALE:GREGORIAN
METHOD:PUBLISH
X-ORIGINAL-URL:https://oselepaysdesbleuets.com
X-WR-CALDESC:Évènements pour Ose le Pays des Bleuets
REFRESH-INTERVAL;VALUE=DURATION:PT1H
X-Robots-Tag:noindex
X-PUBLISHED-TTL:PT1H
BEGIN:VTIMEZONE
TZID:America/Toronto
BEGIN:DAYLIGHT
TZOFFSETFROM:-0500
TZOFFSETTO:-0400
TZNAME:EDT
DTSTART:20240310T070000
END:DAYLIGHT
BEGIN:STANDARD
TZOFFSETFROM:-0400
TZOFFSETTO:-0500
TZNAME:EST
DTSTART:20241103T060000
END:STANDARD
BEGIN:DAYLIGHT
TZOFFSETFROM:-0500
TZOFFSETTO:-0400
TZNAME:EDT
DTSTART:20250309T070000
END:DAYLIGHT
BEGIN:STANDARD
TZOFFSETFROM:-0400
TZOFFSETTO:-0500
TZNAME:EST
DTSTART:20251102T060000
END:STANDARD
BEGIN:DAYLIGHT
TZOFFSETFROM:-0500
TZOFFSETTO:-0400
TZNAME:EDT
DTSTART:20260308T070000
END:DAYLIGHT
BEGIN:STANDARD
TZOFFSETFROM:-0400
TZOFFSETTO:-0500
TZNAME:EST
DTSTART:20261101T060000
END:STANDARD
END:VTIMEZONE
BEGIN:VEVENT
DTSTART;TZID=America/Toronto:20250906T193000
DTEND;TZID=America/Toronto:20250906T210000
DTSTAMP:20260420T041559
CREATED:20250829T163332Z
LAST-MODIFIED:20250829T163746Z
UID:10020026-1757187000-1757192400@oselepaysdesbleuets.com
SUMMARY:Culture - Les semeurs de contes
DESCRIPTION:La Grande Virée des Semeurs de contes sera de passage à Vauvert le 6 septembre prochain. La Virée c’est Sept conteurs et conteuses professionnel.le.s marchent de ville en village pour raconter des histoires en échange du gîte et du couvert. En 2024 les Semeurs de conte ont marché de Sainte-Monique à Roberval\, cette année leurs pas les mèneront de Péribonka à Mashteuiatsh. Chaque soir\, ils offrent un spectacle différent pour les habitants des municipalités visitées. Le 6 septembre\, le spectacle à lieu à 19h30 sous le pavillon du camping Vauvert et l’entrée est à contribution volontaire.\n\nN’oubliez pas d’apporter vos chaises!\n\nLes Semeurs de conte c’est:\n️-Plus de 2 millions de pas le long des routes du Québec.-Plus de 1600 km parcourus pour célébrer l’amour du conte.-L’hospitalité et la générosité de plus d’une centaine de municipalités visitées depuis 2011.-Des milliers de contes partagés avec les gens rencontrés le long du chemin.
URL:https://oselepaysdesbleuets.com/evenement/culture-les-semeurs-de-contes-2/
LOCATION:Camping Vauvert-sur-le-Lac-Saint-Jean\, 842 Route de Vauvert\, Dolbeau-Mistassini\, Québec\, G8L5W3\, Canada
CATEGORIES:Arts et culture
ATTACH;FMTTYPE=image/jpeg:https://oselepaysdesbleuets.com/wp-content/uploads/2025/08/Les-semeurs-de-contes-vauvert.jpg
ORGANIZER;CN="Tourisme Dolbeau-Mistassini":MAILTO:communications@tourismedolbeaumistassini.ca
END:VEVENT
BEGIN:VEVENT
DTSTART;TZID=America/Toronto:20250820T200000
DTEND;TZID=America/Toronto:20250820T213000
DTSTAMP:20260420T041559
CREATED:20250619T194827Z
LAST-MODIFIED:20250619T194827Z
UID:10019871-1755720000-1755725400@oselepaysdesbleuets.com
SUMMARY:Un air d'été - Le trio du haut du lac
DESCRIPTION:Le Trio du Haut du Lac vous fait revivre les grands succès pop et folk\, d’hier à aujourd’hui\, en français comme en anglais. Avec chaleur et énergie\, ils proposent une ambiance conviviale idéale pour les belles soirées d’été. Une invitation à chanter\, danser et partager\, en toute simplicité.
URL:https://oselepaysdesbleuets.com/evenement/un-air-dete-le-trio-du-haut-du-lac/
LOCATION:Centre Tourisique Vauvert-sur-le-Lac-Saint-Jean\, 472 Rte de Vauvert\, Dolbeau-Mistassini\, Québec\, G8L 5W3\, Canada
CATEGORIES:Activités familiales,Activités gratuites,Concerts,Loisirs et culture
ORGANIZER;CN="Tourisme Dolbeau-Mistassini":MAILTO:communications@tourismedolbeaumistassini.ca
END:VEVENT
BEGIN:VEVENT
DTSTART;TZID=America/Toronto:20250819T200000
DTEND;TZID=America/Toronto:20250819T220000
DTSTAMP:20260420T041559
CREATED:20250617T175845Z
LAST-MODIFIED:20250617T175845Z
UID:10019630-1755633600-1755640800@oselepaysdesbleuets.com
SUMMARY:La route des légendes : Les survivalistes
DESCRIPTION:À Dolbeau-Mistassini\, 25 ans plus tard\, c’est le retour de Jimmy Doucet au Centre touristique Vauvert. « Les survivalistes » vous plonge dans l’univers de la survie\, du cannage et des légendes les plus dangereuses du nord du Lac-Saint-Jean. Assistez au séminaire de l’équipe d’Alain qui vous enseignera tout ce qu’il faut savoir pour rester en vie en cas de feu\, d’inondation ou de rencontres avec le monstre du Lac-Saint-Jean.\n\n\nMais un espion se trouve dans la salle et diffuse les meilleurs moments en ligne. L’équipe d’Alain doit rapidement trouver de qui il s’agit.\n\n\n\nÉQUIPE\nTexte : Jimmy Doucet\nMise en scène : Hubert Bolduc\nScénographie : Nancy Gagnon\nDistribution : Pierre-Yves Bédard\, Hubert Bolduc\, Alexandre Boudreau et Julianna Guay\n\n\n\n\n\nBillets en vente en ligne et sur place\n\n\n\nInformations et réservations\nTourisme Dolbeau-Mistassini\n418-276-6625 #2505\nhttps://lepointdevente.com/billets/lessurvivalistes
URL:https://oselepaysdesbleuets.com/evenement/la-route-des-legendes-les-survivalistes/2025-08-19/
LOCATION:Centre Tourisique Vauvert-sur-le-Lac-Saint-Jean\, 472 Rte de Vauvert\, Dolbeau-Mistassini\, Québec\, G8L 5W3\, Canada
CATEGORIES:Activités familiales,Arts et culture,Loisirs et culture,Spectacles et festivals
ATTACH;FMTTYPE=image/png:https://oselepaysdesbleuets.com/wp-content/uploads/2025/06/Les-survivalistes.png
ORGANIZER;CN="Tourisme Dolbeau-Mistassini":MAILTO:communications@tourismedolbeaumistassini.ca
END:VEVENT
BEGIN:VEVENT
DTSTART;TZID=America/Toronto:20250818T200000
DTEND;TZID=America/Toronto:20250818T220000
DTSTAMP:20260420T041559
CREATED:20250617T175845Z
LAST-MODIFIED:20250617T175845Z
UID:10019629-1755547200-1755554400@oselepaysdesbleuets.com
SUMMARY:La route des légendes : Les survivalistes
DESCRIPTION:À Dolbeau-Mistassini\, 25 ans plus tard\, c’est le retour de Jimmy Doucet au Centre touristique Vauvert. « Les survivalistes » vous plonge dans l’univers de la survie\, du cannage et des légendes les plus dangereuses du nord du Lac-Saint-Jean. Assistez au séminaire de l’équipe d’Alain qui vous enseignera tout ce qu’il faut savoir pour rester en vie en cas de feu\, d’inondation ou de rencontres avec le monstre du Lac-Saint-Jean.\n\n\nMais un espion se trouve dans la salle et diffuse les meilleurs moments en ligne. L’équipe d’Alain doit rapidement trouver de qui il s’agit.\n\n\n\nÉQUIPE\nTexte : Jimmy Doucet\nMise en scène : Hubert Bolduc\nScénographie : Nancy Gagnon\nDistribution : Pierre-Yves Bédard\, Hubert Bolduc\, Alexandre Boudreau et Julianna Guay\n\n\n\n\n\nBillets en vente en ligne et sur place\n\n\n\nInformations et réservations\nTourisme Dolbeau-Mistassini\n418-276-6625 #2505\nhttps://lepointdevente.com/billets/lessurvivalistes
URL:https://oselepaysdesbleuets.com/evenement/la-route-des-legendes-les-survivalistes/2025-08-18/
LOCATION:Centre Tourisique Vauvert-sur-le-Lac-Saint-Jean\, 472 Rte de Vauvert\, Dolbeau-Mistassini\, Québec\, G8L 5W3\, Canada
CATEGORIES:Activités familiales,Arts et culture,Loisirs et culture,Spectacles et festivals
ATTACH;FMTTYPE=image/png:https://oselepaysdesbleuets.com/wp-content/uploads/2025/06/Les-survivalistes.png
ORGANIZER;CN="Tourisme Dolbeau-Mistassini":MAILTO:communications@tourismedolbeaumistassini.ca
END:VEVENT
BEGIN:VEVENT
DTSTART;TZID=America/Toronto:20250817T200000
DTEND;TZID=America/Toronto:20250817T220000
DTSTAMP:20260420T041559
CREATED:20250617T175845Z
LAST-MODIFIED:20250617T175845Z
UID:10019628-1755460800-1755468000@oselepaysdesbleuets.com
SUMMARY:La route des légendes : Les survivalistes
DESCRIPTION:À Dolbeau-Mistassini\, 25 ans plus tard\, c’est le retour de Jimmy Doucet au Centre touristique Vauvert. « Les survivalistes » vous plonge dans l’univers de la survie\, du cannage et des légendes les plus dangereuses du nord du Lac-Saint-Jean. Assistez au séminaire de l’équipe d’Alain qui vous enseignera tout ce qu’il faut savoir pour rester en vie en cas de feu\, d’inondation ou de rencontres avec le monstre du Lac-Saint-Jean.\n\n\nMais un espion se trouve dans la salle et diffuse les meilleurs moments en ligne. L’équipe d’Alain doit rapidement trouver de qui il s’agit.\n\n\n\nÉQUIPE\nTexte : Jimmy Doucet\nMise en scène : Hubert Bolduc\nScénographie : Nancy Gagnon\nDistribution : Pierre-Yves Bédard\, Hubert Bolduc\, Alexandre Boudreau et Julianna Guay\n\n\n\n\n\nBillets en vente en ligne et sur place\n\n\n\nInformations et réservations\nTourisme Dolbeau-Mistassini\n418-276-6625 #2505\nhttps://lepointdevente.com/billets/lessurvivalistes
URL:https://oselepaysdesbleuets.com/evenement/la-route-des-legendes-les-survivalistes/2025-08-17/
LOCATION:Centre Tourisique Vauvert-sur-le-Lac-Saint-Jean\, 472 Rte de Vauvert\, Dolbeau-Mistassini\, Québec\, G8L 5W3\, Canada
CATEGORIES:Activités familiales,Arts et culture,Loisirs et culture,Spectacles et festivals
ATTACH;FMTTYPE=image/png:https://oselepaysdesbleuets.com/wp-content/uploads/2025/06/Les-survivalistes.png
ORGANIZER;CN="Tourisme Dolbeau-Mistassini":MAILTO:communications@tourismedolbeaumistassini.ca
END:VEVENT
BEGIN:VEVENT
DTSTART;TZID=America/Toronto:20250812T200000
DTEND;TZID=America/Toronto:20250812T220000
DTSTAMP:20260420T041559
CREATED:20250617T175845Z
LAST-MODIFIED:20250617T175845Z
UID:10019627-1755028800-1755036000@oselepaysdesbleuets.com
SUMMARY:La route des légendes : Les survivalistes
DESCRIPTION:À Dolbeau-Mistassini\, 25 ans plus tard\, c’est le retour de Jimmy Doucet au Centre touristique Vauvert. « Les survivalistes » vous plonge dans l’univers de la survie\, du cannage et des légendes les plus dangereuses du nord du Lac-Saint-Jean. Assistez au séminaire de l’équipe d’Alain qui vous enseignera tout ce qu’il faut savoir pour rester en vie en cas de feu\, d’inondation ou de rencontres avec le monstre du Lac-Saint-Jean.\n\n\nMais un espion se trouve dans la salle et diffuse les meilleurs moments en ligne. L’équipe d’Alain doit rapidement trouver de qui il s’agit.\n\n\n\nÉQUIPE\nTexte : Jimmy Doucet\nMise en scène : Hubert Bolduc\nScénographie : Nancy Gagnon\nDistribution : Pierre-Yves Bédard\, Hubert Bolduc\, Alexandre Boudreau et Julianna Guay\n\n\n\n\n\nBillets en vente en ligne et sur place\n\n\n\nInformations et réservations\nTourisme Dolbeau-Mistassini\n418-276-6625 #2505\nhttps://lepointdevente.com/billets/lessurvivalistes
URL:https://oselepaysdesbleuets.com/evenement/la-route-des-legendes-les-survivalistes/2025-08-12/
LOCATION:Centre Tourisique Vauvert-sur-le-Lac-Saint-Jean\, 472 Rte de Vauvert\, Dolbeau-Mistassini\, Québec\, G8L 5W3\, Canada
CATEGORIES:Activités familiales,Arts et culture,Loisirs et culture,Spectacles et festivals
ATTACH;FMTTYPE=image/png:https://oselepaysdesbleuets.com/wp-content/uploads/2025/06/Les-survivalistes.png
ORGANIZER;CN="Tourisme Dolbeau-Mistassini":MAILTO:communications@tourismedolbeaumistassini.ca
END:VEVENT
BEGIN:VEVENT
DTSTART;TZID=America/Toronto:20250806T200000
DTEND;TZID=America/Toronto:20250806T213000
DTSTAMP:20260420T041559
CREATED:20250619T194450Z
LAST-MODIFIED:20250619T194450Z
UID:10019869-1754510400-1754515800@oselepaysdesbleuets.com
SUMMARY:Un air d'été - Vicky Trudel et Cie
DESCRIPTION:Vicky Trudel et ses complices vous invitent à une soirée musicale empreinte de nostalgie et de charme. Ce quatuor – deux musiciens et deux chanteuses – revisite des chansons intemporelles qui ont marqué les générations. Une ambiance douce et élégante\, entre détente\, souvenirs et découvertes\, pour un moment musical chaleureux.
URL:https://oselepaysdesbleuets.com/evenement/un-air-dete-vicky-trudel-et-cie/
LOCATION:Centre Tourisique Vauvert-sur-le-Lac-Saint-Jean\, 472 Rte de Vauvert\, Dolbeau-Mistassini\, Québec\, G8L 5W3\, Canada
CATEGORIES:Activités familiales,Activités gratuites,Arts et culture,Concerts,Loisirs et culture
ORGANIZER;CN="Tourisme Dolbeau-Mistassini":MAILTO:communications@tourismedolbeaumistassini.ca
END:VEVENT
BEGIN:VEVENT
DTSTART;TZID=America/Toronto:20250805T200000
DTEND;TZID=America/Toronto:20250805T220000
DTSTAMP:20260420T041559
CREATED:20250617T175845Z
LAST-MODIFIED:20250617T175845Z
UID:10019626-1754424000-1754431200@oselepaysdesbleuets.com
SUMMARY:La route des légendes : Les survivalistes
DESCRIPTION:À Dolbeau-Mistassini\, 25 ans plus tard\, c’est le retour de Jimmy Doucet au Centre touristique Vauvert. « Les survivalistes » vous plonge dans l’univers de la survie\, du cannage et des légendes les plus dangereuses du nord du Lac-Saint-Jean. Assistez au séminaire de l’équipe d’Alain qui vous enseignera tout ce qu’il faut savoir pour rester en vie en cas de feu\, d’inondation ou de rencontres avec le monstre du Lac-Saint-Jean.\n\n\nMais un espion se trouve dans la salle et diffuse les meilleurs moments en ligne. L’équipe d’Alain doit rapidement trouver de qui il s’agit.\n\n\n\nÉQUIPE\nTexte : Jimmy Doucet\nMise en scène : Hubert Bolduc\nScénographie : Nancy Gagnon\nDistribution : Pierre-Yves Bédard\, Hubert Bolduc\, Alexandre Boudreau et Julianna Guay\n\n\n\n\n\nBillets en vente en ligne et sur place\n\n\n\nInformations et réservations\nTourisme Dolbeau-Mistassini\n418-276-6625 #2505\nhttps://lepointdevente.com/billets/lessurvivalistes
URL:https://oselepaysdesbleuets.com/evenement/la-route-des-legendes-les-survivalistes/2025-08-05/
LOCATION:Centre Tourisique Vauvert-sur-le-Lac-Saint-Jean\, 472 Rte de Vauvert\, Dolbeau-Mistassini\, Québec\, G8L 5W3\, Canada
CATEGORIES:Activités familiales,Arts et culture,Loisirs et culture,Spectacles et festivals
ATTACH;FMTTYPE=image/png:https://oselepaysdesbleuets.com/wp-content/uploads/2025/06/Les-survivalistes.png
ORGANIZER;CN="Tourisme Dolbeau-Mistassini":MAILTO:communications@tourismedolbeaumistassini.ca
END:VEVENT
BEGIN:VEVENT
DTSTART;TZID=America/Toronto:20250730T200000
DTEND;TZID=America/Toronto:20250730T213000
DTSTAMP:20260420T041559
CREATED:20250619T194258Z
LAST-MODIFIED:20250619T194258Z
UID:10019868-1753905600-1753911000@oselepaysdesbleuets.com
SUMMARY:Un air d'été - Les Gabiers D'Aquilon
DESCRIPTION:Avec leurs chants marins et leur répertoire traditionnel\, Les Gabiers d’Aquilon vous\nproposent un voyage dans le temps et sur les mers. Porté par la puissance des voix et la richesse des arrangements\, ce spectacle authentique fait revivre l’âme des équipages d’antan. Une soirée unique\, entre musique\, histoire et émotion.
URL:https://oselepaysdesbleuets.com/evenement/un-air-dete-les-gabiers-daquilon/
LOCATION:Centre Tourisique Vauvert-sur-le-Lac-Saint-Jean\, 472 Rte de Vauvert\, Dolbeau-Mistassini\, Québec\, G8L 5W3\, Canada
CATEGORIES:Activités familiales,Activités gratuites,Arts et culture,Concerts,Loisirs et culture
ORGANIZER;CN="Tourisme Dolbeau-Mistassini":MAILTO:communications@tourismedolbeaumistassini.ca
END:VEVENT
BEGIN:VEVENT
DTSTART;TZID=America/Toronto:20250729T200000
DTEND;TZID=America/Toronto:20250729T220000
DTSTAMP:20260420T041559
CREATED:20250617T175845Z
LAST-MODIFIED:20250617T175845Z
UID:10019625-1753819200-1753826400@oselepaysdesbleuets.com
SUMMARY:La route des légendes : Les survivalistes
DESCRIPTION:À Dolbeau-Mistassini\, 25 ans plus tard\, c’est le retour de Jimmy Doucet au Centre touristique Vauvert. « Les survivalistes » vous plonge dans l’univers de la survie\, du cannage et des légendes les plus dangereuses du nord du Lac-Saint-Jean. Assistez au séminaire de l’équipe d’Alain qui vous enseignera tout ce qu’il faut savoir pour rester en vie en cas de feu\, d’inondation ou de rencontres avec le monstre du Lac-Saint-Jean.\n\n\nMais un espion se trouve dans la salle et diffuse les meilleurs moments en ligne. L’équipe d’Alain doit rapidement trouver de qui il s’agit.\n\n\n\nÉQUIPE\nTexte : Jimmy Doucet\nMise en scène : Hubert Bolduc\nScénographie : Nancy Gagnon\nDistribution : Pierre-Yves Bédard\, Hubert Bolduc\, Alexandre Boudreau et Julianna Guay\n\n\n\n\n\nBillets en vente en ligne et sur place\n\n\n\nInformations et réservations\nTourisme Dolbeau-Mistassini\n418-276-6625 #2505\nhttps://lepointdevente.com/billets/lessurvivalistes
URL:https://oselepaysdesbleuets.com/evenement/la-route-des-legendes-les-survivalistes/2025-07-29/
LOCATION:Centre Tourisique Vauvert-sur-le-Lac-Saint-Jean\, 472 Rte de Vauvert\, Dolbeau-Mistassini\, Québec\, G8L 5W3\, Canada
CATEGORIES:Activités familiales,Arts et culture,Loisirs et culture,Spectacles et festivals
ATTACH;FMTTYPE=image/png:https://oselepaysdesbleuets.com/wp-content/uploads/2025/06/Les-survivalistes.png
ORGANIZER;CN="Tourisme Dolbeau-Mistassini":MAILTO:communications@tourismedolbeaumistassini.ca
END:VEVENT
BEGIN:VEVENT
DTSTART;TZID=America/Toronto:20250723T200000
DTEND;TZID=America/Toronto:20250723T213000
DTSTAMP:20260420T041559
CREATED:20250619T194122Z
LAST-MODIFIED:20250619T194122Z
UID:10019867-1753300800-1753306200@oselepaysdesbleuets.com
SUMMARY:Un air d'été - Minuit phosphène
DESCRIPTION:Minuit Phosphène est un projet dream pop originaire du Saguenay. Leur musique planante combine synth pop et new wave aux accents shoegaze\, tissée autour de guitares aériennes\, de voix éthérées et de synthétiseurs envoûtants. Une ambiance planante et immersive\, parfaite pour une soirée d’été.
URL:https://oselepaysdesbleuets.com/evenement/un-air-dete-minuit-phosphene-2/
LOCATION:Centre Tourisique Vauvert-sur-le-Lac-Saint-Jean\, 472 Rte de Vauvert\, Dolbeau-Mistassini\, Québec\, G8L 5W3\, Canada
CATEGORIES:Activités familiales,Activités gratuites,Concerts,Loisirs et culture
ORGANIZER;CN="Tourisme Dolbeau-Mistassini":MAILTO:communications@tourismedolbeaumistassini.ca
END:VEVENT
BEGIN:VEVENT
DTSTART;TZID=America/Toronto:20250722T200000
DTEND;TZID=America/Toronto:20250722T220000
DTSTAMP:20260420T041559
CREATED:20250617T175845Z
LAST-MODIFIED:20250617T175845Z
UID:10019624-1753214400-1753221600@oselepaysdesbleuets.com
SUMMARY:La route des légendes : Les survivalistes
DESCRIPTION:À Dolbeau-Mistassini\, 25 ans plus tard\, c’est le retour de Jimmy Doucet au Centre touristique Vauvert. « Les survivalistes » vous plonge dans l’univers de la survie\, du cannage et des légendes les plus dangereuses du nord du Lac-Saint-Jean. Assistez au séminaire de l’équipe d’Alain qui vous enseignera tout ce qu’il faut savoir pour rester en vie en cas de feu\, d’inondation ou de rencontres avec le monstre du Lac-Saint-Jean.\n\n\nMais un espion se trouve dans la salle et diffuse les meilleurs moments en ligne. L’équipe d’Alain doit rapidement trouver de qui il s’agit.\n\n\n\nÉQUIPE\nTexte : Jimmy Doucet\nMise en scène : Hubert Bolduc\nScénographie : Nancy Gagnon\nDistribution : Pierre-Yves Bédard\, Hubert Bolduc\, Alexandre Boudreau et Julianna Guay\n\n\n\n\n\nBillets en vente en ligne et sur place\n\n\n\nInformations et réservations\nTourisme Dolbeau-Mistassini\n418-276-6625 #2505\nhttps://lepointdevente.com/billets/lessurvivalistes
URL:https://oselepaysdesbleuets.com/evenement/la-route-des-legendes-les-survivalistes/2025-07-22/
LOCATION:Centre Tourisique Vauvert-sur-le-Lac-Saint-Jean\, 472 Rte de Vauvert\, Dolbeau-Mistassini\, Québec\, G8L 5W3\, Canada
CATEGORIES:Activités familiales,Arts et culture,Loisirs et culture,Spectacles et festivals
ATTACH;FMTTYPE=image/png:https://oselepaysdesbleuets.com/wp-content/uploads/2025/06/Les-survivalistes.png
ORGANIZER;CN="Tourisme Dolbeau-Mistassini":MAILTO:communications@tourismedolbeaumistassini.ca
END:VEVENT
BEGIN:VEVENT
DTSTART;TZID=America/Toronto:20250716T200000
DTEND;TZID=America/Toronto:20250716T213000
DTSTAMP:20260420T041559
CREATED:20250619T193945Z
LAST-MODIFIED:20250619T193945Z
UID:10019866-1752696000-1752701400@oselepaysdesbleuets.com
SUMMARY:Un air d'été - Louis Bouchard
DESCRIPTION:Louis Bouchard vous ouvre les portes de son univers intense\, où poésie\, amour et chaos s’entremêlent. Porté par sa guitare fougueuse et la contrebasse de Jérémie Brassard\, son fidèle complice\, il livre des chansons puissantes\, des textes et une poésie endiablée. Chaque morceau est une fenêtre sur le chaos qui entretient ses idées\, sur l’amour qui lui sert de fondation\, et sur la musique qui lui permet toujours d’avancer.
URL:https://oselepaysdesbleuets.com/evenement/un-air-dete-louis-bouchard/
LOCATION:Centre Tourisique Vauvert-sur-le-Lac-Saint-Jean\, 472 Rte de Vauvert\, Dolbeau-Mistassini\, Québec\, G8L 5W3\, Canada
CATEGORIES:Activités familiales,Activités gratuites,Concerts,Loisirs et culture
END:VEVENT
BEGIN:VEVENT
DTSTART;TZID=America/Toronto:20250715T200000
DTEND;TZID=America/Toronto:20250715T220000
DTSTAMP:20260420T041559
CREATED:20250617T175845Z
LAST-MODIFIED:20250617T175845Z
UID:10019623-1752609600-1752616800@oselepaysdesbleuets.com
SUMMARY:La route des légendes : Les survivalistes
DESCRIPTION:À Dolbeau-Mistassini\, 25 ans plus tard\, c’est le retour de Jimmy Doucet au Centre touristique Vauvert. « Les survivalistes » vous plonge dans l’univers de la survie\, du cannage et des légendes les plus dangereuses du nord du Lac-Saint-Jean. Assistez au séminaire de l’équipe d’Alain qui vous enseignera tout ce qu’il faut savoir pour rester en vie en cas de feu\, d’inondation ou de rencontres avec le monstre du Lac-Saint-Jean.\n\n\nMais un espion se trouve dans la salle et diffuse les meilleurs moments en ligne. L’équipe d’Alain doit rapidement trouver de qui il s’agit.\n\n\n\nÉQUIPE\nTexte : Jimmy Doucet\nMise en scène : Hubert Bolduc\nScénographie : Nancy Gagnon\nDistribution : Pierre-Yves Bédard\, Hubert Bolduc\, Alexandre Boudreau et Julianna Guay\n\n\n\n\n\nBillets en vente en ligne et sur place\n\n\n\nInformations et réservations\nTourisme Dolbeau-Mistassini\n418-276-6625 #2505\nhttps://lepointdevente.com/billets/lessurvivalistes
URL:https://oselepaysdesbleuets.com/evenement/la-route-des-legendes-les-survivalistes/2025-07-15/
LOCATION:Centre Tourisique Vauvert-sur-le-Lac-Saint-Jean\, 472 Rte de Vauvert\, Dolbeau-Mistassini\, Québec\, G8L 5W3\, Canada
CATEGORIES:Activités familiales,Arts et culture,Loisirs et culture,Spectacles et festivals
ATTACH;FMTTYPE=image/png:https://oselepaysdesbleuets.com/wp-content/uploads/2025/06/Les-survivalistes.png
ORGANIZER;CN="Tourisme Dolbeau-Mistassini":MAILTO:communications@tourismedolbeaumistassini.ca
END:VEVENT
BEGIN:VEVENT
DTSTART;TZID=America/Toronto:20250708T200000
DTEND;TZID=America/Toronto:20250708T220000
DTSTAMP:20260420T041559
CREATED:20250617T175845Z
LAST-MODIFIED:20250617T175845Z
UID:10019622-1752004800-1752012000@oselepaysdesbleuets.com
SUMMARY:La route des légendes : Les survivalistes
DESCRIPTION:À Dolbeau-Mistassini\, 25 ans plus tard\, c’est le retour de Jimmy Doucet au Centre touristique Vauvert. « Les survivalistes » vous plonge dans l’univers de la survie\, du cannage et des légendes les plus dangereuses du nord du Lac-Saint-Jean. Assistez au séminaire de l’équipe d’Alain qui vous enseignera tout ce qu’il faut savoir pour rester en vie en cas de feu\, d’inondation ou de rencontres avec le monstre du Lac-Saint-Jean.\n\n\nMais un espion se trouve dans la salle et diffuse les meilleurs moments en ligne. L’équipe d’Alain doit rapidement trouver de qui il s’agit.\n\n\n\nÉQUIPE\nTexte : Jimmy Doucet\nMise en scène : Hubert Bolduc\nScénographie : Nancy Gagnon\nDistribution : Pierre-Yves Bédard\, Hubert Bolduc\, Alexandre Boudreau et Julianna Guay\n\n\n\n\n\nBillets en vente en ligne et sur place\n\n\n\nInformations et réservations\nTourisme Dolbeau-Mistassini\n418-276-6625 #2505\nhttps://lepointdevente.com/billets/lessurvivalistes
URL:https://oselepaysdesbleuets.com/evenement/la-route-des-legendes-les-survivalistes/2025-07-08/
LOCATION:Centre Tourisique Vauvert-sur-le-Lac-Saint-Jean\, 472 Rte de Vauvert\, Dolbeau-Mistassini\, Québec\, G8L 5W3\, Canada
CATEGORIES:Activités familiales,Arts et culture,Loisirs et culture,Spectacles et festivals
ATTACH;FMTTYPE=image/png:https://oselepaysdesbleuets.com/wp-content/uploads/2025/06/Les-survivalistes.png
ORGANIZER;CN="Tourisme Dolbeau-Mistassini":MAILTO:communications@tourismedolbeaumistassini.ca
END:VEVENT
BEGIN:VEVENT
DTSTART;TZID=America/Toronto:20250701T200000
DTEND;TZID=America/Toronto:20250701T220000
DTSTAMP:20260420T041559
CREATED:20250617T175845Z
LAST-MODIFIED:20250617T175845Z
UID:10019621-1751400000-1751407200@oselepaysdesbleuets.com
SUMMARY:La route des légendes : Les survivalistes
DESCRIPTION:À Dolbeau-Mistassini\, 25 ans plus tard\, c’est le retour de Jimmy Doucet au Centre touristique Vauvert. « Les survivalistes » vous plonge dans l’univers de la survie\, du cannage et des légendes les plus dangereuses du nord du Lac-Saint-Jean. Assistez au séminaire de l’équipe d’Alain qui vous enseignera tout ce qu’il faut savoir pour rester en vie en cas de feu\, d’inondation ou de rencontres avec le monstre du Lac-Saint-Jean.\n\n\nMais un espion se trouve dans la salle et diffuse les meilleurs moments en ligne. L’équipe d’Alain doit rapidement trouver de qui il s’agit.\n\n\n\nÉQUIPE\nTexte : Jimmy Doucet\nMise en scène : Hubert Bolduc\nScénographie : Nancy Gagnon\nDistribution : Pierre-Yves Bédard\, Hubert Bolduc\, Alexandre Boudreau et Julianna Guay\n\n\n\n\n\nBillets en vente en ligne et sur place\n\n\n\nInformations et réservations\nTourisme Dolbeau-Mistassini\n418-276-6625 #2505\nhttps://lepointdevente.com/billets/lessurvivalistes
URL:https://oselepaysdesbleuets.com/evenement/la-route-des-legendes-les-survivalistes/2025-07-01/
LOCATION:Centre Tourisique Vauvert-sur-le-Lac-Saint-Jean\, 472 Rte de Vauvert\, Dolbeau-Mistassini\, Québec\, G8L 5W3\, Canada
CATEGORIES:Activités familiales,Arts et culture,Loisirs et culture,Spectacles et festivals
ATTACH;FMTTYPE=image/png:https://oselepaysdesbleuets.com/wp-content/uploads/2025/06/Les-survivalistes.png
ORGANIZER;CN="Tourisme Dolbeau-Mistassini":MAILTO:communications@tourismedolbeaumistassini.ca
END:VEVENT
END:VCALENDAR